BEGIN:VCALENDAR
VERSION:2.0
PRODID:-//Fundacja Fonis - ECPv6.15.18//NONSGML v1.0//EN
CALSCALE:GREGORIAN
METHOD:PUBLISH
X-WR-CALNAME:Fundacja Fonis
X-ORIGINAL-URL:https://fonis.pl
X-WR-CALDESC:Wydarzenia dla Fundacja Fonis
REFRESH-INTERVAL;VALUE=DURATION:PT1H
X-Robots-Tag:noindex
X-PUBLISHED-TTL:PT1H
BEGIN:VTIMEZONE
TZID:UTC
BEGIN:STANDARD
TZOFFSETFROM:+0000
TZOFFSETTO:+0000
TZNAME:UTC
DTSTART:20200101T000000
END:STANDARD
END:VTIMEZONE
BEGIN:VEVENT
DTSTART;TZID=UTC:20211126T183000
DTEND;TZID=UTC:20211126T213000
DTSTAMP:20260424T020555
CREATED:20211022T100830Z
LAST-MODIFIED:20211022T101821Z
UID:116576-1637951400-1637962200@fonis.pl
SUMMARY:Siła męskiej wiary - z tłumaczeniem na PJM
DESCRIPTION:Siła męskiej wiary to tytuł spotkania\, które odbędzie się w listopadzie we Wrocławiu. Na spotkanie zaprasza wspólnota Mężczyzn Świętego Józefa\, która – podobnie jak my – spotyka się „pod 4”. Fundacja FONIS podjęła współpracę w organizacji wydarzenia i zapewni tłumaczenie na język migowy. \nSpotkanie „Siła męskiej wiary” zaplanowano na piątek 26 listopada 2021 roku. Rozpocznie się ono o godzinie 18.30 w kościele świętych Apostołów Piotra i Pawła we Wrocławiu przy ulicy Katedralnej 4. Zakończy się natomiast około godziny 21.30. W programie przewidziana jest adoracja i okazja do spowiedzi\, Msza święta\, konferencja oraz przerwa kawowa. Gościem specjalnym listopadowego spotkania będzie Wojciech Bartnik – bokser i trener bokserski\, brązowy medalista z Igrzysk Olimpijskich w Barcelonie w wadze półciężkiej. To on właśnie wygłosi konferencję i podzieli się doświadczeniem wiary. \nUdział w spotkaniu jest bezpłatny\, jednak obowiązują wcześniejsze zapisy. Wszystkich mężczyzn\, chcących uczestniczyć w wydarzeniu\, prosimy o kontakt z księdzem Tomaszem Filinowiczem. Ponadto\, w związku z trwającą epidemią koronawirusa\, uczestnicy zobowiązują się do przestrzegania zasad bezpieczeństwa takich jak korzystanie z maseczki\, z dezynfekcji rąk\, a także zachowywanie bezpiecznej odległości. \nZachęcamy więc\, abyście planując koniec listopada uwzględnili miejsce nie tylko na piątkowe spotkanie wolontariuszy\, ale również na spotkanie we wspólnocie Mężczyzn Świętego Józefa. Jeśli będą chętni\, możemy po spotkaniu wolontariuszy zaplanować kolację\, po której pójdziemy do kościoła „pod 4”. Dajcie znać\, jak Wam pasuje. Serdecznie zapraszamy! \n 
URL:https://fonis.pl/wydarzenia/sila-meskiej-wiary-z-tlumaczeniem-na-pjm/
LOCATION:Centrum Duszpasterskie Archidiecezji Wrocławskiej\, ul. Katedralna 4\, Wrocław\, Dolnośląskie\, 50-328\, Polska
ATTACH;FMTTYPE=image/jpeg:https://fonis.pl/wp-content/uploads/2021/10/Sila-meskiej-wiary.jpg
END:VEVENT
END:VCALENDAR