BEGIN:VCALENDAR
VERSION:2.0
PRODID:-//Fundacja Fonis - ECPv6.15.18//NONSGML v1.0//EN
CALSCALE:GREGORIAN
METHOD:PUBLISH
X-ORIGINAL-URL:https://fonis.pl
X-WR-CALDESC:Wydarzenia dla Fundacja Fonis
REFRESH-INTERVAL;VALUE=DURATION:PT1H
X-Robots-Tag:noindex
X-PUBLISHED-TTL:PT1H
BEGIN:VTIMEZONE
TZID:UTC
BEGIN:STANDARD
TZOFFSETFROM:+0000
TZOFFSETTO:+0000
TZNAME:UTC
DTSTART:20210101T000000
END:STANDARD
END:VTIMEZONE
BEGIN:VEVENT
DTSTART;TZID=UTC:20221122T153000
DTEND;TZID=UTC:20221122T173000
DTSTAMP:20260424T051207
CREATED:20221012T104804Z
LAST-MODIFIED:20221117T080133Z
UID:191767-1669131000-1669138200@fonis.pl
SUMMARY:Warsztaty ogrodniczo-florystyczne dla seniorów
DESCRIPTION:Listopadową propozycją dla niesłyszących i słabosłyszących członków Klubu Seniora „Integracja” są warsztaty ogrodniczo-florystyczne. Zajęcia warsztatowe odbędą się we wtorek 22 listopada 2022 roku. Tym razem seniorzy pracować będą w dwóch grupach warsztatowych. Warsztaty dla pierwszej grupy rozpoczną się o godz. 15.30\, natomiast druga grupa pracować będzie od godz. 16.30. Oba zajęcia warsztatowe odbędą się w sali w Centrum Duszpasterskim Archidiecezji Wrocławskiej przy ul. Katedralnej 4\, czyli „pod 4”. Warsztaty potrwają około godziny dla każdej grupy. W czasie spotkania nasi niesłyszący i słabosłyszący seniorzy w ramach krótkiej części wykładowej poznają najpiękniejsze ogrody świata. Ponadto w części praktycznej sami stworzą niepowtarzalne dekoracje adwentowo-świąteczne\, jako że czas adwentu i Bożego Narodzenia będzie już bardzo bliski. \nŁącznie w warsztatach może wziąć udział 20 osób\, dlatego ze względów organizacyjnych konieczne są zapisy u pani Elżbiety Gorgoń (tel. 502 765 302)\, która otacza opieką seniorów z naszego Klubu. Będzie również tłumaczem języka migowego w czasie zajęć warsztatowych. \nZajęcia zaś poprowadzi znana dobrze seniorom pani Ania Maciejewska-Hoza – absolwentka studiów z zakresu ogrodnictwa. A zatem Fundacja FONIS bardzo serdecznie zaprasza! \nWarsztaty ogrodniczo-florystyczne dla seniorów odbędą się w ramach realizacji zadania publicznego: „Działania na rzecz wrocławskich seniorów w latach 2022-2023 roku – Aktywny senior” współfinansowanego ze środków Gminy Wrocław (www.wroclaw.pl).
URL:https://fonis.pl/wydarzenia/warsztaty-ogrodniczo-florystyczne-dla-seniorow/
ATTACH;FMTTYPE=image/jpeg:https://fonis.pl/wp-content/uploads/2018/05/warsztaty-ogrodnicze-1.jpg
END:VEVENT
END:VCALENDAR