BEGIN:VCALENDAR
VERSION:2.0
PRODID:-//Fundacja Fonis - ECPv6.15.18//NONSGML v1.0//EN
CALSCALE:GREGORIAN
METHOD:PUBLISH
X-ORIGINAL-URL:https://fonis.pl
X-WR-CALDESC:Wydarzenia dla Fundacja Fonis
REFRESH-INTERVAL;VALUE=DURATION:PT1H
X-Robots-Tag:noindex
X-PUBLISHED-TTL:PT1H
BEGIN:VTIMEZONE
TZID:UTC
BEGIN:STANDARD
TZOFFSETFROM:+0000
TZOFFSETTO:+0000
TZNAME:UTC
DTSTART:20230101T000000
END:STANDARD
END:VTIMEZONE
BEGIN:VEVENT
DTSTART;TZID=UTC:20241205T161500
DTEND;TZID=UTC:20241205T181500
DTSTAMP:20260425T024129
CREATED:20241121T164025Z
LAST-MODIFIED:20241121T164919Z
UID:193890-1733415300-1733422500@fonis.pl
SUMMARY:Warsztaty rękodzieła dla seniorów
DESCRIPTION:Warsztaty rękodzieła dla seniorów. Ostatnią propozycją zajęć warsztatowych w tym roku kalendarzowym dla seniorów są warsztaty rękodzieła. Serdecznie zapraszamy więc niesłyszących i słabosłyszących członków Klubu Seniora „Integracja” na to właśnie wydarzenie. Warsztaty odbędą się w czwartek 5 grudnia 2024 roku od godziny 16.15 do 18.15 w Centrum Duszpasterskim Archidiecezji Wrocławskiej przy ul. Katedralnej 4. A ponieważ będzie to już przedświąteczny czas\, to i tematyka będzie świąteczna 😊 \nW trakcie warsztatów seniorzy samodzielnie wykonają piękne ozdoby\, które przyozdobią ich domy na świąteczny czas Bożego Narodzenia. W czasie dwugodzinnego spotkania uczestnicy pogłębią swoją wiedzę dotyczącą wpływu człowieka na środowisko naturalne\, a także poznają ekologiczne zalety wykorzystywania naturalnych materiałów i racjonalnego nimi gospodarowania. Ponadto seniorzy będą mogli wykazać się kreatywnością. Warsztaty poprowadzi zaprzyjaźniona z nami pani Jola. Kilkukrotnie już przygotowywała dla nas ciekawe zajęcia z zakresu ekologicznego rękodzieła. Nie inaczej będzie i tym razem! \nUdział w warsztatach rękodzieła jest bezpłatny\, ale ze względów organizacyjnych obowiązują zapisy. Prowadzi je pani Elżbieta Gorgoń (tel. 502 765 302) do wtorku 3 grudnia 2024 lub do wyczerpania miejsc. Mamy ich dla Was 20\, więc nie zwlekajcie! \nWarsztaty rękodzieła dla seniorów zorganizujemy w ramach zadania publicznego „Działania na rzecz wrocławskich seniorów w 2024 roku – Aktywny senior” współfinansowanego ze środków Gminy Wrocław (www.wroclaw.pl).
URL:https://fonis.pl/wydarzenia/warsztaty-rekodziela-dla-seniorow/
ATTACH;FMTTYPE=image/jpeg:https://fonis.pl/wp-content/uploads/2024/11/warsztaty-rekodziela-dla-seniorow.jpg
END:VEVENT
END:VCALENDAR