BEGIN:VCALENDAR
VERSION:2.0
PRODID:-//Fundacja Fonis - ECPv6.15.18//NONSGML v1.0//EN
CALSCALE:GREGORIAN
METHOD:PUBLISH
X-ORIGINAL-URL:https://fonis.pl
X-WR-CALDESC:Wydarzenia dla Fundacja Fonis
REFRESH-INTERVAL;VALUE=DURATION:PT1H
X-Robots-Tag:noindex
X-PUBLISHED-TTL:PT1H
BEGIN:VTIMEZONE
TZID:UTC
BEGIN:STANDARD
TZOFFSETFROM:+0000
TZOFFSETTO:+0000
TZNAME:UTC
DTSTART:20240101T000000
END:STANDARD
END:VTIMEZONE
BEGIN:VEVENT
DTSTART;TZID=UTC:20250614T094500
DTEND;TZID=UTC:20250614T113000
DTSTAMP:20260424T032242
CREATED:20250603T163830Z
LAST-MODIFIED:20250603T163830Z
UID:194357-1749894300-1749900600@fonis.pl
SUMMARY:Wyjście seniorów na wystawę TITANIC
DESCRIPTION:Wyjście seniorów na wystawę TITANIC. W sobotę 14 czerwca 2025 r. Fundacja FONIS serdecznie zaprasza niesłyszących i słabosłyszących członków Klubu Seniora „Integracja” na wycieczkę do Instytutu Automatyki Systemów Energetycznych (obok Hali Stulecia) przy ul. Wystawowej 1 na niezwykłą wystawę. Zwiedzanie rozpoczniemy o godzinie 10.00 i potrwa ono około 1\,5 godziny. Spotkamy się natomiast w miejscu zwiedzania (hala IASE) o godzinie 9.45. \nCzerwcowa wycieczka będzie niezapomnianą podróżą w czasie. Wystawą „TITANIC: The Artifact Exhibition” prezentuje bowiem ponad 170 autentycznych artefaktów wydobytych z legendarnego wraku Titanica. Na własne oczy zobaczymy niezwykłe\, duże eksponaty\, które nigdy wcześniej nie były pokazywane w Europie. Wśród nich znajdą się gigantyczne stalowe drzwi\, przez które pasażerowie wchodzili na pokład majestatycznego statku czy stanowisko sterowania. Wśród tych bezcennych skarbów na szczególną uwagę zasługuje również jedyny na świecie zachowany cherubin – figura anioła\, która zdobiła drewniane schody Titanica. To niepowtarzalna okazja\, aby zobaczyć z bliska niesamowite artefakty oraz poczuć dreszczyk emocji związany z ich niezwykłą historią. Tak o wystawie piszą jej organizatorzy. Sama zaś ekspozycja przyjechała do Polski prosto z Muzeum Nauki w Pittsburghu (USA) i do tej pory zobaczyło ją już ponad 35 milionów widzów na całym świecie. Do obejrzenia wystawy zachęcamy i my! \nUdział w wyjściu jest bezpłatny\, ale ze względów organizacyjnych obowiązują zapisy\, które prowadzi p. Elżbieta Gorgoń (tel. 502 765 302). Zapisy trwają do czwartku 12 czerwca 2025. \nWyjście seniorów na wystawę TITANIC odbędzie się w ramach realizacji zadania publicznego: „Działania na rzecz wrocławskich seniorów w latach 2025-2026 – Aktywny senior” współfinansowanego ze środków Gminy Wrocław (www.wroclaw.pl).
URL:https://fonis.pl/wydarzenia/wyjscie-seniorow-na-wystawe-titanic/
ATTACH;FMTTYPE=image/jpeg:https://fonis.pl/wp-content/uploads/2025/06/Wyjscie-seniorow-na-wystawe-TITANIC.jpg
END:VEVENT
END:VCALENDAR