BEGIN:VCALENDAR
VERSION:2.0
PRODID:-//Fundacja Fonis - ECPv6.15.18//NONSGML v1.0//EN
CALSCALE:GREGORIAN
METHOD:PUBLISH
X-ORIGINAL-URL:https://fonis.pl
X-WR-CALDESC:Wydarzenia dla Fundacja Fonis
REFRESH-INTERVAL;VALUE=DURATION:PT1H
X-Robots-Tag:noindex
X-PUBLISHED-TTL:PT1H
BEGIN:VTIMEZONE
TZID:UTC
BEGIN:STANDARD
TZOFFSETFROM:+0000
TZOFFSETTO:+0000
TZNAME:UTC
DTSTART:20170101T000000
END:STANDARD
END:VTIMEZONE
BEGIN:VEVENT
DTSTART;TZID=UTC:20211205T160000
DTEND;TZID=UTC:20211205T180000
DTSTAMP:20260424T051043
CREATED:20211115T210017Z
LAST-MODIFIED:20211202T155202Z
UID:124226-1638720000-1638727200@fonis.pl
SUMMARY:Mikołajki 2021 w Fundacji FONIS
DESCRIPTION:Aktualne informacje na temat organizacji Mikołajek 2021 znajdziecie klikając na Uwaga! Zmiana! Mikołajki 2021\nMikołajki 2021 w Fundacji FONIS. Do 6 grudnia 2021 roku pozostało już tylko kilka tygodni. Mikołajki zbliżają się więc wielkimi krokami… A ponieważ impreza mikołajkowa wpisana jest na stałe w kalendarz wydarzeń naszej fundacji\, dlatego już dziś na nią zapraszamy! \nMikołajki 2021 odbędą się w niedzielę 5 grudnia 2021 roku w godzinach od 16 do 18 w Centrum Duszpasterskim Archidiecezji Wrocławskiej przy ul. Katedralnej 4\, czyli “pod 4”. I tak jak to mamy w zwyczaju spotkanie podzielimy na dwie części. Tym razem jednak w pierwszej części spotkania nie będzie występu teatralnego. Będą natomiast zajęcia warsztatowe\, w czasie których to właśnie dzieci przygotują prezent dla św. Mikołaja. Może to będzie kolorowy łańcuch z papieru\, a może lukrowane pierniki albo migana piosenka o Mikołaju. Zobaczymy… \nOczywiście nie może zabraknąć w tym dniu prezentów dla dzieci! Te wręczy naszym milusińskim sam św. Mikołaj. Bo właśnie druga część spotkania mikołajkowego to wizyta św. Mikołaja i wzajemne obdarowywanie się. Każda grupa dzieci wręczy św. Mikołajowi przygotowany w czasie warsztatów upominek\, a w zamian za to On obdaruje każde dziecko wspaniałym prezentem. \nAby zachować zasady reżimu sanitarnego w związku z epidemią COVID-19\, dzieci będą podzielone na mniejsze grupy\, a spotkanie dla każdej grupy wiekowej odbędzie się w osobnej sali. \n  \nKto może się zapisać i jak to zrobić?\nNa Mikołajki 2021 w Fundacji FONIS mogą się zapisać dzieci niesłyszące\, słabosłyszące\, a także dzieci słyszące związane ze światem ciszy (mają niesłyszących rodziców lub rodzeństwo) w wieku od 0 do 15 roku życia. Aby zapisać dziecko na Mikołajki 2021 z Fundacją FONIS\, trzeba albo wysłać sms na nr tel. 690 502 670\, albo napisać maila na adres:  kontakt@fonis.pl. Przy zapisaniu dziecka na spotkanie mikołajkowe KONIECZNIE trzeba podać imię i nazwisko oraz wiek dziecka! Zapisy trwają do niedzieli 28 listopada 2021 roku. \nJuż dziś zapraszamy wszystkie chętne dzieci! \nNa naszym profilu fb znajdziecie zaproszenie w Polskim Języku Migowym.
URL:https://fonis.pl/wydarzenia/mikolajki-2021-w-fundacji-fonis/
LOCATION:Centrum Duszpasterskie Archidiecezji Wrocławskiej\, ul. Katedralna 4\, Wrocław\, Dolnośląskie\, 50-328\, Polska
ATTACH;FMTTYPE=image/jpeg:https://fonis.pl/wp-content/uploads/2021/11/Przechwytywanie-2.jpg
END:VEVENT
BEGIN:VEVENT
DTSTART;TZID=UTC:20191208T110000
DTEND;TZID=UTC:20191208T140000
DTSTAMP:20260424T051043
CREATED:20191116T085345Z
LAST-MODIFIED:20191201T204520Z
UID:9725-1575802800-1575813600@fonis.pl
SUMMARY:Spotkanie ze świętym Mikołajem 2019
DESCRIPTION:Spotkanie ze świętym Mikołajem 2019. Fundacja FONIS podobnie jak przed rokiem i przed dwoma laty zaprasza do wspólnego świętowania uroczystości Świętego Mikołaja. W tym roku świętować będziemy w niedzielę 8 grudnia 2019 roku. \nRozpoczniemy już o godzinie 11.00 od Mszy Świętej w Duszpasterstwie Niesłyszących Archidiecezji Wrocławskiej. Około godziny 12.00 przejdziemy „pod 4” czyli do Centrum Duszpasterskiego Archidiecezji Wrocławskiej przy ul. Katedralnej 4. Tam odbędzie się druga część świętowania\, obejmująca 3 części. Najpierw wystąpią dla nas seniorzy z Klubu Seniora „Integracja”. Pod kierunkiem p. Elżbiety Gorgoń seniorzy przygotowali krótkie przedstawienie zatytułowane „Chory kotek”. Chwilę później przyjdzie Mikołaj i przyniesie prezenty dla dzieci (tych grzecznych oczywiście:) Na zakończenie zaprosimy dzieci wraz z rodzicami do spotkanie przy kawie\, herbacie i ciastku. \nMożecie zapisać swoje dzieci do 2 grudnia 2019 roku. W tym celu należy wysłać maila (kontakt@fonis.pl) lub sms (tel. 690 502 670) do naszej fundacji. W treści napiszcie imię i nazwisko dziecka oraz wiek dziecka. Dzięki temu będziemy mogli dopasować prezenty do poszczególnych dzieci. Do udziału zapraszamy nie tylko dzieci niesłyszące i słabosłyszące\, ale również słyszące dzieci niesłyszących rodziców (CODA). \nUdział w wydarzeniu jest bezpłatny dzięki wsparciu naszych partnerów: Credit Agricole Bank Polska S.A. oraz firmy Widex. \nSerdecznie zapraszamy na spotkanie ze świętym Mikołajem 2019 do Fundacji FONIS. Do zobaczenia! \nhttps://www.facebook.com/349736225363766/videos/549947809117054/ \nMikołajki 2019 – zmiana miejsca!\nW związku z ogromnym zainteresowaniem imprezą organizowaną przez Fundację FONIS z okazji św. Mikołaja zmuszeni jesteśmy zmodyfikować pierwotny plan. Ponieważ na liście uczestników spotkania mikołajkowego mamy już zapisanych ponad 60 dzieci będziemy mieli kłopot\, aby zmieścić się w kaplicy Duszpasterstwa Niesłyszących. Ciasno byłoby również w sali Centrum Duszpasterstwa Archidiecezji Wrocławskiej „pod 4”\, gdzie zwykle się spotykamy. \nZapraszamy więc w najbliższą niedzielę na godzinę 11.00 do kościoła św. Krzyża. Tam będziemy uczestniczyć we Mszy świętej tłumaczonej na język migowy. Następnie razem przejdziemy do seminarium duchownego przy pl. Katedralnym 14. Tam\, w auli\, około godziny 12.00 rozpoczniemy drugą część spotkania\, obejmującą 3 części – zgodnie z wcześniejszą zapowiedzią. \nhttps://www.facebook.com/349736225363766/videos/586413105268537/
URL:https://fonis.pl/wydarzenia/spotkanie-ze-swietym-mikolajem-2019/
LOCATION:Dolnośląskie
ATTACH;FMTTYPE=image/jpeg:https://fonis.pl/wp-content/uploads/2019/11/MIKOŁAJ-FONIS-i-sponsor-do-KWADRATu.jpg
END:VEVENT
BEGIN:VEVENT
DTSTART;TZID=UTC:20181209T120000
DTEND;TZID=UTC:20181209T140000
DTSTAMP:20260424T051043
CREATED:20181026T205520Z
LAST-MODIFIED:20181107T112843Z
UID:8343-1544356800-1544364000@fonis.pl
SUMMARY:Spotkanie ze świętym Mikołajem w Fundacji FONIS
DESCRIPTION:Spotkanie ze świętym Mikołajem w Fundacji FONIS. Podobnie jak przed rokiem w niedzielę 9 grudnia podopiecznych naszej fundacji odwiedzi święty Mikołaj. Wszystkie grzeczne dzieci otrzymają prezenty:) \nWkrótce więcej informacji na ten temat. A tymczasem zapraszamy do obejrzenia relacji z ubiegłorocznego spotkania mikołajkowego: \n\n  \nŚwięty Mikołaj urodził się w Patras w Grecji ok. 270 r. Był jedynym dzieckiem zamożnych rodziców\, uproszonym ich gorącymi modłami. Od młodości wyróżniał się nie tylko pobożnością\, ale także wrażliwością na niedolę bliźnich. Po śmierci rodziców swoim znacznym majątkiem chętnie dzielił się z potrzebującymi. Miał ułatwić zamążpójście trzem córkom zubożałego szlachcica\, podrzucając im skrycie pieniądze. Wybrany na biskupa miasta Miry (obecnie Demre w południowej Turcji)\, podbił sobie serca wiernych nie tylko gorliwością pasterską\, ale także troskliwością o ich potrzeby materialne. \nPo długich latach błogosławionych rządów Mikołaj odszedł po nagrodę do Pana 6 grudnia (stało się to między rokiem 345 a 352). Jego ciało zostało pochowane ze czcią w Mirze\, gdzie przetrwało do roku 1087. Dnia 9 maja 1087 roku zostało przewiezione do włoskiego miasta Bari. 29 września 1089 roku uroczyście poświęcił jego grobowiec w bazylice wystawionej ku jego czci papież bł. Urban II. \nW XIII wieku pojawił się zwyczaj rozdawania w szkołach pod patronatem św. Mikołaja stypendiów i zapomóg. Natomiast o popularności św. Mikołaja jeszcze dzisiaj świadczy piękny zwyczaj przebierania się ludzi za św. Mikołaja i rozdawanie dzieciom prezentów. \nPostać Świętego\, mimo braku wiadomości o jego życiu\, jest jedną z najbardziej barwnych w hagiografii. Jest patronem Grecji\, Rusi\, Antwerpii\, Berlina\, Miry\, Moskwy\, Nowogrodu; bednarzy\, cukierników\, dzieci\, flisaków\, jeńców\, kupców\, marynarzy\, młynarzy\, notariuszy\, panien\, piekarzy\, pielgrzymów\, piwowarów\, podróżnych\, rybaków\, sędziów\, studentów\, więźniów\, żeglarzy. \nźródło: www.brewiarz.pl
URL:https://fonis.pl/wydarzenia/spotkanie-ze-swietym-mikolajem-w-fundacji-fonis/
LOCATION:Centrum Duszpasterskie Archidiecezji Wrocławskiej\, ul. Katedralna 4\, Wrocław\, Dolnośląskie\, 50-328\, Polska
ATTACH;FMTTYPE=image/jpeg:https://fonis.pl/wp-content/uploads/2018/04/fonis-mikolaj-2017.jpg
END:VEVENT
END:VCALENDAR