BEGIN:VCALENDAR
VERSION:2.0
PRODID:-//Fundacja Fonis - ECPv6.15.20//NONSGML v1.0//EN
CALSCALE:GREGORIAN
METHOD:PUBLISH
X-WR-CALNAME:Fundacja Fonis
X-ORIGINAL-URL:https://fonis.pl
X-WR-CALDESC:Wydarzenia dla Fundacja Fonis
REFRESH-INTERVAL;VALUE=DURATION:PT1H
X-Robots-Tag:noindex
X-PUBLISHED-TTL:PT1H
BEGIN:VTIMEZONE
TZID:UTC
BEGIN:STANDARD
TZOFFSETFROM:+0000
TZOFFSETTO:+0000
TZNAME:UTC
DTSTART:20200101T000000
END:STANDARD
END:VTIMEZONE
BEGIN:VEVENT
DTSTART;TZID=UTC:20210614T180000
DTEND;TZID=UTC:20210614T220000
DTSTAMP:20260425T192239
CREATED:20210607T145542Z
LAST-MODIFIED:20210607T145542Z
UID:70492-1623693600-1623708000@fonis.pl
SUMMARY:Z wolontariuszami na Ślężę
DESCRIPTION:Z wolontariuszami na Ślężę. Serdecznie zapraszamy wolontariuszy Fundacji FONIS na wspólny wyjazd integracyjny. Tym razem udamy się na Ślężę. Wyjazd zaplanowaliśmy na poniedziałek 14 czerwca 2021 roku. \nProgram przedstawia się następująco: o godzinie 18 spotykamy się na parkingu przy Przełęczy Tąpadła. Stamtąd żółtym szlakiem udamy się na szczyt Ślęży. Ponieważ nie należy on do bardzo wymagających\, więc mamy nadzieję\, że sprawnie pokonamy trasę w obie strony i już o godzinie 20 rozpoczniemy grillowanie. To zaś odbędzie się w Sulistrowiczkach na terenie Ośrodka Rekolekcyjnego. \nWyjazd z wolontariuszami na Ślężę będzie dobrą okazją\, aby wspólnie świętować tytuł „Wrocławskiej Wolontaryjnej Grupy Roku 2020„. Przypomnijmy\, że ten zaszczytny tytuł przyznał wolontariuszom naszej fundacji przyznali organizatorzy konkursu Wrocławskie Oblicza Wolontariatu\, zaś dyplom zwycięzcy wręczył Prezydent Wrocławia. Wyjazd będzie również dobrą okazją\, aby spotkać się na żywo (nie tylko w przestrzeni wirtualnej) w szerszym gronie. Wszak wszyscy już bardzo tęsknimy za normalnością. \nChętnych do udziału w wyjeździe zapraszamy do kontaktu z nami (tel. 690 502 670). Przy zapisach prosimy również o informację\, kto z was będzie mógł pojechać własnym samochodem i ewentualnie ile osób mógłby zabrać ze sobą. My zadbamy o prowiant\, czyli kiełbaskę\, mięso\, chleb\, keczup\, musztardę\, itp. Wy zaś zadbajcie o napoje dla siebie. \nCałość planujemy zakończyć o godzinie 22. No chyba\, że zabawa będzie przednia\, to może trochę się przedłuży:) \nA zatem do zobaczenia! Liczymy na Waszą obecność.
URL:https://fonis.pl/wydarzenia/z-wolontariuszami-na-sleze/
ATTACH;FMTTYPE=image/jpeg:https://fonis.pl/wp-content/uploads/2021/06/Sleza_-_widok_z_Wiezycy.jpg
END:VEVENT
END:VCALENDAR