BEGIN:VCALENDAR
VERSION:2.0
PRODID:-//Fundacja Fonis - ECPv6.15.18//NONSGML v1.0//EN
CALSCALE:GREGORIAN
METHOD:PUBLISH
X-ORIGINAL-URL:https://fonis.pl
X-WR-CALDESC:Wydarzenia dla Fundacja Fonis
REFRESH-INTERVAL;VALUE=DURATION:PT1H
X-Robots-Tag:noindex
X-PUBLISHED-TTL:PT1H
BEGIN:VTIMEZONE
TZID:UTC
BEGIN:STANDARD
TZOFFSETFROM:+0000
TZOFFSETTO:+0000
TZNAME:UTC
DTSTART:20230101T000000
END:STANDARD
END:VTIMEZONE
BEGIN:VEVENT
DTSTART;TZID=UTC:20241012T110000
DTEND;TZID=UTC:20241012T150000
DTSTAMP:20260424T051215
CREATED:20241007T071439Z
LAST-MODIFIED:20241007T071439Z
UID:193715-1728730800-1728745200@fonis.pl
SUMMARY:V Turniej Kręglarski Osób Niesłyszących
DESCRIPTION:V Turniej Kręglarski Osób Niesłyszących. Pszczyńskie Stowarzyszenie Niesłyszących podobnie jak przed rokiem zaprosiło nas do udziału w turnieju kręglarskim pod patronatem Burmistrza Pszczyny. Turniej organizowanym jest już po raz piąty. Organizatorzy zaplanowali wydarzenie na sobotę 12 października 2024 roku. Mogą w nim uczestniczyć drużyny złożone z 7 zawodników\, przy czym muszą to być osoby niesłyszące i słabosłyszące. Ponadto w drużynie powinny być 3 kobiety i 4 mężczyzn. \nSamo wydarzenie odbędzie się Bielsku-Białej. Natomiast po turnieju w Retro Bowling Club w Bielsku-Białej przy ul. Partyzantów 22 uczestnicy spotkają się w świetlicy PSN w Pszczynie przy ul. Kopernika 12. Turniej rozpocznie się o godzinie 11.00. Ogłoszenie wyników rywalizacji zaś planowane jest około godziny 15.00. \nWśród drużyn zgłoszonych do tegorocznej edycji turnieju jest także drużyna wolontariuszy Fundacji FONIS. O ile w tamtym roku braliśmy udział w turnieju bez systematycznego przygotowania\, o tyle do tegorocznych rozgrywek przygotowujemy się już od kilku miesięcy. Kilkanaście osób wymiennie uczestniczy w wyjściach wolontariuszy na kręgle. Inicjatorem wyjść jest nasz wolontariusz Arkadiusz Sławski i to on również kompletuje drużynę na wyjazd. Chętnych do dołączenia do drużyny zapraszamy do kontaktu z Arkadiuszem. Jak podają organizatorzy nie wolno mieć ze sobą ani własnych butów do wejścia na kręgielnię\, ani też własnych kul do gry. \nA zatem już 12 października ruszamy na V Turniej Kręglarski Osób Niesłyszących. Mamy nadzieję na dobrą zabawę. Kto wie? Może tym  razem uda nam się zdobyć puchar… Trzymajcie za nas kciuki 😊
URL:https://fonis.pl/wydarzenia/v-turniej-kreglarski-osob-nieslyszacych/
ATTACH;FMTTYPE=image/jpeg:https://fonis.pl/wp-content/uploads/2023/10/Na-kreglach-w-Pszczynskim-Stowarzyszeniu-Nieslyszacych.jpg
END:VEVENT
END:VCALENDAR