BEGIN:VCALENDAR
VERSION:2.0
PRODID:-//Fundacja Fonis - ECPv6.15.18//NONSGML v1.0//EN
CALSCALE:GREGORIAN
METHOD:PUBLISH
X-ORIGINAL-URL:https://fonis.pl
X-WR-CALDESC:Wydarzenia dla Fundacja Fonis
REFRESH-INTERVAL;VALUE=DURATION:PT1H
X-Robots-Tag:noindex
X-PUBLISHED-TTL:PT1H
BEGIN:VTIMEZONE
TZID:UTC
BEGIN:STANDARD
TZOFFSETFROM:+0000
TZOFFSETTO:+0000
TZNAME:UTC
DTSTART:20210101T000000
END:STANDARD
END:VTIMEZONE
BEGIN:VEVENT
DTSTART;TZID=UTC:20221102T190000
DTEND;TZID=UTC:20221102T200000
DTSTAMP:20260424T032238
CREATED:20221022T121737Z
LAST-MODIFIED:20221029T133333Z
UID:191802-1667415600-1667419200@fonis.pl
SUMMARY:Wrocławska Noc Dziadów
DESCRIPTION:Pierwsza Wrocławska Noc Dziadów przed nami. Pod patronatem Fundacji FONIS 2 listopada 2022 roku odbędzie się niecodzienne wydarzenie. Muzeum Pana Tadeusza na wrocławskim rynku zaprosi bowiem na teatralną instalację “Serce ustało” w reżyserii Marzeny Sadochy. Wydarzenie odbędzie się w ramach obchodzonej w tym roku dwusetnej rocznicy polskiego romantyzmu. Ten zaś okres w naszej literaturze kojarzony jest głównie z Adamem Mickiewiczem. I choć wieszcz narodowy słynie z “Pana Tadeusza”\, to tym razem na warsztat teatralny wzięto tekst “Dziadów”. \nInstalacja w przestrzeniach Muzeum to kolejna inicjatywa rozszerzająca działalność programową o wydarzenie skierowane do grup odbiorców ze szczególnymi potrzebami. Do artystycznego udziału w projekcie organizatorzy zaprosili nie tylko aktorów słyszących\, ale także Głuchych. Wśród nich znaleźli się między innymi nasz wolontariusz – Arkadiusz Bazak i Dominika Kozłowska. Całość spektaklu będzie tłumaczona na Polski Język Migowy. Tego niełatwego zadania\, aby język Mickiewicza przełożyć na język migowy\, podejmą się Anna Morawska i Elżbieta Resler. \nPremierowe przedstawienie będzie można zobaczyć już 2 listopada 2022 roku o godzinie 19.00 oraz 21.00. Zapraszamy do Muzeum Pana Tadeusza w Kamienicy Pod Złotym Słońcem (Rynek 6). Ponadto organizatorzy przygotowali internetową wersję wideo instalacji\, której premiera odbędzie się pod koniec listopada\, tak\, aby efekt twórców był powszechnie dostępny dla widzów w całej Polsce. \nWrocławska Noc Dziadów przed nami. Serdecznie zapraszamy!
URL:https://fonis.pl/wydarzenia/wroclawska-noc-dziadow/
ATTACH;FMTTYPE=image/jpeg:https://fonis.pl/wp-content/uploads/2022/10/I-Wroclawska-Noc-Dziadow.jpg
END:VEVENT
END:VCALENDAR