BEGIN:VCALENDAR
VERSION:2.0
PRODID:-//Fundacja Fonis - ECPv6.15.20//NONSGML v1.0//EN
CALSCALE:GREGORIAN
METHOD:PUBLISH
X-ORIGINAL-URL:https://fonis.pl
X-WR-CALDESC:Wydarzenia dla Fundacja Fonis
REFRESH-INTERVAL;VALUE=DURATION:PT1H
X-Robots-Tag:noindex
X-PUBLISHED-TTL:PT1H
BEGIN:VTIMEZONE
TZID:UTC
BEGIN:STANDARD
TZOFFSETFROM:+0000
TZOFFSETTO:+0000
TZNAME:UTC
DTSTART:20240101T000000
END:STANDARD
END:VTIMEZONE
BEGIN:VEVENT
DTSTART;TZID=UTC:20250630T080000
DTEND;TZID=UTC:20250709T130000
DTSTAMP:20260425T140408
CREATED:20250309T140229Z
LAST-MODIFIED:20250710T071837Z
UID:194138-1751270400-1752066000@fonis.pl
SUMMARY:Kurs PJM A1 – profil katechetyczny
DESCRIPTION:Kurs PJM A1 – profil katechetyczny. Serdecznie zapraszamy kleryków\, kapłanów i katechetów na kurs Polskiego Języka Migowego na poziomie A1. Organizujemy go po raz drugi we współpracy z Krajowym Duszpasterstwem Niesłyszących. Kurs ten odbędzie się we Wrocławiu w dniach 30 czerwca – 9 lipca 2025 roku we Wrocławiu. Będzie obejmował 90 godzin: 64 godziny wykładowe i 26 godzin praktycznych (codzienna Msza Święta w języku migowym\, spotkanie z członkami Duszpasterstwa Niesłyszących we Wrocławiu\, konsultacje). Zajęcia poprowadzi ks. Tomasz Filinowicz – ogólnopolski Duszpasterz Niesłyszących a także dwie niesłyszące lektorki – Alicja Zawada oraz Marta Rozbicka. \nKoszt udziału w kursie wynosi 2750 zł. Kwota ta obejmuje dwie składowe. Pierwsza z nich to koszt noclegów z wyżywieniem w Metropolitalnym Wyższym Seminarium Duchownym we Wrocławiu (1650 zł). Natomiast drugą jest koszt samego kursu (1100 zł). Informujemy\, że kursanci mogą we własnym zakresie starać się o dofinansowanie w PFRON w zakresie kosztów samego kursu. Szczegółowe informacje o możliwości korzystania z dofinansowania PFRON na stronie tejże instytucji: https://www.pfron.org.pl/o-funduszu/programy-i-zadania-pfron/zadania-ustawowe/dofinansowanie-kosztow/). \nLiczba miejsc na kurs PJM A1 – profil katechetyczny jest ograniczona. Zapisy trwają do 15 czerwca 2025 roku lub do wyczerpania miejsc. Aby się zapisać należy wysłać wypełniony FORMULARZ ZGŁOSZENIOWY A1 2025 na adres mailowy kontakt@fonis.pl. W zwrotnej odpowiedzi otrzymacie potwierdzenie udziału w kursie oraz broszurę informacyjną organizatora szkolenia w postaci pliku cyfrowego (jako załącznik należy ją dołączyć do wniosku o dofinansowanie w serwisie https://portal-ipfronplus.pfron.org.pl/). \nA zatem serdecznie zapraszamy.
URL:https://fonis.pl/wydarzenia/kurs-pjm-a1-profil-katechetyczny-2/
ATTACH;FMTTYPE=image/jpeg:https://fonis.pl/wp-content/uploads/2023/06/Migamy-w-wakacje3.jpg
END:VEVENT
BEGIN:VEVENT
DTSTART;TZID=UTC:20250703T180000
DTEND;TZID=UTC:20250709T130000
DTSTAMP:20260425T140408
CREATED:20250522T102224Z
LAST-MODIFIED:20250522T102224Z
UID:194321-1751565600-1752066000@fonis.pl
SUMMARY:Warsztaty biblijne PJM
DESCRIPTION:Warsztaty biblijne PJM – zapraszamy do udziału w wydarzeniu\, które Fundacja FONIS zorganizuje wspólnie z Krajowym Duszpasterstwem Niesłyszących. Duszpasterstwo to – odpowiadając na sygnały od migających kapłanów i osób niesłyszących z różnych stron Polski – postanowiło zorganizować warsztaty biblijne i zaprosiło nas do współpracy. Odbędą się one w dniach 3 – 9 lipca 2025 roku w Metropolitalnym Wyższym Seminarium Duchownym we Wrocławiu (przy pl. Katedralnym 14). Rozpoczynamy w czwartkowy wieczór\, zaś kończymy obiadem w środę. \nPodczas warsztatów uczestnicy będą przygotowywać tłumaczenie niedzielnych Ewangelii na język migowy. W tym roku warsztatowcy będą opracowywać perykopy z roku A. Wypracowane tłumaczenia zostaną nagrane\, a następnie filmy opublikujemy na kanale Effatha24.com na platformie YouTube\, tak\, by mogły służyć w przyszłości tym\, którzy tłumaczę niedzielne Msze Święte w swoich ośrodkach duszpasterskich. \nDo udziału w warsztatach zapraszamy przede wszystkim osoby niesłyszące i słabosłyszące. Mile widziani będą też słyszący tłumacze\, mający doświadczenie w miganiu biblijnych tekstów (kapłani\, siostry zakonne i osoby świeckie). Szczegółowe informacje i zapisy u księdza Tomasza Filinowicza (tel. 510 635 490 – dostępny również WhatsApp lub mail kontakt@effatha24.com) do 20 czerwca lub do wyczerpania miejsc. Nie zwlekajcie z zapisami. \nPonieważ udało nam się pozyskać dofinansowanie koszt udziału w warsztatach biblijnych PJM wynosi 600 zł. Cena obejmuje noclegi i wyżywienie (trzy posiłki dziennie) oraz serwis kawowy we wszystkie dni trwania warsztatów.
URL:https://fonis.pl/wydarzenia/warsztaty-biblijne-pjm/
ATTACH;FMTTYPE=image/jpeg:https://fonis.pl/wp-content/uploads/2025/05/warsztaty-biblijne-PJM.jpg
END:VEVENT
BEGIN:VEVENT
DTSTART;TZID=UTC:20251001T170000
DTEND;TZID=UTC:20251001T190000
DTSTAMP:20260425T140408
CREATED:20250926T183340Z
LAST-MODIFIED:20250926T183340Z
UID:194668-1759338000-1759345200@fonis.pl
SUMMARY:Wrocław miga - październik 2025
DESCRIPTION:Wrocław miga – październik 2025. Wrocław miga to nowa inicjatywa Fundacji FONIS. Wraz z początkiem października zapraszamy do udziału w spotkaniach w pierwszą środę miesiąca. Spotkania będą miały charakter koła języka migowego. I chociaż nie będziemy na nich uczyć migać\, to jednak uczestnicy będą mogli rozwijać swoją znajomość języka migowego. \nDo udziału zapraszamy zarówno osoby niesłyszące\, jak i słyszące\, które posługują się językiem migowym. Znamy wiele osób\, które ubolewają\, że po zakończeniu kursu języka migowego\, nie mają zbyt wielu okazji\, by go używać. Nasze środowe spotkania będą ku temu dobrą sposobnością. Tym bardziej\, że w czasie ich trwania będzie zakaz używania mowy fonicznej. \nKażde spotkanie rozpocznie się od krótkiej prelekcji jednego z uczestników na wybrany przez siebie temat. Następnie będzie czas na rozmowę\, zadawanie pytań\, czy też na wspólną zabawę. Przewidujemy\, że spotkanie będzie trwało około 2 godzin. \nPierwsze spotkanie z cyklu Wrocław miga zaplanowaliśmy na 1 października. Spotkamy się w sali nr 2 w budynku Centrum Duszpasterskiego Archidiecezji Wrocławskiej przy ul. Katedralne 4 na wrocławskim Ostrowie Tumskim Nie prowadzimy wcześniejszych zapisów. Wystarczy\, że przyjdziecie do nas na godzinę 17.00. \nPoniżej znajdziecie vlog przygotowany przez Alicję i Rafała\, którzy będą odpowiedzialni za animowanie spotkań. Serdecznie zapraszamy do udziału. Do zobaczenia!
URL:https://fonis.pl/wydarzenia/wroclaw-miga-pazdziernik-2025/
ATTACH;FMTTYPE=image/jpeg:https://fonis.pl/wp-content/uploads/2025/09/Wroclaw-miga.jpg
END:VEVENT
BEGIN:VEVENT
DTSTART;TZID=UTC:20251203T170000
DTEND;TZID=UTC:20251203T190000
DTSTAMP:20260425T140408
CREATED:20251127T175352Z
LAST-MODIFIED:20251127T175352Z
UID:194895-1764781200-1764788400@fonis.pl
SUMMARY:Wrocław miga – grudzień 2025
DESCRIPTION:Wrocław miga – grudzień 2025. Wraz z początkiem października 2025 roku rozpoczęliśmy w Fundacji FONIS nową inicjatywę. W każdą pierwszą środę miesiąca zapraszamy na spotkania\, które mają charakter koła języka migowego. I chociaż nie uczymy na nich migać\, to jednak uczestnicy będą mogli rozwijać swoją znajomość języka migowego. \nDo udziału zapraszamy zarówno osoby niesłyszące\, jak i słyszące\, które posługują się językiem migowym. Znamy wiele osób\, które ubolewają\, że po zakończeniu kursu języka migowego\, nie mają zbyt wielu okazji\, by go używać. Nasze środowe spotkania będą ku temu dobrą sposobnością. Tym bardziej\, że w czasie ich trwania będzie zakaz używania mowy fonicznej. \nKażde spotkanie rozpocznie się od krótkiej prelekcji jednego z uczestników na wybrany przez siebie temat. Następnie będzie czas na rozmowę\, zadawanie pytań\, czy też na wspólną zabawę. Przewidujemy\, że spotkanie będzie trwało około 2 godzin. \nGrudniowe spotkanie z cyklu Wrocław miga zaplanowaliśmy na 3 grudnia 2025 roku. Spotkamy się w sali nr 2 w budynku Centrum Duszpasterskiego Archidiecezji Wrocławskiej przy ul. Katedralnej 4 na wrocławskim Ostrowie Tumskim. Tym razem podczas spotkania – jako że święta tuż tuż – zmierzymy się z miganiem kolęd. Temu będzie poświęcona część warsztatowa spotkania. Nie prowadzimy wcześniejszych zapisów. Wystarczy\, że przyjdziecie do nas na godzinę 17.00. A zatem do zobaczenia 3 grudnia.
URL:https://fonis.pl/wydarzenia/wroclaw-miga-grudzien-2025/
ATTACH;FMTTYPE=image/jpeg:https://fonis.pl/wp-content/uploads/2025/09/Wroclaw-miga.jpg
END:VEVENT
BEGIN:VEVENT
DTSTART;TZID=UTC:20260107T170000
DTEND;TZID=UTC:20260107T190000
DTSTAMP:20260425T140408
CREATED:20251222T182107Z
LAST-MODIFIED:20251222T182107Z
UID:194968-1767805200-1767812400@fonis.pl
SUMMARY:Wrocław miga - styczeń 2026
DESCRIPTION:Wrocław miga – styczeń 2026. Styczniowe spotkanie koła języka migowego „Wrocław miga” odbędzie się tradycyjnie w pierwszą środę miesiąca\, czyli 7 stycznia 2026 roku o godz. 17.00 w Centrum Duszpasterskim Archidiecezji Wrocławskiej przy ul. Katedralnej 4 we Wrocławiu. Więcej informacji wkrótce.
URL:https://fonis.pl/wydarzenia/wroclaw-miga-styczen-2026/
ATTACH;FMTTYPE=image/jpeg:https://fonis.pl/wp-content/uploads/2025/09/Wroclaw-miga.jpg
END:VEVENT
BEGIN:VEVENT
DTSTART;TZID=UTC:20260204T170000
DTEND;TZID=UTC:20260204T190000
DTSTAMP:20260425T140408
CREATED:20260115T115307Z
LAST-MODIFIED:20260115T115307Z
UID:195003-1770224400-1770231600@fonis.pl
SUMMARY:Wrocław miga - luty 2026
DESCRIPTION:Wrocław miga – luty 2026. Wprawdzie będzie to czas ferii w województwie dolnośląskim\, ale postanowiliśmy nie zmieniać terminu i nie odwoływać spotkania. Zapraszamy zatem jak zawsze w pierwszą środę miesiąca na spotkanie koła języka migowego „Wrocław miga”. Tym razem będzie to 4 lutego 2026 roku. Spotykamy się o godz. 17.00 w sali numer 3 w Centrum Duszpasterskim Archidiecezji Wrocławskiej przy ul. Katedralnej 4 na Ostrowie Tumskim we Wrocławiu. \nIdea powstania koła języka migowego rodziła się dość długo. W Fundacji FONIS obserwowaliśmy wiele osób\, które kończąc kurs Polskiego Języka Migowego czy to u nas\, czy w innych organizacjach\, mierzyły się z pewną trudnością. Po czasie intensywnej nauki i częstym kontakcie z niesłyszącymi\, przychodził czas regresu związany z brakiem kontaktu z naturalnymi użytkownikami PJM. Widząc tę potrzebę postanowiliśmy zorganizować regularne spotkania\, w czasie których będzie okazja do praktykowania komunikacji PJM. W realizację tych zamierzeń fantastycznie wpisali się Alicja i Rafał Bołdysowie\, którzy od samego początku są odpowiedzialni za organizację spotkań koła. Czuwają\, aby wszyscy uczestnicy – zarówno G/głusi jak i słyszący – korzystali w czasie dwugodzinnych zajęć wyłącznie języka migowego. \nSpotkania odbywają się w każdą drugą środę miesiąca i udział w nich jest bezpłatny. Mają one zróżnicowany charakter. Mieszczą bowiem elementy zabawy\, wykłady i ćwiczenia związane z gramatyką PJM\, prelekcje zaproszonych gości\, wymianę doświadczeń. Po zakończeniu części oficjalnej zawsze jest też przestrzeń do – równie ważnych i ciekawych – spotkań w kuluarach. \nSerdecznie zapraszamy!
URL:https://fonis.pl/wydarzenia/wroclaw-miga-luty-2026/
ATTACH;FMTTYPE=image/jpeg:https://fonis.pl/wp-content/uploads/2025/09/Wroclaw-miga.jpg
END:VEVENT
BEGIN:VEVENT
DTSTART;TZID=UTC:20260227T170000
DTEND;TZID=UTC:20260227T180000
DTSTAMP:20260425T140408
CREATED:20260217T150128Z
LAST-MODIFIED:20260217T150128Z
UID:195063-1772211600-1772215200@fonis.pl
SUMMARY:Spotkanie wolontariuszy – luty 2026
DESCRIPTION:Spotkanie wolontariuszy – luty 2026. Pierwsze w nowym roku kalendarzowym spotkanie wolontariuszy Fundacji FONIS odbędzie się w piątek 27 lutego 2026 roku. Rozpocznie się jak zawsze o godz. 17.00\, zaś miejscem spotkania tradycyjnie już będzie Centrum Duszpasterskie Archidiecezji Wrocławskiej przy ulicy Katedralnej 4 na Ostrowie Tumskim we Wrocławiu. \nSpotkania wolontariuszy Fundacji FONIS na stałe wpisują się w kalendarz działań naszej organizacji. Spotykamy się zawsze w czwarty piątek miesiąca. Nie inaczej będzie tym razem. Lutowe spotkanie będzie okazją\, aby podsumować miniony miesiąc działań wolontaryjnych. Ale przede wszystkim będzie to czas\, aby omówić działania na kolejny miesiąc\, czyli na marzec. Wśród nich będzie kampania związana z pozyskiwaniem 1\,5% dla Fundacji FONIS\, działania Klubu Seniora „Integracja”\, warsztaty języka migowego\, a także rozpoczynający się w kwietniu kurs PJM A1. Powiemy też między innymi o początku przygotowań do Festynu św. Filipa Smaldone 2026 i inicjatyw wakacyjnych. \nSerdecznie zapraszamy więc na spotkanie wolontariuszy – luty 2026 nie tylko naszych stałych bywalców. Będziemy się także cieszyć\, jeśli do naszego grona dołączą nowe osoby. Mile widziane są zarówno osoby znające język migowy\, jak i te\, które dopiero chcą nauczyć się komunikować z niesłyszącymi i słabosłyszącymi. Spotkanie bowiem dostosujemy i do osób niesłyszących\, i do osób słyszących. A zatem serdecznie zapraszamy „pod 4” już 27 lutego 2026 roku! Do zobaczenia.
URL:https://fonis.pl/wydarzenia/spotkanie-wolontariuszy-luty-2026/
ATTACH;FMTTYPE=image/jpeg:https://fonis.pl/wp-content/uploads/2024/05/Majowka-nieslyszacego-aktywnego-wolontariusza-4.jpg
END:VEVENT
BEGIN:VEVENT
DTSTART;TZID=UTC:20260304T170000
DTEND;TZID=UTC:20260304T190000
DTSTAMP:20260425T140408
CREATED:20260217T151206Z
LAST-MODIFIED:20260217T151206Z
UID:195068-1772643600-1772650800@fonis.pl
SUMMARY:Wrocław miga – marzec 2026
DESCRIPTION:Wrocław miga – marzec 2026. Zapraszamy jak zawsze w pierwszą środę miesiąca na spotkanie koła języka migowego „Wrocław miga”. Tym razem będzie to 4 marca 2026 roku. Spotykamy się o godz. 17.00 w sali numer 3 w Centrum Duszpasterskim Archidiecezji Wrocławskiej przy ul. Katedralnej 4 na Ostrowie Tumskim we Wrocławiu. \nIdea powstania koła języka migowego rodziła się dość długo. W Fundacji FONIS obserwowaliśmy wiele osób\, które kończąc kurs Polskiego Języka Migowego czy to u nas\, czy w innych organizacjach\, mierzyły się z pewną trudnością. Po czasie intensywnej nauki i częstym kontakcie z niesłyszącymi\, przychodził czas regresu związany z brakiem kontaktu z naturalnymi użytkownikami PJM. Widząc tę potrzebę postanowiliśmy zorganizować regularne spotkania\, w czasie których będzie okazja do praktykowania komunikacji PJM. W realizację tych zamierzeń fantastycznie wpisali się Alicja i Rafał Bołdysowie\, którzy od samego początku są odpowiedzialni za organizację spotkań koła. Czuwają\, aby wszyscy uczestnicy – zarówno G/głusi jak i słyszący – korzystali w czasie dwugodzinnych zajęć wyłącznie języka migowego. \nSpotkania odbywają się w każdą drugą środę miesiąca i udział w nich jest bezpłatny. Mają one zróżnicowany charakter. Mieszczą bowiem elementy zabawy\, wykłady i ćwiczenia związane z gramatyką PJM\, prelekcje zaproszonych gości\, wymianę doświadczeń. Po zakończeniu części oficjalnej zawsze jest też przestrzeń do – równie ważnych i ciekawych – spotkań w kuluarach. \nSerdecznie zapraszamy!
URL:https://fonis.pl/wydarzenia/wroclaw-miga-marzec-2026/
ATTACH;FMTTYPE=image/jpeg:https://fonis.pl/wp-content/uploads/2025/09/Wroclaw-miga.jpg
END:VEVENT
BEGIN:VEVENT
DTSTART;TZID=UTC:20260401T170000
DTEND;TZID=UTC:20260401T190000
DTSTAMP:20260425T140408
CREATED:20260325T050503Z
LAST-MODIFIED:20260326T181756Z
UID:195191-1775062800-1775070000@fonis.pl
SUMMARY:Wrocław miga – kwiecień 2026
DESCRIPTION:Wrocław miga – kwiecień 2026. Zapraszamy jak zawsze w pierwszą środę miesiąca na spotkanie koła języka migowego „Wrocław miga”. Tym razem będzie to 1 kwietnia 2026 roku. Spotykamy się o godz. 17.00 w sali numer 5 w Centrum Duszpasterskim Archidiecezji Wrocławskiej przy ul. Katedralnej 4 na Ostrowie Tumskim we Wrocławiu. \nIdea powstania koła języka migowego rodziła się dość długo. W Fundacji FONIS obserwowaliśmy wiele osób\, które kończąc kurs Polskiego Języka Migowego czy to u nas\, czy w innych organizacjach\, mierzyły się z pewną trudnością. Po czasie intensywnej nauki i częstym kontakcie z niesłyszącymi\, przychodził czas regresu związany z brakiem kontaktu z naturalnymi użytkownikami PJM. Widząc tę potrzebę postanowiliśmy zorganizować regularne spotkania\, w czasie których będzie okazja do praktykowania komunikacji PJM. W realizację tych zamierzeń fantastycznie wpisali się Alicja i Rafał Bołdysowie\, którzy od samego początku są odpowiedzialni za organizację spotkań koła. Czuwają\, aby wszyscy uczestnicy – zarówno G/głusi jak i słyszący – korzystali w czasie dwugodzinnych zajęć wyłącznie z języka migowego. \nSpotkania odbywają się w każdą pierwszą środę miesiąca i udział w nich jest bezpłatny. Mają one zróżnicowany charakter. Mieszczą bowiem elementy zabawy\, wykłady i ćwiczenia związane z gramatyką PJM\, prelekcje zaproszonych gości\, wymianę doświadczeń. Po zakończeniu części oficjalnej zawsze jest też przestrzeń do – równie ważnych i ciekawych – spotkań w kuluarach. \nSerdecznie zapraszamy!
URL:https://fonis.pl/wydarzenia/wroclaw-miga-kwiecien-2026/
ATTACH;FMTTYPE=image/jpeg:https://fonis.pl/wp-content/uploads/2025/09/Wroclaw-miga.jpg
END:VEVENT
BEGIN:VEVENT
DTSTART;TZID=UTC:20260506T170000
DTEND;TZID=UTC:20260506T190000
DTSTAMP:20260425T140408
CREATED:20260423T064926Z
LAST-MODIFIED:20260423T064926Z
UID:195260-1778086800-1778094000@fonis.pl
SUMMARY:Wrocław miga – maj 2026
DESCRIPTION:Wrocław miga – maj 2026. Zapraszamy jak zawsze w pierwszą środę miesiąca na spotkanie koła języka migowego „Wrocław miga”. Tym razem będzie to 6 maja 2026 roku. Spotykamy się o godz. 17.00 w sali numer 5 w Centrum Duszpasterskim Archidiecezji Wrocławskiej przy ul. Katedralnej 4 na Ostrowie Tumskim we Wrocławiu. \nIdea powstania koła języka migowego rodziła się dość długo. W Fundacji FONIS obserwowaliśmy wiele osób\, które kończąc kurs Polskiego Języka Migowego czy to u nas\, czy w innych organizacjach\, mierzyły się z pewną trudnością. Po czasie intensywnej nauki i częstym kontakcie z niesłyszącymi\, przychodził czas regresu związany z brakiem kontaktu z naturalnymi użytkownikami PJM. Widząc tę potrzebę postanowiliśmy zorganizować regularne spotkania\, w czasie których będzie okazja do praktykowania komunikacji PJM. W realizację tych zamierzeń fantastycznie wpisali się Alicja i Rafał Bołdysowie\, którzy od samego początku są odpowiedzialni za organizację spotkań koła. Czuwają\, aby wszyscy uczestnicy – zarówno G/głusi jak i słyszący – korzystali w czasie dwugodzinnych zajęć wyłącznie z języka migowego. \nSpotkania odbywają się w każdą pierwszą środę miesiąca i udział w nich jest bezpłatny. Mają one zróżnicowany charakter. Mieszczą bowiem elementy zabawy\, wykłady i ćwiczenia związane z gramatyką PJM\, prelekcje zaproszonych gości\, wymianę doświadczeń. Po zakończeniu części oficjalnej zawsze jest też przestrzeń do – równie ważnych i ciekawych – spotkań w kuluarach. \nSerdecznie zapraszamy!
URL:https://fonis.pl/wydarzenia/wroclaw-miga-maj-2026/
ATTACH;FMTTYPE=image/jpeg:https://fonis.pl/wp-content/uploads/2025/09/Wroclaw-miga.jpg
END:VEVENT
END:VCALENDAR