BEGIN:VCALENDAR
VERSION:2.0
PRODID:-//Fundacja Fonis - ECPv6.15.18//NONSGML v1.0//EN
CALSCALE:GREGORIAN
METHOD:PUBLISH
X-ORIGINAL-URL:https://fonis.pl
X-WR-CALDESC:Wydarzenia dla Fundacja Fonis
REFRESH-INTERVAL;VALUE=DURATION:PT1H
X-Robots-Tag:noindex
X-PUBLISHED-TTL:PT1H
BEGIN:VTIMEZONE
TZID:UTC
BEGIN:STANDARD
TZOFFSETFROM:+0000
TZOFFSETTO:+0000
TZNAME:UTC
DTSTART:20240101T000000
END:STANDARD
END:VTIMEZONE
BEGIN:VEVENT
DTSTART;TZID=UTC:20250314T190000
DTEND;TZID=UTC:20250314T210000
DTSTAMP:20260424T142807
CREATED:20250225T063909Z
LAST-MODIFIED:20250225T063909Z
UID:194096-1741978800-1741986000@fonis.pl
SUMMARY:Kurs finansowy Crown (PJM) - zakończenie
DESCRIPTION:Kurs finansowy Crown (PJM) – zakończenie. Od września 2024 roku w naszej Fundacji odbywały się zajęcia kursu finansowego Crown w języku migowym. Co dwa tygodnie kilka osób niesłyszących i słabosłyszących spotykało się pod 4\, aby zwiększać swoje kompetencje w zakresie zarządzania finansami. \nKurs obejmował w sumie 12 spotkań. Pierwszym było spotkanie organizacyjne\, po którym odbyło się 10 spotkań tematycznych. Ostatnie z cyklu zaplanowaliśmy na piątek 14 marca 2025 roku. Rozpoczniemy je o godz. 19.00 w stałym miejscu\, czyli w sali nr 2 w Centrum Duszpasterskim Archidiecezji Wrocławskiej przy ul. Katedralnej 4 we Wrocławiu. \nKurs finansowy Crown w języku migowym w Fundacji FONIS odbywał się dzięki inicjatywie wolontariusza Fundacji FONIS – Pawła Wojewody. Jest on certyfikowanym liderem i prowadzi kursy online oraz stacjonarnie. My zaś zadbaliśmy o tłumaczenie spotkań na Polski Język Migowy. Podczas prawie sześciu miesięcy trwania zajęć uczył on uczestników\, jak dostosować sposób prowadzenia finansów do zasad wynikających ze Słowa Bożego. Kurs miał więc podwójny charakter. Z jednej strony pomagał pogłębić więź z Bogiem i poznać te fragmenty Biblii\, w których jest mowa o finansach. Z drugiej natomiast uczył jak zmniejszyć zadłużenie\, dobrze i bezpiecznie zarządzać finansami domowymi\, czy też zadbać o oszczędności i inwestycje. \nKurs finansowy Crown (PJM) – zakończenie. Ostatnie spotkanie będzie miało charakter podsumowania. Uczestnicy będą również dzielić się swoimi wrażeniami oraz doświadczeniem wynikającym z prowadzenia budżetu domowego zgodnie ze wskazaniami lidera.
URL:https://fonis.pl/wydarzenia/kurs-finansowy-crown-pjm-zakonczenie/
ATTACH;FMTTYPE=image/jpeg:https://fonis.pl/wp-content/uploads/2024/08/Kurs-finansowy-Crown.jpg
END:VEVENT
END:VCALENDAR