BEGIN:VCALENDAR
VERSION:2.0
PRODID:-//Fundacja Fonis - ECPv6.15.20//NONSGML v1.0//EN
CALSCALE:GREGORIAN
METHOD:PUBLISH
X-ORIGINAL-URL:https://fonis.pl
X-WR-CALDESC:Wydarzenia dla Fundacja Fonis
REFRESH-INTERVAL;VALUE=DURATION:PT1H
X-Robots-Tag:noindex
X-PUBLISHED-TTL:PT1H
BEGIN:VTIMEZONE
TZID:UTC
BEGIN:STANDARD
TZOFFSETFROM:+0000
TZOFFSETTO:+0000
TZNAME:UTC
DTSTART:20240101T000000
END:STANDARD
END:VTIMEZONE
BEGIN:VEVENT
DTSTART;TZID=UTC:20250613T163000
DTEND;TZID=UTC:20250613T180000
DTSTAMP:20260425T133601
CREATED:20250522T072820Z
LAST-MODIFIED:20250522T072820Z
UID:194317-1749832200-1749837600@fonis.pl
SUMMARY:Gry planszowe i karciane – czerwiec 2025
DESCRIPTION:Gry planszowe i karciane – czerwiec 2025. Fundacja FONIS zaprasza na spotkanie w piątek 13 czerwca 2025 roku na gry planszowe i karciane. Doświadczenie kilku lat spotkań w gronie niesłyszących i słabosłyszących pokazuje\, że wiele osób lubi ten rodzaj rozrywki. Podczas wspólnych wyjazdów czy też spotkań wolontariuszy wiele osób chętnie angażowało się w różne gry. Wobec tego postanowiliśmy na stałe program pracy Fundacji FONIS wpisać takie wydarzenie. Będzie się ono odbywać cyklicznie raz w miesiącu. Zapraszamy w każdy drugi piątek miesiąca do Centrum Duszpasterskiego Archidiecezji Wrocławskiej przy ulicy Katedralnej 4. W sali numer 2 od godziny 16.30 będą na Was czekać Klaudia i Ania – wolontariuszki Fundacji odpowiedzialne za organizację wydarzenia. Zaproszą Was one także do skorzystania z bufetu\, czyli kawy\, herbaty i ciastka. \nW zasobach naszej Fundacji są gry takie jak: Carcassonne\, Dog\, Miasto Stu Mostów\, Ramzes. Oprócz tych planszowych mamy też karciane (między innymi Fasolki\, Wirus\, Double\, Uno) i zręcznościowe (na przykład Jenga\, Suspend). Oczywiście uczestnicy mogą ze sobą przynieść własne gry i nauczyć pozostałych uczestników zasad gry. \nA zatem serdecznie zapraszamy na gry planszowe i karciane – czerwiec 2025. Mile widziani są zarówno wolontariusze Fundacji FONIS\, jak i ci\, którzy do wolontariatu nie należą. Zapraszamy każdego bez względu na wiek\, ubytek słuchu lub jego brak czy narodowość.
URL:https://fonis.pl/wydarzenia/gry-planszowe-i-karciane-czerwiec-2025/
ATTACH;FMTTYPE=image/jpeg:https://fonis.pl/wp-content/uploads/2024/03/Dzien-Kobiet-z-planszowkami-4.jpg
END:VEVENT
BEGIN:VEVENT
DTSTART;TZID=UTC:20250706T103000
DTEND;TZID=UTC:20250706T130000
DTSTAMP:20260425T133601
CREATED:20250701T155055Z
LAST-MODIFIED:20250701T155055Z
UID:194451-1751797800-1751806800@fonis.pl
SUMMARY:Spotkanie integracyjne – lipiec 2025
DESCRIPTION:Spotkanie integracyjne – lipiec 2025. Tradycją już jest\, że w każdą pierwszą niedzielę miesiąca zapraszamy Was na spotkanie integracyjne w Fundacji FONIS. W praktyce wygląda to tak\, że po Mszach Świętych w języku migowym w Duszpasterstwie Głuchoniemych i Niewidomych Archidiecezji Wrocławskiej w kościele NMP na Piasku idziemy “pod 4”. Tam zaś czeka na nas kawa\, herbata i ciastko\, czyli idealne warunku do spotkania integracyjnego. Oczywiście do udziału zapraszamy również tych\, którzy nie uczestniczą w niedzielnej Mszy. \nZapraszamy więc w pierwszą niedzielę lipca (czyli 6 lipca 2025 roku) na kolejne spotkanie. Odbędzie się ono w sali numer 15 na I piętrze w budynku Centrum Duszpasterskiego Archidiecezji Wrocławskiej przy ulicy Katedralnej 4 we Wrocławiu. Rozpoczynamy około godziny 10.30\, kończymy zaś wraz z wyjściem ostatnich gości. Jest to zwykle około godziny 13.00. \nSpotkanie integracyjne – lipiec 2025 to dobra okazja do integracji środowiska osób niesłyszących i słabosłyszących\, ale też ich rodzin i wolontariuszy. To również sprzyjające okoliczności dla osób słyszących\, które uczestniczyły w kursach polskiego języka migowego\, aby sprawdzić w praktyce swoje umiejętności. Zapraszamy zarówno mieszkańców Wrocławia\, jak również osoby z innych zakątków Dolnego Śląska i Polski. Uczestnikami lipcowego spotkania będą kursanci PJM A1 o profilu katechetycznym\, a także osoby biorące udział w trwających w tym czasie warsztatach biblijnych. Serdecznie zapraszamy! \nZa udział w przygotowaniu poczęstunku i w sprzątaniu po wydarzeniu serdecznie dziękujemy wolontariuszom Fundacji FONIS. \n 
URL:https://fonis.pl/wydarzenia/spotkanie-integracyjne-lipiec-2025/
ATTACH;FMTTYPE=image/jpeg:https://fonis.pl/wp-content/uploads/2024/04/Spotkanie-integracyjne-w-Fundacji-FONIS-1.jpg
END:VEVENT
BEGIN:VEVENT
DTSTART;TZID=UTC:20251001T170000
DTEND;TZID=UTC:20251001T190000
DTSTAMP:20260425T133601
CREATED:20250926T183340Z
LAST-MODIFIED:20250926T183340Z
UID:194668-1759338000-1759345200@fonis.pl
SUMMARY:Wrocław miga - październik 2025
DESCRIPTION:Wrocław miga – październik 2025. Wrocław miga to nowa inicjatywa Fundacji FONIS. Wraz z początkiem października zapraszamy do udziału w spotkaniach w pierwszą środę miesiąca. Spotkania będą miały charakter koła języka migowego. I chociaż nie będziemy na nich uczyć migać\, to jednak uczestnicy będą mogli rozwijać swoją znajomość języka migowego. \nDo udziału zapraszamy zarówno osoby niesłyszące\, jak i słyszące\, które posługują się językiem migowym. Znamy wiele osób\, które ubolewają\, że po zakończeniu kursu języka migowego\, nie mają zbyt wielu okazji\, by go używać. Nasze środowe spotkania będą ku temu dobrą sposobnością. Tym bardziej\, że w czasie ich trwania będzie zakaz używania mowy fonicznej. \nKażde spotkanie rozpocznie się od krótkiej prelekcji jednego z uczestników na wybrany przez siebie temat. Następnie będzie czas na rozmowę\, zadawanie pytań\, czy też na wspólną zabawę. Przewidujemy\, że spotkanie będzie trwało około 2 godzin. \nPierwsze spotkanie z cyklu Wrocław miga zaplanowaliśmy na 1 października. Spotkamy się w sali nr 2 w budynku Centrum Duszpasterskiego Archidiecezji Wrocławskiej przy ul. Katedralne 4 na wrocławskim Ostrowie Tumskim Nie prowadzimy wcześniejszych zapisów. Wystarczy\, że przyjdziecie do nas na godzinę 17.00. \nPoniżej znajdziecie vlog przygotowany przez Alicję i Rafała\, którzy będą odpowiedzialni za animowanie spotkań. Serdecznie zapraszamy do udziału. Do zobaczenia!
URL:https://fonis.pl/wydarzenia/wroclaw-miga-pazdziernik-2025/
ATTACH;FMTTYPE=image/jpeg:https://fonis.pl/wp-content/uploads/2025/09/Wroclaw-miga.jpg
END:VEVENT
BEGIN:VEVENT
DTSTART;TZID=UTC:20251010T163000
DTEND;TZID=UTC:20251010T180000
DTSTAMP:20260425T133601
CREATED:20250926T183726Z
LAST-MODIFIED:20250926T183726Z
UID:194670-1760113800-1760119200@fonis.pl
SUMMARY:Gry planszowe i karciane – październik 2025
DESCRIPTION:Gry planszowe i karciane – październik 2025. Fundacja FONIS zaprasza na spotkanie w piątek 10 października 2025 roku na gry planszowe i karciane. Doświadczenie kilku lat spotkań w gronie niesłyszących i słabosłyszących pokazuje\, że wiele osób lubi ten rodzaj rozrywki. Podczas wspólnych wyjazdów czy też spotkań wolontariuszy wiele osób chętnie angażowało się w różne gry. Wobec tego postanowiliśmy na stałe program pracy Fundacji FONIS wpisać takie wydarzenie. Będzie się ono odbywać cyklicznie raz w miesiącu. Zapraszamy w każdy drugi piątek miesiąca do Centrum Duszpasterskiego Archidiecezji Wrocławskiej przy ulicy Katedralnej 4. W sali numer 2 od godziny 16.30 będą na Was czekać Klaudia i Ania – wolontariuszki Fundacji odpowiedzialne za organizację wydarzenia. Zaproszą Was one także do skorzystania z bufetu\, czyli kawy\, herbaty i ciastka. \nW zasobach naszej Fundacji są gry takie jak: Carcassonne\, Dog\, Miasto Stu Mostów\, Ramzes. Oprócz tych planszowych mamy też karciane (między innymi Fasolki\, Wirus\, Double\, Uno) i zręcznościowe (na przykład Jenga\, Suspend). Oczywiście uczestnicy mogą ze sobą przynieść własne gry i nauczyć pozostałych uczestników zasad gry. \nA zatem serdecznie zapraszamy na gry planszowe i karciane – październik 2025. Mile widziani są zarówno wolontariusze Fundacji FONIS\, jak i ci\, którzy do wolontariatu nie należą. Zapraszamy każdego bez względu na wiek\, ubytek słuchu lub jego brak czy narodowość.
URL:https://fonis.pl/wydarzenia/gry-planszowe-i-karciane-pazdziernik-2025/
ATTACH;FMTTYPE=image/jpeg:https://fonis.pl/wp-content/uploads/2024/03/Dzien-Kobiet-z-planszowkami-4.jpg
END:VEVENT
BEGIN:VEVENT
DTSTART;TZID=UTC:20251114T163000
DTEND;TZID=UTC:20251114T180000
DTSTAMP:20260425T133601
CREATED:20251024T140124Z
LAST-MODIFIED:20251024T140124Z
UID:194772-1763137800-1763143200@fonis.pl
SUMMARY:Gry planszowe i karciane – listopad 2025
DESCRIPTION:Gry planszowe i karciane – listopad 2025. Fundacja FONIS zaprasza na spotkanie w piątek 14 listopada 2025 roku na gry planszowe i karciane. Doświadczenie kilku lat spotkań w gronie niesłyszących i słabosłyszących pokazuje\, że wiele osób lubi ten rodzaj rozrywki. Podczas wspólnych wyjazdów czy też spotkań wolontariuszy wiele osób chętnie angażowało się w różne gry. Wobec tego postanowiliśmy na stałe program pracy Fundacji FONIS wpisać takie wydarzenie. Będzie się ono odbywać cyklicznie raz w miesiącu. Zapraszamy w każdy drugi piątek miesiąca do Centrum Duszpasterskiego Archidiecezji Wrocławskiej przy ulicy Katedralnej 4. W sali numer 2 od godziny 16.30 będą na Was czekać Klaudia i Ania – wolontariuszki Fundacji odpowiedzialne za organizację wydarzenia. Zaproszą Was one także do skorzystania z bufetu\, czyli kawy\, herbaty i ciastka. \nW zasobach naszej Fundacji są gry takie jak: Carcassonne\, Dog\, Miasto Stu Mostów\, Ramzes. Oprócz tych planszowych mamy też karciane (między innymi Fasolki\, Wirus\, Double\, Uno) i zręcznościowe (na przykład Jenga\, Suspend). Oczywiście uczestnicy mogą ze sobą przynieść własne gry i nauczyć pozostałych uczestników zasad gry. \nA zatem serdecznie zapraszamy na gry planszowe i karciane – listopad 2025. Mile widziani są zarówno wolontariusze Fundacji FONIS\, jak i ci\, którzy do wolontariatu nie należą. Zapraszamy każdego bez względu na wiek\, ubytek słuchu lub jego brak czy narodowość.
URL:https://fonis.pl/wydarzenia/gry-planszowe-i-karciane-listopad-2025/
ATTACH;FMTTYPE=image/jpeg:https://fonis.pl/wp-content/uploads/2024/03/Dzien-Kobiet-z-planszowkami-4.jpg
END:VEVENT
BEGIN:VEVENT
DTSTART;TZID=UTC:20251122T100000
DTEND;TZID=UTC:20251122T113000
DTSTAMP:20260425T133601
CREATED:20251107T111858Z
LAST-MODIFIED:20251107T111858Z
UID:194815-1763805600-1763811000@fonis.pl
SUMMARY:Dzień Białej Laski 2025
DESCRIPTION:Dzień Białej Laski 2025 to święto osób niewidomych i słabowidzących obchodzone w październiku. Z dużym\, bo blisko miesięcznym opóźnieniem\, będziemy świętować Dzień Białej Laski 2025 w Fundacji FONIS. Z tej okazji zaprosimy niewidomych i słabowidzących\, a także ich bliskich i przyjaciół na wycieczkę do Muzeum Archidiecezjalnego we Wrocławiu. Wycieczkę zaplanowaliśmy na sobotę 22 listopada 2025 roku. Zwiedzanie rozpocznie się o godz. 10.00. Uczestników prosimy\, aby przybyli 15 minut wcześniej do budynku muzeum przy pl. Katedralnym 16 na wrocławskim Ostrowie Tumskim (tuż obok katedry św. Jana Chrzciciela). Jeśli ktoś będzie potrzebował wsparcia przewodnika z naszej strony\, prosimy o wcześniejszy kontakt. \nZwiedzanie będzie bezpłatne. Obowiązują jednak wcześniejsze zapisy pod numerem telefonu 690 502 670. Można też zapisać się mailowo wysyłając zgłoszenie na adres: kontakt@fonis.pl. Zwiedzanie będzie trwało około 1\,5 godziny. Na prośbę naszej Fundacji będzie ono dostosowane do potrzeb osób z wadą wzroku. Otrzymaliśmy zapewnienie\, że przewodnik przygotuje eksponaty\, które niewidomi i słabowidzący będą mogli obejrzeć własnymi rękoma. \nMuzeum Archidiecezjalne we Wrocławiu\, które odwiedzimy to największe w Polsce muzeum kościelne. W swoich zbiorach ma około 8000 eksponatów z epoki starożytności\, średniowiecza\, a także nowożytności. W skład muzeum wchodzą budynek dawnej kancelarii\, budynek dawnej kapituły oraz budynek dawnego archiwum książęcego. Do najcenniejszych eksponatów zaliczyć możemy m.in. Księgę Henrykowską z pierwszym zdaniem zapisanym w języku polskim.
URL:https://fonis.pl/wydarzenia/dzien-bialej-laski-2025/
ATTACH;FMTTYPE=image/jpeg:https://fonis.pl/wp-content/uploads/2024/10/Wyjscie-seniorow-do-Muzeum-Archidiecezjalnego.jpg
END:VEVENT
BEGIN:VEVENT
DTSTART;TZID=UTC:20251231T200000
DTEND;TZID=UTC:20260101T030000
DTSTAMP:20260425T133601
CREATED:20251127T175844Z
LAST-MODIFIED:20251127T175844Z
UID:194897-1767211200-1767236400@fonis.pl
SUMMARY:Sylwester 2025/2026
DESCRIPTION:Sylwester 2025/2026. Podobnie jak przed rokiem (Szaleństwa sylwestrowej nocy) i przed dwoma laty (Z nadzieją w nowy rok) i przed trzema laty (Szczęśliwego Nowego Roku 2023)\, tak i w tym roku\, zapraszamy do wspólnej zabawy w ostatni dzień roku kalendarzowego. Zaproszenie adresujemy do tych\, na których pomoc możemy liczyć na co dzień\, czyli do naszych wolontariuszy. Oni zaś mogą zabrać ze sobą osoby bliskie (na przykład mąż\, żona\, dzieci\, przyjaciele). Mile widziani będą również przyjaciele Fundacji FONIS. Mogą dołączyć do nas także inne osoby\, przy czym udział odpłatny. Wolontariusze płacą 20 zł/osoba\, zaś pozostałe osoby – 60 zł/osoba. \nSylwester 2025/2026 odbędzie się w Centrum Duszpasterskim Archidiecezji Wrocławskiej przy ulicy Katedralnej 4 we Wrocławiu. Spotkamy się w godzinach wieczornych na Ostrowie Tumskim\, aby wspólnie pożegnać stary rok i przywitać nowy. Najpierw o godz. 20.00 zaprosimy Was na krótkie nabożeństwo\, a następnie do wspólnej zabawy. Zakończenie planujemy w granicach godziny 2.00\, może 3.00. Kto wie\, może niektórzy będą chcieli poświętować do białego rana:) \nAby zapisać się na wydarzenie kontaktujcie się z nami mailowo (kontakt@fonis.pl) lub sms-owo (tel. 690 502 670). Zapisy potrwają do 24 grudnia 2025 roku. Przy zapisach prosimy o deklaracje od wolontariuszy w jakim zakresie możecie pomóc w organizacji (na przykład na upieczeniu ciasta\, zrobieniu sałatki\, kupieniu napojów\, owoców\, itp.). Jeśli ktoś z Was ma pomysł na przygotowanie jakiejś zabawy na sylwestrowy wieczór niech koniecznie powie o tym przy zapisach
URL:https://fonis.pl/wydarzenia/sylwester-2025-2026/
ATTACH;FMTTYPE=image/jpeg:https://fonis.pl/wp-content/uploads/2022/11/Sylwester-wolontariuszy.jpg
END:VEVENT
BEGIN:VEVENT
DTSTART;TZID=UTC:20260410T163000
DTEND;TZID=UTC:20260410T180000
DTSTAMP:20260425T133601
CREATED:20260327T173018Z
LAST-MODIFIED:20260327T173018Z
UID:195204-1775838600-1775844000@fonis.pl
SUMMARY:Gry planszowe i karciane – kwiecień 2026
DESCRIPTION:Gry planszowe i karciane – kwiecień 2026. Fundacja FONIS zaprasza na spotkanie w piątek 10 kwietnia 2026 roku na gry planszowe i karciane. Doświadczenie kilku lat spotkań w gronie niesłyszących i słabosłyszących pokazuje\, że wiele osób lubi ten rodzaj rozrywki. Podczas wspólnych wyjazdów czy też spotkań wolontariuszy wiele osób chętnie angażuje się w różne gry. Wobec tego postanowiliśmy na stałe w program pracy Fundacji FONIS wpisać takie wydarzenie. Odbywa się ono cyklicznie raz w miesiącu. Zapraszamy w każdy drugi piątek miesiąca do Centrum Duszpasterskiego Archidiecezji Wrocławskiej przy ulicy Katedralnej 4. W sali numer 2 od godziny 16.30 będą na Was czekać Klaudia i Ania – wolontariuszki Fundacji odpowiedzialne za organizację wydarzenia. Zaproszą Was także do skorzystania z bufetu\, czyli kawy\, herbaty i ciastka. \nW naszych zasobach są gry takie jak: Carcassonne\, Dog\, Miasto Stu Mostów. Oprócz tych planszowych mamy też karciane (między innymi Fasolki\, Wirus\, Double\, Uno) i zręcznościowe (na przykład Jenga\, Blokuś\, Ubongo). Oczywiście uczestnicy mogą ze sobą przynieść własne gry i nauczyć pozostałych uczestników zasad. \nA zatem serdecznie zapraszamy na gry planszowe i karciane – kwiecień 2026. Mile widziani są zarówno wolontariusze Fundacji FONIS\, jak i ci\, którzy do wolontariatu nie należą. Zapraszamy każdego bez względu na wiek\, ubytek słuchu lub jego brak czy narodowość.
URL:https://fonis.pl/wydarzenia/gry-planszowe-i-karciane-kwiecien-2026/
ATTACH;FMTTYPE=image/jpeg:https://fonis.pl/wp-content/uploads/2023/10/Piatkowe-granie-w-Fundacji-1.jpg
END:VEVENT
END:VCALENDAR