BEGIN:VCALENDAR
VERSION:2.0
PRODID:-//Fundacja Fonis - ECPv6.15.20//NONSGML v1.0//EN
CALSCALE:GREGORIAN
METHOD:PUBLISH
X-ORIGINAL-URL:https://fonis.pl
X-WR-CALDESC:Wydarzenia dla Fundacja Fonis
REFRESH-INTERVAL;VALUE=DURATION:PT1H
X-Robots-Tag:noindex
X-PUBLISHED-TTL:PT1H
BEGIN:VTIMEZONE
TZID:UTC
BEGIN:STANDARD
TZOFFSETFROM:+0000
TZOFFSETTO:+0000
TZNAME:UTC
DTSTART:20230101T000000
END:STANDARD
END:VTIMEZONE
BEGIN:VEVENT
DTSTART;TZID=UTC:20240209T163000
DTEND;TZID=UTC:20240209T180000
DTSTAMP:20260425T173314
CREATED:20240129T101630Z
LAST-MODIFIED:20240204T183145Z
UID:193029-1707496200-1707501600@fonis.pl
SUMMARY:Gry planszowe i karciane – luty 2024
DESCRIPTION:Gry planszowe i karciane – luty 2024. Fundacja FONIS zaprasza na spotkanie w piątek 9 lutego 2024 roku na gry planszowe i karciane. Doświadczenie kilku lat spotkań w gronie niesłyszących i słabosłyszących pokazuje\, że wiele osób lubi ten rodzaj rozrywki. Podczas wspólnych wyjazdów czy też spotkań wolontariuszy wiele osób chętnie angażowało się w różne gry. Wobec tego postanowiliśmy na stałe program pracy Fundacji FONIS wpisać takie wydarzenie. Będzie się ono odbywać cyklicznie raz w miesiącu. Zapraszamy w każdy drugi piątek miesiąca do Centrum Duszpasterskiego Archidiecezji Wrocławskiej przy ulicy Katedralnej 4. W sali numer 2 od godziny 16.30 będą na Was czekać Klaudia i Ania – wolontariuszki Fundacji odpowiedzialne za organizację wydarzenia. Zaproszą Was one także do skorzystania z bufetu\, czyli kawy\, herbaty i ciastka. \nW zasobach naszej Fundacji są gry takie jak: Carcassonne\, Dog\, Miasto Stu Mostów\, Ramzes. Oprócz tych planszowych mamy też karciane (między innymi Fasolki\, Wirus\, Double\, Uno) i zręcznościowe (na przykład Jenga\, Suspend). Oczywiście uczestnicy mogą ze sobą przynieść własne gry i nauczyć pozostałych uczestników zasad gry. \nA zatem serdecznie zapraszamy na gry planszowe i karciane – luty 2024. Mile widziani są zarówno wolontariusze Fundacji FONIS\, jak i ci\, którzy do wolontariatu nie należą. Zapraszamy każdego bez względu na wiek\, ubytek słuchu lub jego brak czy narodowość.
URL:https://fonis.pl/wydarzenia/gry-planszowe-i-karciane-luty-2024/
ATTACH;FMTTYPE=image/jpeg:https://fonis.pl/wp-content/uploads/2023/10/Piatkowe-granie-w-Fundacji-2.jpg
END:VEVENT
BEGIN:VEVENT
DTSTART;TZID=UTC:20240223T163000
DTEND;TZID=UTC:20240223T180000
DTSTAMP:20260425T173314
CREATED:20240129T102543Z
LAST-MODIFIED:20240204T183051Z
UID:193031-1708705800-1708711200@fonis.pl
SUMMARY:Spotkanie wolontariuszy – luty 2024
DESCRIPTION:Spotkanie wolontariuszy – luty 2024. Kolejne w tym roku spotkanie wolontariuszy Fundacji FONIS odbędzie się w piątek 23 lutego 2024 roku. Rozpocznie się jak zawsze o godz. 16.30\, zaś miejscem spotkania tradycyjnie już będzie Centrum Duszpasterskie Archidiecezji Wrocławskiej przy ulicy Katedralnej 4 na Ostrowie Tumskim we Wrocławiu. \nSpotkania wolontariuszy Fundacji FONIS na stałe wpisują się w kalendarz działań naszej organizacji. Spotykamy się zawsze w czwarty piątek miesiąca. Nie inaczej będzie tym razem. Lutowe spotkanie będzie okazją\, aby podsumować mijający miesiąc działań wolontaryjnych. Ale przede wszystkim będzie to czas\, aby omówić działania na marzec. Wśród nich będzie między innymi spotkanie integracyjne w marcu\, zajęcia Klubu Seniora\, a także początek przygotowań do festynu i inicjatyw wakacyjnych. \nPonieważ od września 2023 roku nieco przeorganizowaliśmy strukturę naszego wolontariatu\, na godzinę 16.30 zapraszamy osoby odpowiedzialne za poszczególne obszary działań wolontaryjnych. Przed ogólnym spotkaniem z wolontariuszami przygotujemy plan dla poszczególnych sekcji. \nSerdecznie zapraszamy więc na spotkanie wolontariuszy – luty 2024 nie tylko naszych stałych bywalców. Będziemy się także cieszyć\, jeśli do naszego grona dołączą nowe osoby. Mile widziane są zarówno osoby znające język migowy\, jak i te\, które dopiero chcą nauczyć się komunikować z niesłyszącymi i słabosłyszącymi. Spotkanie bowiem dostosujemy i do osób niesłyszących\, i do osób słyszących. A zatem serdecznie zapraszamy „pod 4” już 23 lutego 2024 roku! Do zobaczenia.
URL:https://fonis.pl/wydarzenia/spotkanie-wolontariuszy-luty-2024/
ATTACH;FMTTYPE=image/jpeg:https://fonis.pl/wp-content/uploads/2018/04/fonis-wolontariat-maly1.jpg
END:VEVENT
END:VCALENDAR