BEGIN:VCALENDAR
VERSION:2.0
PRODID:-//Fundacja Fonis - ECPv6.15.20//NONSGML v1.0//EN
CALSCALE:GREGORIAN
METHOD:PUBLISH
X-WR-CALNAME:Fundacja Fonis
X-ORIGINAL-URL:https://fonis.pl
X-WR-CALDESC:Wydarzenia dla Fundacja Fonis
REFRESH-INTERVAL;VALUE=DURATION:PT1H
X-Robots-Tag:noindex
X-PUBLISHED-TTL:PT1H
BEGIN:VTIMEZONE
TZID:UTC
BEGIN:STANDARD
TZOFFSETFROM:+0000
TZOFFSETTO:+0000
TZNAME:UTC
DTSTART:20220101T000000
END:STANDARD
END:VTIMEZONE
BEGIN:VEVENT
DTSTART;TZID=UTC:20231203T103000
DTEND;TZID=UTC:20231203T130000
DTSTAMP:20260425T203710
CREATED:20231116T083128Z
LAST-MODIFIED:20231116T083128Z
UID:192799-1701599400-1701608400@fonis.pl
SUMMARY:Spotkanie integracyjne – grudzień 2023
DESCRIPTION:Spotkanie integracyjne – grudzień 2023. Tradycją już jest\, że w każdą pierwszą niedzielę miesiąca zapraszamy Was na spotkanie integracyjne w Fundacji FONIS. W praktyce wygląda to tak\, że po Mszach Świętych w języku migowym w Duszpasterstwie Głuchoniemych i Niewidomych Archidiecezji Wrocławskiej w kościele NMP na Piasku idziemy “pod 4”. Tam zaś czeka na nas kawa\, herbata i ciastko\, czyli idealne warunku do spotkania integracyjnego. Oczywiście do udziału zapraszamy również tych\, którzy nie uczestniczą w niedzielnej Mszy. \nZapraszamy więc w pierwszą niedzielę grudnia (czyli 3 grudnia 2023 roku) na kolejne spotkanie. Odbędzie się ono w sali numer 15 na I piętrze w budynku Centrum Duszpasterskiego Archidiecezji Wrocławskiej przy ulicy Katedralnej 4 we Wrocławiu. Rozpoczynamy około godziny 10.30\, kończymy zaś wraz z wyjściem ostatnich gości. Jest to zwykle około godziny 13.00. \nSpotkanie integracyjne – grudzień 2023 to dobra okazja do integracji środowiska osób niesłyszących i słabosłyszących\, ale też ich rodzin i wolontariuszy. To również sprzyjające okoliczności dla osób słyszących\, które uczestniczyły w kursach polskiego języka migowego\, aby sprawdzić w praktyce swoje umiejętności. Zapraszamy zarówno mieszkańców Wrocławia\, jak również osoby z innych zakątków Dolnego Śląska i Polski. \nZa udział w przygotowaniu poczęstunku i w sprzątaniu po wydarzeniu serdecznie dziękujemy wolontariuszom Fundacji FONIS. \nA zatem serdecznie zapraszamy!
URL:https://fonis.pl/wydarzenia/spotkanie-integracyjne-grudzien-2023/
ATTACH;FMTTYPE=image/jpeg:https://fonis.pl/wp-content/uploads/2020/09/spotkanie-integracyjne-2-kwadrat-plan-A.jpg
END:VEVENT
BEGIN:VEVENT
DTSTART;TZID=UTC:20231231T190000
DTEND;TZID=UTC:20240101T020000
DTSTAMP:20260425T203710
CREATED:20231206T161201Z
LAST-MODIFIED:20231206T161201Z
UID:192881-1704049200-1704074400@fonis.pl
SUMMARY:Sylwester 2023/2024
DESCRIPTION:Sylwester 2023/2024. Podobnie jak przed rokiem (Szczęśliwego Nowego Roku 2023)\, tak i w tym roku\, zapraszamy do wspólnej zabawy w ostatni dzień roku kalendarzowego. Zaproszenie adresujemy do tych\, na których pomoc możemy liczyć na co dzień\, czyli do naszych wolontariuszy. Oni zaś mogą zabrać ze sobą osoby bliskie (na przykład mąż\, żona\, dzieci\, przyjaciele). Mile widziani będą również przyjaciele Fundacji FONIS. Mogą dołączyć do nas także inne osoby\, przy czym udział wolontariuszy jest bezpłatny\, zaś udział pozostałych osób odpłatny – 50 zł/osoba. \nSylwester 2023/2024 odbędzie się w Centrum Duszpasterskim Archidiecezji Wrocławskiej przy ulicy Katedralnej 4 we Wrocławiu. Spotkamy się w godzinach wieczornych na Ostrowie Tumskim\, aby wspólnie pożegnać stary rok i przywitać nowy. Najpierw o godz. 19.00 zaprosimy Was na krótkie nabożeństwo\, a następnie do wspólnej zabawy. Zakończenie planujemy w granicach godziny 2.00\, może 3.00. Kto wie\, może niektórzy będą chcieli poświętować do białego rana:) \nAby zapisać się na wydarzenie kontaktujcie się z naszą koordynatorką wolontariatu – Marią Gasiewicz. Zapisy potrwają do 24 grudnia 2023 roku. Po świętach zaś\, gdy już będziemy mieli kompletną listę uczestników\, Maria poprosi Was o pomoc w organizacji spotkania. Pomoc ta będzie polegała na przykład na upieczeniu ciasta\, zrobieniu sałatki\, kupieniu napojów\, owoców\, itp. Jeśli ktoś z Was ma pomysł na przygotowanie jakiejś zabawy na sylwestrowy wieczór niech koniecznie powie o tym Marii. Może jakieś ciekawe planszówki albo zabawa “Kocham Cię\, Polsko”… 🙂 A może jeszcze jakieś inne pomysły… \nA zatem do zobaczenia w sylwestrowy wieczór!
URL:https://fonis.pl/wydarzenia/sylwester-2023-2024/
ATTACH;FMTTYPE=image/jpeg:https://fonis.pl/wp-content/uploads/2022/11/Sylwester-wolontariuszy.jpg
END:VEVENT
END:VCALENDAR