BEGIN:VCALENDAR
VERSION:2.0
PRODID:-//Fundacja Fonis - ECPv6.15.18//NONSGML v1.0//EN
CALSCALE:GREGORIAN
METHOD:PUBLISH
X-ORIGINAL-URL:https://fonis.pl
X-WR-CALDESC:Wydarzenia dla Fundacja Fonis
REFRESH-INTERVAL;VALUE=DURATION:PT1H
X-Robots-Tag:noindex
X-PUBLISHED-TTL:PT1H
BEGIN:VTIMEZONE
TZID:UTC
BEGIN:STANDARD
TZOFFSETFROM:+0000
TZOFFSETTO:+0000
TZNAME:UTC
DTSTART:20230101T000000
END:STANDARD
END:VTIMEZONE
BEGIN:VEVENT
DTSTART;TZID=UTC:20241106T160000
DTEND;TZID=UTC:20241106T173000
DTSTAMP:20260424T205718
CREATED:20241021T180914Z
LAST-MODIFIED:20241021T181504Z
UID:193764-1730908800-1730914200@fonis.pl
SUMMARY:Spotkanie integracyjno-edukacyjne
DESCRIPTION:Serdecznie zapraszamy na spotkanie integracyjno-edukacyjne\, podczas którego zaprezentujemy zdjęcia z wycieczki do Łodzi. Do udziału zapraszamy nie tylko seniorów\, którzy uczestniczyli w wycieczce. Mile widziani będą również ci\, którzy z różnych powodów nie pojechali z nami. \nSpotkanie integracyjno-edukacyjne odbędzie się w środę 6 listopada 2024 roku o godzinie 16.00. Zapraszamy do sali numer 5 w budynku Centrum Duszpasterskiego Archidiecezji Wrocławskiej przy ulicy Katedralnej 4\, czyli na wrocławski Ostrów Tumski. \nSpotkanie będzie miało podwójny charakter. Po pierwsze będzie przestrzenią do integracji\, czyli do rozmów przy kawie\, herbacie i ciastku. Po drugie będzie miało wymiar edukacyjny. Zebranym przybliżymy historię miasta Łodzi oraz historię łódzkiego włókiennictwa. Zrobimy to podczas prezentacji zdjęć z październikowej wycieczki. Powiemy więc o kilku charakterystycznych miejscach (Księży Młyn\, Centralne Muzeum Włókiennictwa i Manufaktura)\, a także o kilku wybitnych i ważnych dla historii Łodzi postaciach (Ludwik Geyer\, Karol Scheibler i Izrael Poznański). Oczywiście treści będą przekazywane w Polskim Języku Migowym\, dzięki czemu wydarzenie będzie dostępne dla osób niesłyszących i słabosłyszących. \nA zatem zapraszamy serdecznie w pierwszą środę listopada „pod 4”. Mamy nadzieję\, że licznie odpowiecie na nasze zaproszenie. \n \nWydarzenie odbędzie się w ramach realizacji zadania publicznego „DZIAŁANIA NA RZECZ WROCŁAWSKICH SENIORÓW W FORMIE WYJAZDÓW REKREACYJNYCH – Niesłyszący senior poznaje Polskę” współfinansowanego ze środków Gminy Wrocław (www.wroclaw.pl).
URL:https://fonis.pl/wydarzenia/spotkanie-integracyjno-edukacyjne/
ATTACH;FMTTYPE=image/jpeg:https://fonis.pl/wp-content/uploads/2024/10/Wycieczka-do-Lodzi-3.jpg
END:VEVENT
BEGIN:VEVENT
DTSTART;TZID=UTC:20241122T113000
DTEND;TZID=UTC:20241122T130000
DTSTAMP:20260424T205719
CREATED:20241031T064844Z
LAST-MODIFIED:20241031T064844Z
UID:193813-1732275000-1732280400@fonis.pl
SUMMARY:Warsztaty graficzne dla seniorów
DESCRIPTION:Warsztaty graficzne dla seniorów. Niesłyszących i słabosłyszących członków Klubu Seniora „Integracja” działającego przy Fundacji FONIS serdecznie zapraszamy po raz pierwszy na warsztaty graficzne. Warsztaty odbędą się w piątek 22 listopada 2024 roku w Centrum Duszpasterskim Archidiecezji Wrocławskiej przy ul. Katedralnej 4. Zajęcia potrwają półtorej godziny. Rozpoczniemy je o godz. 11.30\, zakończymy natomiast o godz. 13.00. \nW trakcie warsztatów graficznych uczestnicy będą mieli możliwość stworzenia autorskich projektów. Wykonają własne odbitki graficzne w technice linorytu\, a także rozwiną swoje zdolności motoryczne. „W fascynującym świecie grafiki artystycznej” to warsztat\, który składał się będzie z dziesiątek dziwnych narzędzi. Będą nimi rylce\, wałki\, ale też farby i mikstury. \nWarsztaty graficzne poprowadzi zaprzyjaźniona z naszym klubem seniora pani Kinga Łaska. Jest absolwentką ASP\, a od kilkunastu już lat prowadzi zajęcia warsztatowe dla różnych grup. Na co dzień zaś jest pracownikiem edukacyjnym w Muzeum Pana Tadeusza we Wrocławiu i realizuje różne projekty edukacyjne. \nUdział w warsztatach jest bezpłatny\, ale ze względów organizacyjno-technicznych konieczne są zapisy. Aby zapisać się na warsztaty\, prosimy o kontakt z panią Elżbietą Gorgoń (tel. 502 765 302). Mamy dla Was 15 miejsc. A zatem bardzo serdecznie zapraszamy! \nWarsztaty graficzne dla seniorów zorganizujemy w ramach realizacji zadania publicznego: „Działania na rzecz wrocławskich seniorów w 2024 roku – Aktywny senior” współfinansowanego ze środków Gminy Wrocław (www.wroclaw.pl).
URL:https://fonis.pl/wydarzenia/warsztaty-graficzne-dla-seniorow/
ATTACH;FMTTYPE=image/jpeg:https://fonis.pl/wp-content/uploads/2024/10/warsztaty-graficzne.jpg
END:VEVENT
END:VCALENDAR