BEGIN:VCALENDAR
VERSION:2.0
PRODID:-//Fundacja Fonis - ECPv6.15.18//NONSGML v1.0//EN
CALSCALE:GREGORIAN
METHOD:PUBLISH
X-WR-CALNAME:Fundacja Fonis
X-ORIGINAL-URL:https://fonis.pl
X-WR-CALDESC:Wydarzenia dla Fundacja Fonis
REFRESH-INTERVAL;VALUE=DURATION:PT1H
X-Robots-Tag:noindex
X-PUBLISHED-TTL:PT1H
BEGIN:VTIMEZONE
TZID:UTC
BEGIN:STANDARD
TZOFFSETFROM:+0000
TZOFFSETTO:+0000
TZNAME:UTC
DTSTART:20230101T000000
END:STANDARD
END:VTIMEZONE
BEGIN:VEVENT
DTSTART;TZID=UTC:20241006T103000
DTEND;TZID=UTC:20241006T130000
DTSTAMP:20260424T223322
CREATED:20240918T090633Z
LAST-MODIFIED:20240918T090633Z
UID:193640-1728210600-1728219600@fonis.pl
SUMMARY:Spotkanie integracyjne – październik 2024
DESCRIPTION:Spotkanie integracyjne – październik 2024. Tradycją już jest\, że w każdą pierwszą niedzielę miesiąca zapraszamy Was na spotkanie integracyjne w Fundacji FONIS. W praktyce wygląda to tak\, że po Mszach Świętych w języku migowym w Duszpasterstwie Niesłyszących w kościele NMP na Piasku idziemy “pod 4”. Tam zaś czeka na nas kawa\, herbata i ciastko\, czyli doskonałe warunki do spotkania integracyjnego. Oczywiście do udziału zapraszamy również tych\, którzy nie uczestniczą w niedzielnej Mszy. \nZapraszamy więc w pierwszą niedzielę października (czyli 6 października 2024 roku) na kolejne spotkanie. Odbędzie się ono w sali numer 15 na I piętrze w budynku Centrum Duszpasterskiego Archidiecezji Wrocławskiej przy ulicy Katedralnej 4 we Wrocławiu. Spotkanie rozpoczynamy około godziny 10.30\, kończymy zaś wraz z wyjściem ostatnich gości. Jest to zwykle już po godzinie 13.00. \nSpotkanie integracyjne – październik 2024 to dobra okazja do integracji środowiska osób niesłyszących i słabosłyszących\, ale też ich rodzin i wolontariuszy. To również sprzyjające okoliczności dla osób słyszących\, które uczestniczyły w kursach polskiego języka migowego\, aby sprawdzić w praktyce swoje umiejętności. Zapraszamy zarówno mieszkańców Wrocławia\, jak również osoby z innych zakątków Dolnego Śląska i Polski. \nZa udział w przygotowaniu poczęstunku i w sprzątaniu po wydarzeniu serdecznie dziękujemy wolontariuszom Fundacji FONIS. A zatem serdecznie zapraszamy! Do zobaczenia
URL:https://fonis.pl/wydarzenia/spotkanie-integracyjne-pazdziernik-2024/
ATTACH;FMTTYPE=image/jpeg:https://fonis.pl/wp-content/uploads/2020/09/spotkanie-integracyjne-2-kwadrat-plan-A.jpg
END:VEVENT
BEGIN:VEVENT
DTSTART;TZID=UTC:20241008T114500
DTEND;TZID=UTC:20241008T142000
DTSTAMP:20260424T223322
CREATED:20240926T084540Z
LAST-MODIFIED:20240926T084540Z
UID:193681-1728387900-1728397200@fonis.pl
SUMMARY:Migamy razem w SP7 we Wrocławiu
DESCRIPTION:Migamy razem w SP7 we Wrocławiu. Wraz z początkiem września Fundacja FONIS rozpoczęła realizację projektu „Migamy razem”. Pierwsze warsztatowe zajęcia zaplanowaliśmy w Szkole Podstawowej nr 7 im. rtm. Witolda Pileckiego we Wrocławiu. We wtorek 8 października 2024 roku placówkę oświatową przy alei Aleksandra Brücknera odwiedzi nasz edukator. Przy wsparciu wolontariuszy Fundacji poprowadzi zajęcia dla trzech grup. Będą to dwie lekcje w klasach drugich oraz jedna godzina dla szkolnego koło wolontariatu. \nPodczas warsztatów najpierw zaprosimy uczestników do zabawy\, w czasie której będą mogły doświadczyć\, jak ważną rolę w życiu człowieka pełni zmysł słuchu. Następnie zaprezentujemy urządzenia techniczne\, które pomagają osobom z wadą słuchu (aparat słuchowy\, implant ślimakowy) w codziennym funkcjonowaniu. W kolejnej części skupimy się na osobach Głuchych\, które w komunikacji używają Polskiego Języka Migowego. Nauczymy dzieci daktylografii\, czyli polskiego alfabetu migowego. Zaprezentujemy także kilka znaków ideograficznych i podstawowe zasady savoir-vivru w kontakcie z osobami niesłyszącymi i słabosłyszącymi. Jeśli tylko wystarczy nam czasu\, to na pewno stworzymy przestrzeń\, gdzie dzieci będą mogły zadawać nam pytania. Na zakończenie zajęć każdy z uczestników otrzyma ulotkę z polskim alfabetem palcowym. \nWarsztaty „Migamy razem w SP7 we Wrocławiu” odbędą się w ramach realizacji przez Fundację FONIS z Wrocławia zadania publicznego „MIGAMY RAZEM” współfinansowanego ze środków finansowych PFRON będących w dyspozycji MOPS (www.mops.wroclaw.pl).
URL:https://fonis.pl/wydarzenia/migamy-razem-w-sp7-we-wroclawiu/
ATTACH;FMTTYPE=image/jpeg:https://fonis.pl/wp-content/uploads/2023/10/Z-okazji-Dnia-Gluchych-w-Olawie2.jpg
END:VEVENT
BEGIN:VEVENT
DTSTART;TZID=UTC:20241012T063000
DTEND;TZID=UTC:20241012T190000
DTSTAMP:20260424T223322
CREATED:20240930T143651Z
LAST-MODIFIED:20240930T143719Z
UID:193703-1728714600-1728759600@fonis.pl
SUMMARY:Piesza Pielgrzymka do Trzebnicy 2024
DESCRIPTION:Piesza Pielgrzymka do Trzebnicy 2024. Serdecznie zapraszamy – nie tylko wolontariuszy Fundacji FONIS – do udziału w tegorocznej pieszej pielgrzymce do Trzebnicy. Celem jest sanktuarium świętej Jadwigi Śląskiej\, która patronuje ziemi dolnośląskiej.\nPielgrzymka wyruszy wczesnym rankiem w sobotę 12 października 2023 roku. Nasza grupa spotyka się o godzinie 6.30 przy ul. Katedralnej 4. Stąd – wraz z około 10 tysiącami innych ludzi (bo zwykle tyle ludzi uczestniczy w pielgrzymce) – wyruszymy na około 30 kilometrową trasę. Organizatorzy podzielili ją na cztery etapy. Po ostatnim\, już na zakończenie (około godziny 16.30) będziemy uczestniczyć we Mszy Świętej przy ołtarzu polowym w Trzebnicy. Będzie jej przewodniczył arcybiskup Tadeusz Wojda SAC\, przewodniczący Konferencji Episkopatu Polski.\nSzczegółowy program pielgrzymki znajdziecie na stronie www.pielgrzymka.pl. Udział jest bezpłatny. Osoby\, które będą uczestniczyć w pielgrzymce proszone są o kontakt z ks. Tomaszem Filinowiczem. Ksiądz bowiem będzie organizował transport powrotny do Wrocławia.\nDla tych\, którzy będą po raz pierwszy pielgrzymować to Trzebnicy mamy kilka podpowiedzi. Po pierwsze warto zabrać ze sobą ciepłe ubranie\, gdyż poranki i wieczory w październiku bywają chłodne. Ponadto warto też zabrać termos z herbatą i wyżywienie na cały dzień. Przydatnym będzie również coś na czym będziecie mogli usiąść na postojach (na przykład karimata).\nPiesza Pielgrzymka do Trzebnicy 2024 odbędzie się pod hasłem: “Jesteśmy Kościołem”. Do udziału zapraszamy nie tylko osoby indywidualne\, ale też całe rodziny. Do zobaczenia!
URL:https://fonis.pl/wydarzenia/piesza-pielgrzymka-do-trzebnicy-2024/
ATTACH;FMTTYPE=image/jpeg:https://fonis.pl/wp-content/uploads/2024/09/Piesza-Pielgrzymka-do-Trzebnicy-2024.jpg
END:VEVENT
BEGIN:VEVENT
DTSTART;TZID=UTC:20241024T100000
DTEND;TZID=UTC:20241024T133000
DTSTAMP:20260424T223322
CREATED:20240924T201135Z
LAST-MODIFIED:20240924T201135Z
UID:193665-1729764000-1729776600@fonis.pl
SUMMARY:Warsztaty malarskie dla seniorów
DESCRIPTION:Warsztaty malarskie dla seniorów. Kolejną jesienną propozycją dla niesłyszących i słabosłyszących członków Klubu Seniora „Integracja” są warsztaty malarskie. Zajęcia odbędą się w czwartek 24 października 2024 roku w zaprzyjaźnionej z Fundacją FONIS Pracowni Ceramiki w podwrocławskim Domaszczynie. Zajęcia potrwają 1\,5 godziny. Rozpoczniemy je o godz. 11.00\, natomiast zakończymy o godz. 12.30. Wyjeżdżamy z Wrocławia o godz. 10.00\, wracamy zaś ok. godz. 13.30. Uczestnicy zbiorą się na Ostrowie Tumskim przy ul. św. Marcina\, aby wspólnie pojechać do Domaszczyna na zajęcia warsztatowe. Ze względów organizacyjnych konieczne są zapisy. Grupa warsztatowa może liczyć maksymalnie 14 osób. Zapisać można się u p. Elżbiety Gorgoń – opiekuna Klubu Seniora „Integracja”. \nPlener malarski pod hasłem „W rytmie pór roku” pozwoli uczestnikom zapoznać się z techniką malowania farbami akwarelowymi i akrylowymi. Ponadto uczestnicy nauczą się podstawowych zasad tworzenia obrazów takich jak dobieranie odpowiednich farb i pędzli\, malowanie od ogółu do szczegółu\, zachowanie proporcji\, a także perspektywy. Efektem zaś będą piękne prace wykonane na podobraziu malarskim. \nZajęcia poprowadzi znana już dobrze naszym seniorom pani Marta Lejman-Trzcińska. Jest arteterapeutką i ceramiczką\, absolwentką Akademii Sztuk Pięknych we Wrocławiu. Ma wieloletnie doświadczenie w pracy twórczej nie tylko z dziećmi i dorosłymi\, ale również z osobami niepełnosprawnymi. \nWarsztaty malarskie dla seniorów odbędą się w ramach realizacji zadania publicznego: „Działania na rzecz wrocławskich seniorów w 2024 roku – Aktywny senior” współfinansowanego ze środków Gminy Wrocław (www.wroclaw.pl).
URL:https://fonis.pl/wydarzenia/warsztaty-malarskie-dla-seniorow/
ATTACH;FMTTYPE=image/jpeg:https://fonis.pl/wp-content/uploads/2024/09/Warsztaty-malarskie-dla-seniorow.jpg
END:VEVENT
BEGIN:VEVENT
DTSTART;TZID=UTC:20241025T170000
DTEND;TZID=UTC:20241025T180000
DTSTAMP:20260424T223322
CREATED:20241002T174503Z
LAST-MODIFIED:20241002T174503Z
UID:193712-1729875600-1729879200@fonis.pl
SUMMARY:Spotkanie wolontariuszy – październik 2024
DESCRIPTION:Spotkanie wolontariuszy – październik 2024. Drugie w tym roku szkolnym spotkanie wolontariuszy Fundacji FONIS odbędzie się w piątek 25 października 2024 roku o godz. 17.00. Spotykamy się tradycyjnie już w Centrum Duszpasterskim Archidiecezji Wrocławskiej przy ulicy Katedralnej 4 na Ostrowie Tumskim we Wrocławiu. \nSpotkania wolontariuszy Fundacji FONIS na stałe wpisują się w kalendarz działań naszej organizacji. Spotykamy się zawsze w czwarty piątek miesiąca. Nie inaczej będzie tym razem. Październikowe spotkanie będzie okazją\, aby podsumować mijający miesiąc działań wolontaryjnych. Ale przede wszystkim będzie to czas\, aby omówić działania na listopad\, a także zacząć już planować organizację tegorocznego spotkania mikołajkowego dla dzieci. Pewnie\, jak co roku\, będzie się cieszyło ogromnym zainteresowaniem wśród naszych podopiecznych. \nPonieważ od września 2023 roku nieco przeorganizowaliśmy strukturę naszego wolontariatu\, na godzinę 16.45 zapraszamy osoby odpowiedzialne za poszczególne obszary działań wolontaryjnych. Przed ogólnym spotkaniem z wolontariuszami przygotujemy plan dla poszczególnych sekcji. \nSerdecznie zapraszamy więc na spotkanie wolontariuszy – październik 2024 nie tylko naszych stałych bywalców. Będziemy się także cieszyć\, jeśli do naszego grona dołączą nowe osoby. Mile widziane są zarówno osoby znające język migowy\, jak i te\, które dopiero chcą nauczyć się komunikować z niesłyszącymi i słabosłyszącymi. Spotkanie bowiem dostosujemy i do osób niesłyszących\, i do osób słyszących. A zatem serdecznie zapraszamy „pod 4” już 25 października 2024 roku! Do zobaczenia.
URL:https://fonis.pl/wydarzenia/spotkanie-wolontariuszy-pazdziernik-2024/
ATTACH;FMTTYPE=image/jpeg:https://fonis.pl/wp-content/uploads/2018/04/fonis-wolontariat-maly1.jpg
END:VEVENT
END:VCALENDAR