BEGIN:VCALENDAR
VERSION:2.0
PRODID:-//Fundacja Fonis - ECPv6.15.18//NONSGML v1.0//EN
CALSCALE:GREGORIAN
METHOD:PUBLISH
X-ORIGINAL-URL:https://fonis.pl
X-WR-CALDESC:Wydarzenia dla Fundacja Fonis
REFRESH-INTERVAL;VALUE=DURATION:PT1H
X-Robots-Tag:noindex
X-PUBLISHED-TTL:PT1H
BEGIN:VTIMEZONE
TZID:UTC
BEGIN:STANDARD
TZOFFSETFROM:+0000
TZOFFSETTO:+0000
TZNAME:UTC
DTSTART:20230101T000000
END:STANDARD
END:VTIMEZONE
BEGIN:VEVENT
DTSTART;TZID=UTC:20240901T103000
DTEND;TZID=UTC:20240901T130000
DTSTAMP:20260425T001923
CREATED:20240817T181849Z
LAST-MODIFIED:20240817T181849Z
UID:193564-1725186600-1725195600@fonis.pl
SUMMARY:Spotkanie integracyjne – wrzesień 2024
DESCRIPTION:Spotkanie integracyjne – wrzesień 2024. Tradycją już jest\, że w każdą pierwszą niedzielę miesiąca zapraszamy Was na spotkanie integracyjne w Fundacji FONIS. W praktyce wygląda to tak\, że po Mszach Świętych w języku migowym w Duszpasterstwie Niesłyszących w kościele NMP na Piasku idziemy “pod 4”. Tam zaś czeka na nas kawa\, herbata i ciastko\, czyli doskonałe warunki do spotkania integracyjnego. Oczywiście do udziału zapraszamy również tych\, którzy nie uczestniczą w niedzielnej Mszy. \nZapraszamy więc w pierwszą niedzielę września (czyli 1 września 2024 roku) na kolejne spotkanie. Odbędzie się ono w sali numer 15 na I piętrze w budynku Centrum Duszpasterskiego Archidiecezji Wrocławskiej przy ulicy Katedralnej 4 we Wrocławiu. Spotkanie rozpoczynamy około godziny 10.30\, kończymy zaś wraz z wyjściem ostatnich gości. Jest to zwykle już po godzinie 13.00. \nSpotkanie integracyjne – wrzesień 2024 to dobra okazja do integracji środowiska osób niesłyszących i słabosłyszących\, ale też ich rodzin i wolontariuszy. To również sprzyjające okoliczności dla osób słyszących\, które uczestniczyły w kursach polskiego języka migowego\, aby sprawdzić w praktyce swoje umiejętności. Zapraszamy zarówno mieszkańców Wrocławia\, jak również osoby z innych zakątków Dolnego Śląska i Polski. \nZa udział w przygotowaniu poczęstunku i w sprzątaniu po wydarzeniu serdecznie dziękujemy wolontariuszom Fundacji FONIS. A zatem serdecznie zapraszamy! Do zobaczenia
URL:https://fonis.pl/wydarzenia/spotkanie-integracyjne-wrzesien-2024/
ATTACH;FMTTYPE=image/jpeg:https://fonis.pl/wp-content/uploads/2020/09/spotkanie-integracyjne-2-kwadrat-plan-A.jpg
END:VEVENT
BEGIN:VEVENT
DTSTART;TZID=UTC:20240911T100000
DTEND;TZID=UTC:20240911T110000
DTSTAMP:20260425T001923
CREATED:20240831T183127Z
LAST-MODIFIED:20240831T183127Z
UID:193593-1726048800-1726052400@fonis.pl
SUMMARY:Rejs statkiem
DESCRIPTION:Tradycją w Klubie Seniora „Integracja” stało się już\, że w zasadzie co roku wybieramy się na rejs statkiem po wrocławskiej rzece Odrze. Zapraszamy więc po raz kolejny członków naszego Klubu na taki właśnie rejs. Wycieczka odbędzie się w środę 11 września 2024 roku. \nPopłyniemy z Przystani Kardynalskiej na Ostrowie Tumskim. Rejs potrwa około jednej godziny\, a rozpocznie się o godzinie 10.00 lub kilkanaście minut później. I tak jak zawsze konieczne są zapisy. Zapisać można się u p. Elżbiety Gorgoń (tel. 502 765 302) do dnia 10 września 2024. \nSeniorzy spotkają się o godz. 9.30 „pod 4” i razem przejdą na Przystań Kardynalską\, aby wyruszyć w rejs statkiem po Odrze. Prosimy również o zabranie ze sobą legitymacji osoby niepełnosprawnej. \nDla niewtajemniczonych dodajmy\, że Przystań Kardynalska znajduje się przy Bulwarze Włostowica na Wyspie Piaskowej na Ostrowie Tumskim. Deptak spacerowy został zbudowany i otwarty dla zwiedzających w 1998 roku. Na przystani również znajduje się tabliczka upamiętniająca wysokość wody i datę powodzi z 1997 roku. Ze względu na położenie\, przystań nazwano „Przystanią Kardynalską”. Natomiast od 2016 roku przystań ta została przystosowana dla osób niepełnosprawnych! \nA zatem serdecznie zapraszamy!   \nRejs statkiem odbędzie się w ramach realizacji zadania publicznego: „Działania na rzecz wrocławskich seniorów w 2024 roku – Aktywny senior” współfinansowanego ze środków Gminy Wrocław (www.wroclaw.pl).
URL:https://fonis.pl/wydarzenia/rejs-statkiem/
ATTACH;FMTTYPE=image/jpeg:https://fonis.pl/wp-content/uploads/2023/08/Rejs-z-tecza-na-niebie1.jpg
END:VEVENT
BEGIN:VEVENT
DTSTART;TZID=UTC:20240913T163000
DTEND;TZID=UTC:20240913T180000
DTSTAMP:20260425T001923
CREATED:20240823T130320Z
LAST-MODIFIED:20240823T130320Z
UID:193571-1726245000-1726250400@fonis.pl
SUMMARY:Gry planszowe i karciane – wrzesień 2024
DESCRIPTION:Gry planszowe i karciane – wrzesień 2024. Fundacja FONIS zaprasza na spotkanie w piątek 13 września 2024 roku na gry planszowe i karciane. Doświadczenie kilku lat spotkań w gronie niesłyszących i słabosłyszących pokazuje\, że wiele osób lubi ten rodzaj rozrywki. Podczas wspólnych wyjazdów czy też spotkań wolontariuszy wiele osób chętnie angażowało się w różne gry. Wobec tego postanowiliśmy na stałe program pracy Fundacji FONIS wpisać takie wydarzenie. Będzie się ono odbywać cyklicznie raz w miesiącu. Zapraszamy w każdy drugi piątek miesiąca do Centrum Duszpasterskiego Archidiecezji Wrocławskiej przy ulicy Katedralnej 4. W sali numer 2 od godziny 16.30 będą na Was czekać Klaudia i Ania – wolontariuszki Fundacji odpowiedzialne za organizację wydarzenia. Zaproszą Was one także do skorzystania z bufetu\, czyli kawy\, herbaty i ciastka. \nW zasobach naszej Fundacji są gry takie jak: Carcassonne\, Dog\, Miasto Stu Mostów\, Ramzes. Oprócz tych planszowych mamy też karciane (między innymi Fasolki\, Wirus\, Double\, Uno) i zręcznościowe (na przykład Jenga\, Suspend). Oczywiście uczestnicy mogą ze sobą przynieść własne gry i nauczyć pozostałych uczestników zasad gry. \nA zatem serdecznie zapraszamy na gry planszowe i karciane – wrzesień 2024. Mile widziani są zarówno wolontariusze Fundacji FONIS\, jak i ci\, którzy do wolontariatu nie należą. Zapraszamy każdego bez względu na wiek\, ubytek słuchu lub jego brak czy narodowość.
URL:https://fonis.pl/wydarzenia/gry-planszowe-i-karciane-wrzesien-2024/
ATTACH;FMTTYPE=image/jpeg:https://fonis.pl/wp-content/uploads/2023/10/Piatkowe-granie-w-Fundacji-2.jpg
END:VEVENT
BEGIN:VEVENT
DTSTART;TZID=UTC:20240927T170000
DTEND;TZID=UTC:20240927T183000
DTSTAMP:20260425T001923
CREATED:20240902T083012Z
LAST-MODIFIED:20240902T083058Z
UID:193612-1727456400-1727461800@fonis.pl
SUMMARY:Spotkanie wolontariuszy – wrzesień 2024
DESCRIPTION:Spotkanie wolontariuszy – wrzesień 2024. Pierwsze po wakacyjnej przerwie spotkanie wolontariuszy Fundacji FONIS odbędzie się w piątek 27 września 2024 roku o godz. 17.00. Spotykamy się tradycyjnie już w Centrum Duszpasterskim Archidiecezji Wrocławskiej przy ul. Katedralnej 4. \nSpotkania wolontariuszy Fundacji FONIS na stałe wpisują się w kalendarz działań naszej organizacji. Już od trzech lat spotykamy się zawsze w czwarty piątek miesiąca. Spotkanie składa się z dwóch części. Pierwsza to tzw. spotkanie robocze\, w czasie którego omawiamy i planujemy działania na najbliższy miesiąc. Wrześniowe spotkanie będzie okazją\, aby omówić zbliżający się Międzynarodowy Dzień Głuchych 2024. Powiemy też o rozpoczynających się kursach języka migowego\, a także o kursie finansowym Crown. Każdy będzie mógł znaleźć w grafiku coś dla siebie i zaplanować włączenie się w nasze działania. Natomiast po spotkaniu roboczym uczestnicy spędzają zwykle jeszcze ze sobą czas na długich rozmowach w życzliwej atmosferze. \nSerdecznie zapraszamy więc na spotkanie wolontariuszy – wrzesień 2024 naszych stałych bywalców\, ale także będziemy się cieszyć\, jeśli do naszego grona dołączą nowe osoby. Mile widziane są zarówno osoby znające język migowy\, jak i te\, które dopiero chcą nauczyć się komunikować z niesłyszącymi. Spotkanie bowiem dostosowane jest i do osób niesłyszących\, i do osób słyszących. A zatem serdecznie zapraszamy „pod 4” już 27 września 2024 roku!
URL:https://fonis.pl/wydarzenia/spotkanie-wolontariuszy-wrzesien-2024/
ATTACH;FMTTYPE=image/jpeg:https://fonis.pl/wp-content/uploads/2023/06/Wolontariat-Fundacja-FONIS.jpg
END:VEVENT
BEGIN:VEVENT
DTSTART;TZID=UTC:20240928T100000
DTEND;TZID=UTC:20240928T150000
DTSTAMP:20260425T001923
CREATED:20240902T082336Z
LAST-MODIFIED:20240925T191506Z
UID:193609-1727517600-1727535600@fonis.pl
SUMMARY:Dzień Głuchych w Muzeum Motoryzacji
DESCRIPTION:Dzień Głuchych w Muzeum Motoryzacji. W ostatnią niedzielę września obchodzimy Międzynarodowy Dzień Głuchych i Języka Migowego. To święto ustanowione w 1958 roku\, aby zwrócić uwagę na prawa i osiągnięcia\, ale także problemy i trudności\, z jakimi zmagają się na co dzień osoby niesłyszące. Na świecie jest około 70 milionów osób głuchych. Prawie 80% z nich mieszka w krajach rozwijających się\, dlatego nie może liczyć na odpowiednie warunki do rozwoju. \nW Polsce aktualnie żyje około 50 tys. osób z uszkodzeniami słuchu w stopniu znacznym i głębokim oraz około 800-900 tys. osób z uszkodzeniem słuchu w stopniu umiarkowanym. Dane te nie uwzględniają osób z uszkodzeniami słuchu w stopniu lekkim\, ponieważ te osoby nie są objęte żadnymi rejestrami. Ich liczbę można ocenić jedynie w dużym przybliżeniu na około 3 miliony. \nW tym roku z okazji Międzynarodowego Dnia Głuchych zapraszamy do udziału w wycieczce do Muzeum Motoryzacji w Oławie. Jednodniowy wyjazd zaplanowaliśmy na sobotę 28 września. Startujemy z parkingu przy ul. Św. Marcina o godz. 10.00. \nDzięki wsparciu finansowemu\, jakie Fundacja otrzymała od Credit Agricole Bank Polska\, udział w wycieczce jest bezpłatny\, ale trzeba się wcześniej zapisać (tel. 690 502 670 lub mail: kontakt@fonis.pl). Nie zwlekajcie z zapisami\, bo mamy tylko 50 miejsc 🙂 \nMuzeum Motoryzacji w Oławie działa od 19 czerwca 2024 roku. Na 7000 m2 powierzchni prezentowanych jest 459 samochodów. Są tam również 192 rowery\, 100 motocykli\, 33000 przedmiotów PRL\, 60 nowych pojazdów\, 12 traktorów i 55 fiaty 126 p.
URL:https://fonis.pl/wydarzenia/dzien-gluchych-w-muzeum-motoryzacji/
ATTACH;FMTTYPE=image/jpeg:https://fonis.pl/wp-content/uploads/2024/09/Dzien-Gluchych-w-Muzeum-Motoryzacji.jpg
END:VEVENT
END:VCALENDAR