BEGIN:VCALENDAR
VERSION:2.0
PRODID:-//Fundacja Fonis - ECPv6.15.18//NONSGML v1.0//EN
CALSCALE:GREGORIAN
METHOD:PUBLISH
X-WR-CALNAME:Fundacja Fonis
X-ORIGINAL-URL:https://fonis.pl
X-WR-CALDESC:Wydarzenia dla Fundacja Fonis
REFRESH-INTERVAL;VALUE=DURATION:PT1H
X-Robots-Tag:noindex
X-PUBLISHED-TTL:PT1H
BEGIN:VTIMEZONE
TZID:UTC
BEGIN:STANDARD
TZOFFSETFROM:+0000
TZOFFSETTO:+0000
TZNAME:UTC
DTSTART:20170101T000000
END:STANDARD
END:VTIMEZONE
BEGIN:VEVENT
DTSTART;TZID=UTC:20250607T140000
DTEND;TZID=UTC:20250607T180000
DTSTAMP:20260424T023408
CREATED:20250515T085256Z
LAST-MODIFIED:20250515T085256Z
UID:194292-1749304800-1749319200@fonis.pl
SUMMARY:XVI Niepowtarzalne Spotkanie
DESCRIPTION:Zapraszamy na XVI Niepowtarzalne Spotkanie. Po dość długiej\, bo prawie trzyletniej przerwie\, wracamy z zaproszeniem na kolejne niepowtarzalne spotkanie. Adresujemy je do osób niesłyszących i słabosłyszących oraz związanych ze światem ciszy. \nSpotkanie zaplanowaliśmy na sobotę 7 czerwca 2025 roku\, czyli w przeddzień festynu św. Filipa Smaldone. Rozpoczniemy je o godzinie 14.00 w sali nr 13 (I piętro) w Centrum Duszpasterskim Archidiecezji Wrocławskiej przy ul. Katedralnej 4. Najpierw uczestnicy spotkają się z p. Krzysztofem Lisem\, który jest specjalistą od domowego survivalu. Opowie jak sobie radzić w awaryjnych sytuacjach typu awaria prądu\, terminala płatniczego\, zalanie mieszkania\, czy też podczas powodzi stulecia. Oczywiście Fundacja FONIS zadba\, aby wszystko było przetłumaczone na PJM\, czyli polski język migowy. \nW drugiej części zaprosimy uczestników na kawę\, herbatę i ciastko. Będzie to okazja do rozmowy ze starymi znajomymi\, a także poznania nowych osób. Następnie odbędzie się tradycyjna zabawa „Kocham Cię\, Polsko”. Jak zawsze niezastąpiona Alicja Bołdys zaprosi uczestników do udziału w ciekawych konkurencjach. I jak zawsze emocje będą sięgać zenitu\, gdy zderzą się ze sobą dwie rywalizujące drużyny. Całość zakończy się około godziny 18.00. \nPoniżej filmowe zaproszenie na wydarzenie przygotowane przez prowadzącą spotkanie Alicję. A zatem zapraszamy na XVI Niepowtarzalne Spotkanie w Fundacji FONIS. Do zobaczenia już 7 czerwca na wrocławskim Ostrowie Tumskim.
URL:https://fonis.pl/wydarzenia/xvi-niepowtarzalne-spotkanie/
ATTACH;FMTTYPE=image/jpeg:https://fonis.pl/wp-content/uploads/2025/05/XVI-Niepowtarzalne-Spotkanie.jpg
END:VEVENT
BEGIN:VEVENT
DTSTART;TZID=UTC:20220917T120000
DTEND;TZID=UTC:20220917T163000
DTSTAMP:20260424T023408
CREATED:20220908T055907Z
LAST-MODIFIED:20220908T055907Z
UID:191628-1663416000-1663432200@fonis.pl
SUMMARY:XV Niepowtarzalne Spotkanie
DESCRIPTION:Zapraszamy na XV Niepowtarzalne Spotkanie. Odbędzie się ono 17 września 2022 roku w Centrum Duszpasterskim Archidiecezji Wrocławskiej przy ul. Katedralnej 4. Rozpoczynamy o godzinie 12.00 w sali numer 15 na I piętrze.\nTak jak każde Niepowtarzalne Spotkanie w Fundacji FONIS\, tak i to będzie miało trzy części. Pierwsza z nich to spotkanie z zaproszonym gościem. Tym razem będzie nim podwójna Mistrzyni Świata w karabinku pneumatycznym – Barbara Moskal. Pani Barbara\, która jest osobą niesłyszącą startuje w zawodach dla osób niewidomych\, ponieważ ma też znaczne problemy ze wzrokiem. O tym jak sobie radzi w codziennym życiu oraz o swojej pasji strzeleckiej opowie na naszym sobotnim spotkaniu.\nNastępnie w drugiej części spotkania zaprosimy Was na zabawę „Kocham Cię\, Polsko”. Jak zawsze niezastąpiona Alicja Zawada zaprosi uczestników do udziału w ciekawych konkurencjach. I jak zawsze emocje będą sięgać zenitu\, gdy zderzą się ze sobą dwie rywalizujące drużyny.\nOstatnią trzecią częścią sobotniego wydarzenia będzie spotkanie integracyjne przy kawie\, herbacie i ciastku. Tradycyjnie będzie to okazja do wzajemnego poznania i wymiany doświadczeń. W ten sposób\, około godziny 16.30 zakończymy nasze spotkanie.\nA zatem zapraszamy Was na XV Niepowtarzalne Spotkanie w sobotę 17 września. Dla tych\, którzy się wahają polecamy obejrzeć relację z ostatniego Niepowtarzalnego Spotkania. Możecie ją znaleźć na naszym profilu facebookowym.
URL:https://fonis.pl/wydarzenia/xv-niepowtarzalne-spotkanie/
ATTACH;FMTTYPE=image/jpeg:https://fonis.pl/wp-content/uploads/2022/09/XV-Niepowtarzalne-Spotkanie.jpg
END:VEVENT
BEGIN:VEVENT
DTSTART;TZID=UTC:20220319T113000
DTEND;TZID=UTC:20220319T160000
DTSTAMP:20260424T023408
CREATED:20220314T214327Z
LAST-MODIFIED:20220314T214327Z
UID:164413-1647689400-1647705600@fonis.pl
SUMMARY:Zapraszamy na XIV Niepowtarzalne Spotkanie
DESCRIPTION:Zapraszamy serdecznie na XIV Niepowtarzalne Spotkanie. Kolejne już spotkanie pod patronatem Fundacji FONIS zaplanowaliśmy na sobotę 19 marca 2022 roku. Rozpoczniemy je o godzinie 11.30\, zaś zakończymy około godziny 16.00. Do udziału zapraszamy wszystkich niesłyszących i słabosłyszących\, a szczególnie młodzież. Mile widziani będą zarówno użytkownicy implantów ślimakowych i aparatów słuchowych\, jak też ci\, którzy z takich dobrodziejstw nie korzystają. Udział w spotkaniu jest nieodpłatny\, ale uczestnicy mogą ze sobą przynieść małe co nieco na wspólny stół. \nSpotkanie poprowadzi – jak zawsze – Alicja Zawada. W programie sobotniego spotkania zawarła trzy punkty. Pierwszym jest spotkanie integracyjne przy kawie\, herbacie i ciastku\, czyli tak zwane zawiązanie wspólnoty. Następnie odbędzie się prelekcja zaproszonych gości. Tym razem będą to głusi uchodźcy z ogarniętej wojną Ukrainy\, którzy znaleźli schronienie we Wrocławiu. Opowiedzą oni nie tylko o wydarzeniach ostatnich dni i ucieczce do Polski\, ale także o życiu osób niesłyszących na Ukrainie. Ostatnim punktem programu będzie zabawa “Kocham Cię\, Polsko”\, która zwykle budzi sporo emocji. Czy tak będzie i tym razem? Zapraszamy\, przyjdźcie i przekonajcie się sami. \nXIV Niepowtarzalne Spotkanie już wkrótce. Dla tych\, którzy wahają się czy warto\, polecamy zapoznanie się z relacjami filmowymi z poprzednich spotkań (VIII Niepowtarzalne Spotkanie\, XI Niepowtarzalne Spotkanie). \nZaproszenie w języku migowym dostępne jest na naszym profilu facebookowym.
URL:https://fonis.pl/wydarzenia/zapraszamy-na-xiv-niepowtarzalne-spotkanie/
LOCATION:Centrum Duszpasterskie Archidiecezji Wrocławskiej\, ul. Katedralna 4\, Wrocław\, Dolnośląskie\, 50-328\, Polska
ATTACH;FMTTYPE=image/jpeg:https://fonis.pl/wp-content/uploads/2022/03/Ogloszenie-XVI-1x1-2.jpg
END:VEVENT
BEGIN:VEVENT
DTSTART;TZID=UTC:20211211T130000
DTEND;TZID=UTC:20211211T170000
DTSTAMP:20260424T023408
CREATED:20211130T201524Z
LAST-MODIFIED:20211130T201524Z
UID:129777-1639227600-1639242000@fonis.pl
SUMMARY:XIII Niepowtarzalne Spotkanie
DESCRIPTION:XIII Niepowtarzalne Spotkanie będzie miało charakter nieco świąteczny\, jako że zaplanowaliśmy je na niespełna dwa tygodnie przed świętami Bożego Narodzenia. W sobotę 11 grudnia 2021 roku spotkamy się w Centrum Duszpasterskim Archidiecezji Wrocławskiej przy ul. Katedralnej 4. Do udziału zapraszamy niesłyszących\, słabosłyszących i słyszących\, zaimplantowanych i używających aparatów słuchowych\, młodszych i starszych. Zapraszamy Ciebie! \nTradycyjnie spotkanie będzie się składało z trzech części\, a każda będzie miała inny charakter. Pierwsza to kawa\, herbata i ciastko\, czyli okazja do rozmowy w gronie przyjaznych i serdecznych ludzi. Druga\, mająca charakter edukacyjny\, to wykład. Tym razem zaprosiliśmy panią Liliannę Sicińską\, która przybliży nam temat zwyczajów świątecznych. W tajemnicy możemy Wam powiedzieć\, że jeśli wszystko pójdzie dobrze\, to będziemy mieli gości z Chorwacji i Turcji. Ich również zapytamy o zwyczaje świąteczne w krajach\, z których pochodzą. Na zakończenie zaprosimy Was do udziału w zabawie “Kocham Cię\, Polsko”. Nad całością spotkania będzie czuwała niezastąpiona Alicja Zawada. Możecie więc mieć pewność\, że spotkanie będzie naprawdę ciekawe. \nA zatem zapraszamy serdecznie na XIII Niepowtarzalne Spotkanie w Fundacji FONIS. Startujemy o godzinie 13 w sali numer 5 na parterze budynku przy ulicy Katedralnej 4 we Wrocławiu. Po zakończonym spotkaniu planujemy wyruszyć na wrocławski rynek\, na Jarmark Bożonarodzeniowy. \nDo zobaczenia!
URL:https://fonis.pl/wydarzenia/xiii-niepowtarzalne-spotkanie/
LOCATION:Centrum Duszpasterskie Archidiecezji Wrocławskiej\, ul. Katedralna 4\, Wrocław\, Dolnośląskie\, 50-328\, Polska
ATTACH;FMTTYPE=image/jpeg:https://fonis.pl/wp-content/uploads/2021/11/XIII-Niepowtarzalne-Spotkanie-zaproszenie.jpg
END:VEVENT
BEGIN:VEVENT
DTSTART;TZID=UTC:20210828T120000
DTEND;TZID=UTC:20210828T160000
DTSTAMP:20260424T023408
CREATED:20210823T174318Z
LAST-MODIFIED:20210823T174318Z
UID:97216-1630152000-1630166400@fonis.pl
SUMMARY:X Niepowtarzalne Spotkanie w Fundacji FONIS
DESCRIPTION:Serdecznie zapraszamy na X Niepowtarzalne Spotkanie w Fundacji FONIS. Zaplanowaliśmy je w sobotę 28 sierpnia 2021 roku. Rozpoczynamy o godzinie 12.00 w sali numer 13 w Centrum Duszpasterskim Archidiecezji Wrocławskiej przy ulicy Katedralnej 4 we Wrocławiu. \nWprawdzie jest to już dwunaste Niepowtarzalne Spotkanie\, ale dwa pierwsze odbyły się poza Fundacją FONIS. Natomiast we wrześniu 2016 roku organizatorka spotkań – Alicja Zawada zwróciła się do nas z zaproszeniem do współpracy. I tak oto od pięciu już lat w naszej fundacji odbywają się niezwykłe spotkania gromadzące przede wszystkim młodych ludzi z różnych stron Polski. \nX Niepowtarzalne Spotkanie będzie składało się z trzech części. Pierwszą będzie spotkanie z zaproszonym gościem – Arkadiuszem. Opowie on o swojej wyprawie MIGiem nad morze\, czyli o rowerowej podróży z Wrocławia nad Morze Bałtyckie. Następnie Alicja zaprosi uczestników do zabawy „Kocham Cię\, Polsko”. Trzecim elementem będzie spotkanie towarzyskie przy kawie\, herbacie i ciastku. \nNa spotkanie zapraszamy młodzież i dorosłych z wadą słuchu. Jeśli ktoś z przyjezdnych będzie chciał zostać na niedzielę we Wrocławiu to będzie taka możliwość (prosimy o wcześniejszy kontakt z fundacją). Do tego zachęcamy\, bowiem w niedzielę o godzinie 16 zapraszamy do kina na niezwykły film „NON POSSUMUS”. \nSerdecznie zapraszamy zarówno na X Niepowtarzalne Spotkanie w Fundacji FONIS\, jak i na niedzielny pokaz filmu!
URL:https://fonis.pl/wydarzenia/x-niepowtarzalne-spotkanie-w-fundacji-fonis/
LOCATION:Centrum Duszpasterskie Archidiecezji Wrocławskiej\, ul. Katedralna 4\, Wrocław\, Dolnośląskie\, 50-328\, Polska
ATTACH;FMTTYPE=image/jpeg:https://fonis.pl/wp-content/uploads/2021/08/XII-Niepowtarzalne-Spotkanie.jpg
END:VEVENT
BEGIN:VEVENT
DTSTART;TZID=UTC:20200222T120000
DTEND;TZID=UTC:20200222T170000
DTSTAMP:20260424T023408
CREATED:20200215T092237Z
LAST-MODIFIED:20200215T092237Z
UID:10105-1582372800-1582390800@fonis.pl
SUMMARY:XI Niepowtarzalne Spotkanie
DESCRIPTION:Serdecznie zapraszamy na kolejne\, już XI Niepowtarzalne Spotkanie. Zaproszenie kierujemy przede wszystkim do osób niesłyszących i słabosłyszących. Mile będą widziane osoby nie tylko z Wrocławia\, ale też z innych miast Polski. \nXI Niepowtarzalne Spotkanie zaplanowaliśmy na sobotę 22 lutego 2020 roku. Rozpoczynamy o godzinie 12.00 w sali numer 15 przy ul. Katedralnej 4 we Wrocławiu. W programie przewidujemy między innymi: debatę na temat rozwiązań architektonicznych dla osób niesłyszących oraz zabawę „Kocham Cię\, Polsko!”. Nad całością tradycyjnie czuwać będzie wolontariuszka Fundacji FONIS – Alicja Zawada. Alicja przygotowała też filmowe zaproszenie w języku migowym\, które możecie obejrzeć na naszym profilu fb. \nhttps://www.facebook.com/349736225363766/videos/1055998394755338/ \nNiepowtarzalne Spotkania organizowane przez naszą fundację to cykl spotkań\, w których uczestniczy przede wszystkim młodzież z wadą słuchu z całej Polski. Spotkania są okazją nie tylko do wspólnej zabawy\, ale również do poszerzania horyzontów. Pomocą w realizacji tego celu służą goście zaproszeni na spotkanie\, którzy opowiadają o swoich pasjach. Wśród gości\, którzy nas odwiedzili byli np. Darwina Matuszczak – podróżniczka z Ugandy i Rwandy czy też Małgorzata Stegenka – autorka książki „Na skrzydłach jak Nick Vujcic”. \n\nZapraszamy więc na kolejne Niepowtarzalne Spotkanie. Tych zaś\, którzy mają wątpliwości czy warto przyjść zapraszamy do obejrzenia relacji z X Niepowtarzalnego Spotkania\, które odbyło się w czerwcu 2019 roku.
URL:https://fonis.pl/wydarzenia/xi-niepowtarzalne-spotkanie/
LOCATION:Centrum Duszpasterskie Archidiecezji Wrocławskiej\, ul. Katedralna 4\, Wrocław\, Dolnośląskie\, 50-328\, Polska
ATTACH;FMTTYPE=image/jpeg:https://fonis.pl/wp-content/uploads/2020/02/XI-Niepowtarzalne-Spotkanie.jpg
END:VEVENT
BEGIN:VEVENT
DTSTART;TZID=UTC:20190608T120000
DTEND;TZID=UTC:20190608T160000
DTSTAMP:20260424T023408
CREATED:20190521T173238Z
LAST-MODIFIED:20190531T195817Z
UID:9233-1559995200-1560009600@fonis.pl
SUMMARY:X Niepowtarzalne Spotkanie
DESCRIPTION:X Niepowtarzalne Spotkanie w Fundacji FONIS. Zapraszamy już 8 czerwca na jubileuszowe\, bo już dziesiąte z kolei\, spotkanie dedykowane głównie młodzieży. Jak zawsze Alicja Zawada\, nasza wolontariuszka\, przygotowała wiele niespodzianek i ciekawych propozycji na wspólne spędzenie czasu. W programie spotkania: relacja z pielgrzymki do Ziemi Świętej (Przemysław Sławik\, Anna Hylak)\, spotkanie z autorką książki „Cisza – moja siła” (Michalina Kentzer). Ostatnim akcentem spotkania będzie zabawa „Kocham Cię Polsko”. \nSpotkanie zaplanowaliśmy na dzień przed Festynem św. Filipa Smaldone. W związku z tym zachęcamy również do udziału w tym wydarzeniu. Dla osób przyjezdnych możemy pomóc w zorganizowaniu noclegu. \nSobotnie spotkanie rozpoczynamy o godzinie 12 w sali nr 5 na parterze w Centrum Duszpasterskim Archidiecezji Wrocławskiej. Zakończenia spodziewamy się około godziny 16. \nJeśli ktoś ma wątpliwości\, czy warto wziąć udział w spotkaniu\, zachęcamy do zapoznania się z relacją z ostatniego spotkania. \n 
URL:https://fonis.pl/wydarzenia/x-niepowtarzalne-spotkanie/
LOCATION:Centrum Duszpasterskie Archidiecezji Wrocławskiej\, ul. Katedralna 4\, Wrocław\, Dolnośląskie\, 50-328\, Polska
ATTACH;FMTTYPE=image/jpeg:https://fonis.pl/wp-content/uploads/2018/10/niepowtarzalne-spotkanie-z-Afryką2.jpg
END:VEVENT
BEGIN:VEVENT
DTSTART;TZID=UTC:20181020T123000
DTEND;TZID=UTC:20181020T163000
DTSTAMP:20260424T023408
CREATED:20181012T205929Z
LAST-MODIFIED:20181012T210211Z
UID:8252-1540038600-1540053000@fonis.pl
SUMMARY:IX Niepowtarzalne Spotkanie
DESCRIPTION:IX Niepowtarzalne Spotkanie. Kolejne już spotkanie z cyklu Niepowtarzalnych Spotkań organizowane przez Fundację FONIS odbędzie się 20 października. Jak zawsze miejscem spotkania będzie budynek przy ul. Katedralnej 4 – sala nr 15. Startujemy o godz. 12.30. Koniec przewidujemy na godz. 16.30 \nTym razem gościem specjalnym będzie podróżniczka – Darwina Matuszczak\, która opowie o swojej podróży po Afryce. Prelekcja będzie zatytułowana „Pieszo przez Afrykę wschodnią. Uganda i Rwanda – tak blisko\, a jednak tak daleko.” Na spotkaniu będzie obecny również tłumacz języka migowego\, dzięki czemu wydarzenie będzie dostępne dla osób Głuchych. \nNatomiast po wykładzie tradycyjnie już będzie zabawa „Kocham Cię\, Polsko” oraz czas na dyskusje i rozmowy przy kawie\, herbacie i ciastku. \nPrzynieście ze sobą coś małego do picia\, a także coś na ząb. I koniecznie kogoś do towarzystwa! \nhttps://youtu.be/WWkw8wgHEvc \n  \nDla osób mających wątpliwości\, czy warto wziąć udział w takim spotkaniu przedstawiamy relację filmową z VIII Niepowtarzalnego Spotkania:
URL:https://fonis.pl/wydarzenia/ix-niepowtarzalne-spotkanie/
LOCATION:Centrum Duszpasterskie Archidiecezji Wrocławskiej\, ul. Katedralna 4\, Wrocław\, Dolnośląskie\, 50-328\, Polska
ATTACH;FMTTYPE=image/jpeg:https://fonis.pl/wp-content/uploads/2018/10/IX-Niepowtarzalne-spotkanie-plakat.jpg
END:VEVENT
END:VCALENDAR