BEGIN:VCALENDAR
VERSION:2.0
PRODID:-//Fundacja Fonis - ECPv6.15.20//NONSGML v1.0//EN
CALSCALE:GREGORIAN
METHOD:PUBLISH
X-ORIGINAL-URL:https://fonis.pl
X-WR-CALDESC:Wydarzenia dla Fundacja Fonis
REFRESH-INTERVAL;VALUE=DURATION:PT1H
X-Robots-Tag:noindex
X-PUBLISHED-TTL:PT1H
BEGIN:VTIMEZONE
TZID:UTC
BEGIN:STANDARD
TZOFFSETFROM:+0000
TZOFFSETTO:+0000
TZNAME:UTC
DTSTART:20210101T000000
END:STANDARD
END:VTIMEZONE
BEGIN:VEVENT
DTSTART;TZID=UTC:20220831T134500
DTEND;TZID=UTC:20220831T150000
DTSTAMP:20260425T152915
CREATED:20220810T100922Z
LAST-MODIFIED:20220810T100922Z
UID:191551-1661953500-1661958000@fonis.pl
SUMMARY:Wyjście na wystawę Ogrody na znaczkach świata
DESCRIPTION:Ogrody na znaczkach świata zobaczą w ostatni dzień wakacji\, czyli w środę 31 sierpnia 2022 roku\, niesłyszący i słabosłyszący członkowie Klubu Seniora „Integracja”. Fundacja FONIS zaprasza ich bowiem wtedy na wystawę do wrocławskiego Muzeum Poczty i Telekomunikacji. Zwiedzanie tej i innych wystaw muzealnych z przewodnikiem rozpocznie się o godz. 14.00 i potrwa godzinę. Uczestnicy zbiorą się o godz. 13.45 przy wejściu do Muzeum Poczty i Telekomunikacji przy ul. Krasińskiego 1. \nWystawa filatelistyczna „Ogrody na znaczkach świata” prezentowana jest od 3 sierpnia 2022 roku. Na prezentowanych znaczkach znajdziecie przyrodnicze inspiracje projektantów znaczków pocztowych – różnorodność motywów\, a także piękno światowej flory i fauny. Podziwiać można tu kilkaset znaczków w 142 emisjach. Wszystkie eksponaty – znaczki z różnych państw na wszystkich zamieszkałych kontynentach – pochodzą z zasobów Muzeum Poczty i Telekomunikacji we Wrocławiu. Wystawę będzie można podziwiać do 25 września br. \nUdział w zwiedzaniu wystawy jest bezpłatny\, ale ze względów organizacyjnych obowiązuje limit miejsc. Wystawę jednorazowo może zwiedzać grupa 25 osób. Aby uczestniczyć w wycieczce\, należy zapisać się u p. Elżbiety Gorgoń (tel. 502 765 302). Nie musimy oczywiście dodawać\, że zapewnimy obecność tłumacza języka migowego. \nOgrody na znaczkach świata to wyjście\, które organizujemy w ramach realizacji zadania publicznego: „Działania na rzecz wrocławskich seniorów w latach 2022-2023 – Aktywny senior” współfinansowanego ze środków Gminy Wrocław (www.wroclaw.pl).
URL:https://fonis.pl/wydarzenia/wyjscie-na-wystawe-ogrody-na-znaczkach-swiata/
ATTACH;FMTTYPE=image/jpeg:https://fonis.pl/wp-content/uploads/2022/08/Ogrody-na-znaczkach-swiata.jpg
END:VEVENT
END:VCALENDAR