BEGIN:VCALENDAR
VERSION:2.0
PRODID:-//Fundacja Fonis - ECPv6.15.18//NONSGML v1.0//EN
CALSCALE:GREGORIAN
METHOD:PUBLISH
X-WR-CALNAME:Fundacja Fonis
X-ORIGINAL-URL:https://fonis.pl
X-WR-CALDESC:Wydarzenia dla Fundacja Fonis
REFRESH-INTERVAL;VALUE=DURATION:PT1H
X-Robots-Tag:noindex
X-PUBLISHED-TTL:PT1H
BEGIN:VTIMEZONE
TZID:UTC
BEGIN:STANDARD
TZOFFSETFROM:+0000
TZOFFSETTO:+0000
TZNAME:UTC
DTSTART:20240101T000000
END:STANDARD
END:VTIMEZONE
BEGIN:VEVENT
DTSTART;TZID=UTC:20250507T110000
DTEND;TZID=UTC:20250507T123000
DTSTAMP:20260424T064151
CREATED:20250501T211945Z
LAST-MODIFIED:20250501T212003Z
UID:194249-1746615600-1746621000@fonis.pl
SUMMARY:Wyjście seniorów do Muzeum Militariów
DESCRIPTION:Wyjście seniorów do Muzeum Militariów. W środę 7 maja 2025 r. Fundacja FONIS serdecznie zaprasza niesłyszących i słabosłyszących członków Klubu Seniora „Integracja” na wycieczkę do wrocławskiego Muzeum Militariów. Budynek tego muzeum mieści się przy ul. Cieszyńskiego 9. Zwiedzanie rozpoczniemy o godzinie 11.00 i potrwa ono około 1\,5 godziny. Spotkamy się natomiast o godzinie 10.45 pod muzeum. \nMuzeum Militariów mieści się w budynku Arsenału Miejskiego i stanowi naturalną kontynuację wojskowego przeznaczenia tej budowli obronnej\, a także dawnego magazynu broni. Jego zbiory eksponowane są na czterech wystawach stałych: Broń Dawna\, Broń Palna oraz Broń Biała. W Muzeum znajduje się też unikatowy w skali Europy zbiór hełmów wojskowych\, eksponowany w sali im. Jacka Kijaka. \nW Muzeum oglądać można także najnowszą wystawę stałą: Mundur Żołnierza Polskiego. Ekspozycja prezentuje 60 mundurów z kolekcji Muzeum Militariów. Jest to jeden z największych tego typu zbiorów w Polsce. Na ekspozycji zobaczyć można mundury oraz nakrycia głowy\, używane przez żołnierzy polskich w latach 1939-1945 na polskich i europejskich frontach. \nUdział w wyjściu jest bezpłatny\, ale ze względów organizacyjnych obowiązują zapisy\, które prowadzi p. Elżbieta Gorgoń (tel. 502 765 302). Zapisy trwają do wtorku 6 maja 2025. \nWyjście seniorów do Muzeum Militariów odbędzie się w ramach realizacji zadania publicznego: „Działania na rzecz wrocławskich seniorów w latach 2025-2026 – Aktywny senior” współfinansowanego ze środków Gminy Wrocław (www.wroclaw.pl).
URL:https://fonis.pl/wydarzenia/wyjscie-seniorow-do-muzeum-militariow/
ATTACH;FMTTYPE=image/jpeg:https://fonis.pl/wp-content/uploads/2025/05/Wyjscie-seniorow-do-Muzeum-Militariow.jpg
END:VEVENT
END:VCALENDAR