BEGIN:VCALENDAR
VERSION:2.0
PRODID:-//Fundacja Fonis - ECPv6.15.20//NONSGML v1.0//EN
CALSCALE:GREGORIAN
METHOD:PUBLISH
X-WR-CALNAME:Fundacja Fonis
X-ORIGINAL-URL:https://fonis.pl
X-WR-CALDESC:Wydarzenia dla Fundacja Fonis
REFRESH-INTERVAL;VALUE=DURATION:PT1H
X-Robots-Tag:noindex
X-PUBLISHED-TTL:PT1H
BEGIN:VTIMEZONE
TZID:UTC
BEGIN:STANDARD
TZOFFSETFROM:+0000
TZOFFSETTO:+0000
TZNAME:UTC
DTSTART:20230101T000000
END:STANDARD
END:VTIMEZONE
BEGIN:VEVENT
DTSTART;TZID=UTC:20240812T100000
DTEND;TZID=UTC:20240816T150000
DTSTAMP:20260425T133247
CREATED:20240531T165416Z
LAST-MODIFIED:20240531T165416Z
UID:193371-1723456800-1723820400@fonis.pl
SUMMARY:Półkolonie 2024 z Fundacją FONIS – turnus II
DESCRIPTION:Półkolonie 2024 z Fundacją FONIS – turnus II. Półkolonie z Fundacją FONIS to wakacyjna propozycja dla młodzieży w wieku od 13 do 17 roku życia. Jeśli więc nie macie jeszcze planów wakacyjnych i chcecie miło spędzić czas\, ZAPRASZAMY na półkolonie z naszą Fundacją. W czasie półkolonii weźmiecie udział w bardzo ciekawych i rozwijających Was zajęciach. Planujemy bowiem m.in. warsztaty edukacyjne w Odra Centrum\, wyjścia do miejsc rozwijających aktywność ruchową\, a także zdrową rywalizację. Pójdziemy więc do sali gier Pixel XL\, na kręgle\, do Centrum Laser Tag. W wybranym dniu pojedziemy też na wycieczkę poza miasto na zajęcia rekreacyjno-edukacyjne. Oprócz tego będzie dużo czasu na gry oraz zabawy sportowe\, integracyjne\, gry planszowe i zabawy zręcznościowe. Nie zapomnimy także o tym\, byście mieli siły na te wszystkie atrakcje. Dlatego też zapewnimy Wam drugie śniadanie\, a także napoje w czasie zajęć. Oj będzie się działo! A gdzie? Oczywiście „pod 4”\, czyli w Centrum Duszpasterskim Archidiecezji Wrocławskiej przy ul. Katedralnej 4 we Wrocławiu. \nDrugi turnus półkolonii zaplanowaliśmy w terminie od 12 do 16 sierpnia 2024. Na ten turnus szczególnie zapraszamy młodzież od 13 do 17 roku życia. Każdy dzień półkolonii to co najmniej 5 godzin atrakcyjnych zajęć i czasu spędzonego z w wakacyjnej atmosferze. Zajęcia odbywać się będą w godzinach od 10 do 15\, z wyjątkiem dnia wycieczkowego – wtedy potrwają nieco dłużej. \nUczestnikami półkolonii mogą być nie tylko osoby niesłyszące i słabosłyszące\, ale też słyszące\, np. CODA\, a także słyszące rodzeństwo dziecka niesłyszącego/słabosłyszącego. Ponadto uczestnicy muszą mieszkać we Wrocławiu lub przebywać w naszym mieście w czasie wakacji. Jeśli w półkolonii chce wziąć udział osoba powyżej 17 roku życia (do ukończenia 22 lat)\, musi posiadać orzeczenie o niepełnosprawności. \nJak się zapisać?\nPonieważ liczba miejsc jest ograniczona (na drugi turnus mamy dla Was 12 miejsc)\, więc nie zwlekajcie z zapisami. A zapisać się możecie w następujący sposób: wysłać smsa lub zadzwonić pod nr tel. 690 502 670 lub napisać maila na adres: kontakt@fonis.pl. Zapisując się na półkolonie\, trzeba podać imię i nazwisko uczestnika\, wiek i wrocławskie miejsce zamieszkania\, a także informację o posiadaniu orzeczenia. Zapisy trwają do niedzieli 16 czerwca 2024 roku. Udział w półkoloniach jest BEZPŁATNY! \nPółkolonie 2024 z Fundacją FONIS – turnus II odbędą w ramach realizacji zadania publicznego: „ORGANIZACJA I PRZEPROWADZENIE PÓŁKOLONII LETNICH DLA DZIECI I MŁODZIEŻY LATO W MIEŚCIE 2024 – Półkolonie 2024 z Fundacją FONIS” współfinansowanego ze środków Gminy Wrocław (www.wroclaw.pl).
URL:https://fonis.pl/wydarzenia/polkolonie-2024-z-fundacja-fonis-turnus-ii/
ATTACH;FMTTYPE=image/jpeg:https://fonis.pl/wp-content/uploads/2023/07/Kolonie-w-Karkonoszach2.jpg
END:VEVENT
END:VCALENDAR