BEGIN:VCALENDAR
VERSION:2.0
PRODID:-//Fundacja Fonis - ECPv6.15.18//NONSGML v1.0//EN
CALSCALE:GREGORIAN
METHOD:PUBLISH
X-ORIGINAL-URL:https://fonis.pl
X-WR-CALDESC:Wydarzenia dla Fundacja Fonis
REFRESH-INTERVAL;VALUE=DURATION:PT1H
X-Robots-Tag:noindex
X-PUBLISHED-TTL:PT1H
BEGIN:VTIMEZONE
TZID:UTC
BEGIN:STANDARD
TZOFFSETFROM:+0000
TZOFFSETTO:+0000
TZNAME:UTC
DTSTART:20240101T000000
END:STANDARD
END:VTIMEZONE
BEGIN:VEVENT
DTSTART;TZID=UTC:20250501T150000
DTEND;TZID=UTC:20250502T180000
DTSTAMP:20260424T191116
CREATED:20250327T142300Z
LAST-MODIFIED:20250327T142300Z
UID:194189-1746111600-1746208800@fonis.pl
SUMMARY:Majówka w Sicinach
DESCRIPTION:Majówka w Sicinach. Majówki w Fundacji FONIS mają już swoją tradycję. Zawsze na przełomie kwietnia i maja zapraszamy naszych wolontariuszy do aktywności. I tak w minionych latach byliśmy np. w Bielsku-Białej\, na Ślęży\, czy też w Pakosławiu. Tym razem zapraszamy na dwudniowy wyjazd do Sicin. \nZ Wrocławia wyruszamy o godz. 15.00 w czwartek 1 maja 2025 roku. Po dotarciu na miejsce rozpoczniemy przygotowanie do wieczornego ogniska. Uczestników poprosimy\, aby każdy zabrał ze sobą coś do jedzenia na wspólny stół. Koordynatorka wolontariatu – Maria przygotuje tabelkę\, w której będzie można zadeklarować swój „wkład”. Wieczór spędzimy więc na integracji i wspólnej zabawie. Noclegi będą pod namiotami\, dlatego prosimy\, by zabrać ze sobą namiot\, karimatę i śpiwór. Dla tych\, którzy nie będą mieli namiotu\, miejscowy proboszcz udostępni 2 sale\, gdzie na podłodze będzie można się przenocować. \nDrugiego dnia po śniadaniu wyruszymy na spływ kajakowy. Płynąć będziemy Baryczą\, co pewnie pozwoli na podziwianie piękna przyrody krainy na granicy województw dolnośląskiego\, lubuskiego i wielkopolskiego. Po zakończeniu spływu\, w godzinach popołudniowych w piątek 2 maja wrócimy do domów. \nUdział w wydarzeniu jest bezpłatny. Fundacja pokryje koszty wynajmu kajaków\, natomiast uczestników poprosimy o to\, aby we własnym zakresie zadbali o transport i wyżywienie. Zapisy do niedzieli 20 kwietnia mailowo (kontakt@fonis.pl) lub telefonicznie (tel. 690 502 670). Prosimy\, abyście przy zapisach zgłosili\, kto z Was będzie jechał swoim samochodem oraz ile osób może zabrać ze sobą.
URL:https://fonis.pl/wydarzenia/majowka-w-sicinach/
ATTACH;FMTTYPE=image/jpeg:https://fonis.pl/wp-content/uploads/2018/04/splyw-kajakowy1.jpg
END:VEVENT
BEGIN:VEVENT
DTSTART;TZID=UTC:20250510T084000
DTEND;TZID=UTC:20250510T180700
DTSTAMP:20260424T191116
CREATED:20250410T123605Z
LAST-MODIFIED:20250410T123605Z
UID:194216-1746866400-1746900420@fonis.pl
SUMMARY:Majówka niewidomych w Poznaniu
DESCRIPTION:Majówka niewidomych w Poznaniu z Fundacją FONIS. Serdecznie zapraszamy na kolejną majówkę\, którą zorganizujemy wspólnie z Duszpasterstwem Niewidomych we Wrocławiu. Mamy za sobą kilkuletnią już tradycję\, że w maju w gronie niewidomych i słabowidzących wyruszamy w jakieś ciekawe miejsce na Dolnym Śląsku. W minionych latach odwiedziliśmy między innymi Ślężę\, Bardo Śląskie\, czy też kościół pokoju w Jaworze. Tym razem postanowiliśmy\, że pojedziemy nieco dalej\, bo na ziemię wielkopolską. \nW sobotę 10 maja wyruszamy do Poznania. Spotykamy się o godz. 8.40 na Dworcu Głównym PKP (w holu głównym)\, by o 9.00 wystartować IC Heweliusz w kierunku Poznania. Po przyjeździe na miejsce udamy się najpierw na Stare Miasto. Nim jednak je zwiedzimy będzie przerwa na kawę:) Następnie ruszymy do parafii św. Jana Jerozolimskiego za Murami. Tam bowiem spotyka się poznańskie Duszpasterstwo Niewidomych\, które zaprasza nas na wspólny ciepły posiłek. Zwieńczeniem spotkania będzie Msza Święta. \nPociąg powrotny wyruszy z Dworca Poznań Główny o godzinie 16.38. Tym razem będziemy jechać IC Malczewski i jeśli nie będzie opóźnień\, to do Wrocławia dotrzemy o godzinie 18.07. \nUdział w wydarzeniu jest bezpłatny. Konieczne są jednak wcześniejsze zapisy (telefoniczne pod numerem 690 502 670 lub mailowe: kontakt@fonis.pl). Te potrwają do końca kwietnia lub do wyczerpania miejsc. Ważne też\, aby osoby\, które zapiszą się na majówkę niewidomych w Poznaniu kupiły dla siebie bilet na podróż.
URL:https://fonis.pl/wydarzenia/majowka-niewidomych-w-poznaniu/
ATTACH;FMTTYPE=image/jpeg:https://fonis.pl/wp-content/uploads/2025/04/Majowka-niewidomych-w-Poznaniu.jpg
END:VEVENT
END:VCALENDAR