BEGIN:VCALENDAR
VERSION:2.0
PRODID:-//Fundacja Fonis - ECPv6.15.20//NONSGML v1.0//EN
CALSCALE:GREGORIAN
METHOD:PUBLISH
X-ORIGINAL-URL:https://fonis.pl
X-WR-CALDESC:Wydarzenia dla Fundacja Fonis
REFRESH-INTERVAL;VALUE=DURATION:PT1H
X-Robots-Tag:noindex
X-PUBLISHED-TTL:PT1H
BEGIN:VTIMEZONE
TZID:UTC
BEGIN:STANDARD
TZOFFSETFROM:+0000
TZOFFSETTO:+0000
TZNAME:UTC
DTSTART:20230101T000000
END:STANDARD
END:VTIMEZONE
BEGIN:VEVENT
DTSTART;TZID=UTC:20240430T160000
DTEND;TZID=UTC:20240502T200000
DTSTAMP:20260425T135910
CREATED:20240415T154152Z
LAST-MODIFIED:20240422T071656Z
UID:193239-1714492800-1714680000@fonis.pl
SUMMARY:Majówka wolontariuszy w Bielsku-Białej
DESCRIPTION:Majówka wolontariuszy w Bielsku-Białej. Wydarzenie zaplanowaliśmy na trzy dni. Z Wrocławia wyjedziemy we wtorkowe popołudnie w ostatni dzień kwietnia (30 kwietnia\, godz. 16.00). Wrócimy zaś w czwartek 2 maja wieczorem (około godziny 20.00). \nTegoroczna majówka będzie okazją do spotkania się z przedstawicielami dwóch innych organizacji działających na rzecz osób z niepełnosprawnością słuchu. Będzie to Pszczyńskie Stowarzyszenie Niesłyszących oraz koło PCK Osób Niesłyszących i Słabosłyszących w Bielsku-Białej. Podczas spotkania zaprezentujemy działania realizowane przez wolontariuszy Fundacji FONIS\, a także dowiemy się o innych możliwościach czynnego włączania się w życie społeczne i kulturalne osób z niepełnosprawnościami. Ponadto podczas trwania majówki nagramy materiał filmowy do spotu promującego wolontariat wśród osób niesłyszących. Oczywiście nie zabraknie czasu na rekreację i integrację naszej grupy. \nUdział w wydarzeniu „Majówka wolontariuszy w Bielsku-Białej” jest bezpłatny\, ale uczestnicy dojeżdżają na miejsce we własnym zakresie. Fundacja FONIS dzięki dotacji pozyskanej ze środków budżetu Województwa Dolnośląskiego zapewni uczestnikom nocleg i wyżywienie. Będziemy nocować w Jubileuszowym Centrum Caritas Diecezji Bielsko-Żywieckiej w Lipniku. \nZapraszamy do udziału zarówno osoby niesłyszące\, jak i słabosłyszące oraz słyszące. Wszystkie – rzecz jasna – z grupy wolontariuszy Fundacji FONIS. Ponieważ liczba miejsc jest ograniczona (mamy dla Was 30 miejsc)\, nie zwlekajcie z zapisami (tel. 690 502 670 lub mail: kontakt@fonis.pl). \n \nWydarzenie „Aktywny niesłyszący wolontariusz” odbędzie się w ramach realizowanego przez Fundację FONIS zadania publicznego przy udziale środków budżetu Województwa Dolnośląskiego (www.umwd.pl). \n\n		\n		\n			\n				\n			\n			\n				\n			\n		\n\n 
URL:https://fonis.pl/wydarzenia/majowka-wolontariuszy-w-bielsku-bialej/
ATTACH;FMTTYPE=image/jpeg:https://fonis.pl/wp-content/uploads/2023/06/Wolontariat-Fundacja-FONIS.jpg
END:VEVENT
BEGIN:VEVENT
DTSTART;TZID=UTC:20240518T090000
DTEND;TZID=UTC:20240518T170000
DTSTAMP:20260425T135910
CREATED:20240413T114541Z
LAST-MODIFIED:20240607T142842Z
UID:193228-1716022800-1716051600@fonis.pl
SUMMARY:Majówka niewidomych w Krzeszowie
DESCRIPTION:Majówka niewidomych w Krzeszowie. Tradycją już jest\, że w maju zapraszamy środowisko osób niewidomych i słabowidzących na majówkę. W minionych latach byliśmy między innymi w Legnicy\, na Ślęży\, w Bardzie Śląskim. Przed rokiem odwiedziliśmy Kościół Pokoju w Jaworze. Tym razem wyruszymy do sanktuarium Matki Bożej Łaskawej w Krzeszowie. Miejsce to nazywane bywa również Europejską Perłą Baroku. \nKrzeszów to niewielka wieś położona w Kotlinie Krzeszowskiej u podnóża Sudetów Środkowych. Znajdujący się tu pocysterski kompleks klasztorny od stuleci jest domem Łaskawej Pani oraz Duchową Stolicą Śląska. Ten żelazny kandydat na Listy Światowego Dziedzictwa UNESCO\, wpisany na Listę Pomników Historii PR\, od wieków znajduje się na drodze wielu pielgrzymów – podróżujących do Santiago de Compostela (Szlak św. Jakuba)\, turystów odwiedzających pozostałości zabudowań cysterskich (Południowo – Zachodni Szlak Cysterski) czy podziwiających cuda architektury sakralnej (Via Sacra). \nWyjazd zaplanowaliśmy na sobotę 18 maja 2024 roku. Startujemy z przystanku przy ul. Suchej we Wrocławiu o godz. 9.00. Po przyjechaniu na miejsce najpierw będziemy uczestniczyć we Mszy Świętej w bazylice. Następnie będzie grill i czas na wspólny posiłek. Na zakończenie dołączy do nas przewodnik\, który oprowadzi nas po opactwie i przybliży jej ponad 700-letnią historię. W ramach trasy turystycznej odwiedzimy między innymi kościół klasztorny Wniebowzięcia NMP\, kościół bracki św. Józefa\, Mauzoleum Piastów Śląskich\, a także podziemia klasztorne. \nPonieważ wydarzenie organizujemy wspólnie z Duszpasterstwem Niewidomych we Wrocławiu zapisać możecie się zarówno w Fundacji FONIS\, jak i u ks. Tomasza Filinowicza. Zapisy potrwają do 12 maja 2024 roku lub do wyczerpania miejsc. Koszt udziału w wydarzeniu wynosi 70 zł. Obejmuje przejazd autokarem\, ubezpieczenie\, bilety wstępu i poczęstunek. \n 
URL:https://fonis.pl/wydarzenia/majowka-niewidomych-w-krzeszowie/
ATTACH;FMTTYPE=image/jpeg:https://fonis.pl/wp-content/uploads/2024/04/Bazylika-w-Krzeszowie.jpg
END:VEVENT
BEGIN:VEVENT
DTSTART;TZID=UTC:20240527T170000
DTEND;TZID=UTC:20240527T183000
DTSTAMP:20260425T135910
CREATED:20240522T111028Z
LAST-MODIFIED:20240522T111028Z
UID:193324-1716829200-1716834600@fonis.pl
SUMMARY:Spotkanie wolontariuszy – maj 2024
DESCRIPTION:Spotkanie wolontariuszy – maj 2024. W maju wyjątkowo spotkamy się w innym terminie. Zwykle jest to czwarty piątek miesiąca\, ale tym razem będzie to poniedziałek 27 maja 2024 roku. Rozpocznie się jak zawsze o godz. 17.00\, zaś miejscem spotkania tradycyjnie już będzie Centrum Duszpasterskie Archidiecezji Wrocławskiej przy ulicy Katedralnej 4 na Ostrowie Tumskim we Wrocławiu. \nGłównym tematem poniedziałkowego spotkania wolontariuszy Fundacji FONIS będzie Festyn św. Filipa Smaldone. Ten zaplanowaliśmy już na niedzielę 2 czerwca\, więc czasu nie ma wiele. Zgromadzonych na spotkaniu wolontariuszy zaprosimy do odpowiedzialności za poszczególne sekcje festynowej imprezy takie jak grill\, rozkładanie stołów i namiotów\, napoje\, ciasta\, konkursy\, dmuchańce i inne. Potrzebować będziemy również osób\, które zadbają o wcześniejsze zakupy artykułów spożywczych\, przemysłowych i nagród. Ponadto podsumujemy majówkę wolontariuszy do Bielska-Białej oraz omówimy kolejny wyjazd (do Czech). Będzie też okazja do zatrzymania się nad wakacyjnymi inicjatywami\, które przygotowuje Fundacja FONIS. \nSerdecznie zapraszamy więc na spotkanie wolontariuszy – maj 2024 nie tylko naszych stałych bywalców. Będziemy się także cieszyć\, jeśli do naszego grona dołączą nowe osoby. Mile widziane są zarówno osoby znające język migowy\, jak i te\, które dopiero chcą nauczyć się komunikować z niesłyszącymi i słabosłyszącymi. Spotkanie bowiem dostosujemy i do osób niesłyszących\, i do osób słyszących. A zatem serdecznie zapraszamy „pod 4” już 27 maja 2024 roku! Do zobaczenia.
URL:https://fonis.pl/wydarzenia/spotkanie-wolontariuszy-maj-2024/
ATTACH;FMTTYPE=image/jpeg:https://fonis.pl/wp-content/uploads/2018/04/fonis-wolontariat-maly1.jpg
END:VEVENT
END:VCALENDAR