BEGIN:VCALENDAR
VERSION:2.0
PRODID:-//Fundacja Fonis - ECPv6.15.18//NONSGML v1.0//EN
CALSCALE:GREGORIAN
METHOD:PUBLISH
X-ORIGINAL-URL:https://fonis.pl
X-WR-CALDESC:Wydarzenia dla Fundacja Fonis
REFRESH-INTERVAL;VALUE=DURATION:PT1H
X-Robots-Tag:noindex
X-PUBLISHED-TTL:PT1H
BEGIN:VTIMEZONE
TZID:UTC
BEGIN:STANDARD
TZOFFSETFROM:+0000
TZOFFSETTO:+0000
TZNAME:UTC
DTSTART:20240101T000000
END:STANDARD
END:VTIMEZONE
BEGIN:VEVENT
DTSTART;TZID=UTC:20250424T103000
DTEND;TZID=UTC:20250424T123000
DTSTAMP:20260424T051217
CREATED:20250413T171546Z
LAST-MODIFIED:20250413T171546Z
UID:194225-1745490600-1745497800@fonis.pl
SUMMARY:Warsztaty rękodzieła dla aktywnego seniora
DESCRIPTION:Warsztaty rękodzieła dla aktywnego seniora. Kwietniową propozycją warsztatową dla członków Klubu Seniora „Integracja” są warsztaty rękodzieła. To trzecie już w tym roku zajęcia warsztatowe w ramach piątej edycji „Aktywnego seniora”. \nZajęcia warsztatowe odbędą się w czwartek 24 kwietnia 2025 roku w godzinach od 10.30 do 12.30. Potrwają zatem 2 godziny. Miejscem spotkania będzie Centrum Duszpasterskie Archidiecezji Wrocławskiej przy ul. Katedralnej 4\, czyli nasze stałe ulubione miejsce spotkań „pod 4”. \nTym razem w czasie warsztatów powstaną ceramiczne arcydzieła. Niesłyszący seniorzy przed kilkoma laty mieli już doświadczenie lepienia z gliny. Po kilku latach przyszedł czas na doskonalenie tych umiejętności szczególnie w zakresie zdobienia. Wykorzystując techniki lepienia\, stworzymy charakterne naczynie użytkowe lub ozdobne w temacie zadanym przez osobę prowadzącą zajęcia. Następnie ozdobimy naczynie kolorowymi angobami\, a organizatorzy zadbają o poszkliwienie i wypalenie w wysokiej temperaturze. Wtedy naczynie będzie bezpieczne w kontakcie z żywnością i będzie nadawało się do użytku. Po raz pierwszy warsztaty rękodzieła w Fundacji FONIS poprowadzą edukatorzy z ZAKWAS STUDIO we Wrocławiu. \nUdział w warsztatach jest bezpłatny\, ale ze względów organizacyjnych konieczne są zapisy na zajęcia. Tak jak zawsze prowadzi je p. Elżbieta Gorgoń (tel. 502 765 302). \nWarsztaty rękodzieła dla aktywnego seniora odbędą się w ramach realizacji zadania publicznego: „Działania na rzecz wrocławskich seniorów w latach 2025-2026 – Aktywny senior” współfinansowanego ze środków Gminy Wrocław (www.wroclaw.pl).
URL:https://fonis.pl/wydarzenia/warsztaty-rekodziela-dla-aktywnego-seniora/
ATTACH;FMTTYPE=image/jpeg:https://fonis.pl/wp-content/uploads/2025/04/Warsztaty-rekodziela-dla-aktywnego-seniora.jpg
END:VEVENT
END:VCALENDAR