BEGIN:VCALENDAR
VERSION:2.0
PRODID:-//Fundacja Fonis - ECPv6.15.20//NONSGML v1.0//EN
CALSCALE:GREGORIAN
METHOD:PUBLISH
X-WR-CALNAME:Fundacja Fonis
X-ORIGINAL-URL:https://fonis.pl
X-WR-CALDESC:Wydarzenia dla Fundacja Fonis
REFRESH-INTERVAL;VALUE=DURATION:PT1H
X-Robots-Tag:noindex
X-PUBLISHED-TTL:PT1H
BEGIN:VTIMEZONE
TZID:UTC
BEGIN:STANDARD
TZOFFSETFROM:+0000
TZOFFSETTO:+0000
TZNAME:UTC
DTSTART:20250101T000000
END:STANDARD
END:VTIMEZONE
BEGIN:VEVENT
DTSTART;TZID=UTC:20260104T103000
DTEND;TZID=UTC:20260104T130000
DTSTAMP:20260425T201749
CREATED:20251213T175018Z
LAST-MODIFIED:20251213T175018Z
UID:194941-1767522600-1767531600@fonis.pl
SUMMARY:Spotkanie integracyjne – styczeń 2025
DESCRIPTION:Spotkanie integracyjne – styczeń 2025. Tradycją już jest\, że w każdą pierwszą niedzielę miesiąca zapraszamy Was na spotkanie integracyjne w Fundacji FONIS. W praktyce wygląda to tak\, że po Mszach Świętych w języku migowym w Duszpasterstwie Głuchoniemych i Niewidomych Archidiecezji Wrocławskiej w kościele NMP na Piasku idziemy “pod 4”. Tam zaś czeka na nas kawa\, herbata i ciastko\, czyli idealne warunku do spotkania integracyjnego. Oczywiście do udziału zapraszamy również tych\, którzy nie uczestniczą w niedzielnej Mszy. \nZapraszamy więc w pierwszą niedzielę stycznia (czyli 4 stycznia 2025 roku) na kolejne spotkanie. Odbędzie się ono w sali numer 15 na I piętrze w budynku Centrum Duszpasterskiego Archidiecezji Wrocławskiej przy ulicy Katedralnej 4 we Wrocławiu. Rozpoczynamy około godziny 10.30\, kończymy zaś wraz z wyjściem ostatnich gości. Jest to zwykle około godziny 13.00. \nSpotkanie integracyjne – styczeń 2025 to dobra okazja do integracji środowiska osób niesłyszących i słabosłyszących\, ale też ich rodzin i wolontariuszy. To również sprzyjające okoliczności dla osób słyszących\, które uczestniczyły w kursach polskiego języka migowego\, aby sprawdzić w praktyce swoje umiejętności. Zapraszamy zarówno mieszkańców Wrocławia\, jak również osoby z innych zakątków Dolnego Śląska i Polski. \nZa udział w przygotowaniu poczęstunku i w sprzątaniu po wydarzeniu serdecznie dziękujemy wolontariuszom Fundacji FONIS. \nA zatem serdecznie zapraszamy!
URL:https://fonis.pl/wydarzenia/spotkanie-integracyjne-styczen-2025-2/
ATTACH;FMTTYPE=image/jpeg:https://fonis.pl/wp-content/uploads/2024/04/Spotkanie-integracyjne-w-Fundacji-FONIS-1.jpg
END:VEVENT
BEGIN:VEVENT
DTSTART;TZID=UTC:20260107T170000
DTEND;TZID=UTC:20260107T190000
DTSTAMP:20260425T201749
CREATED:20251222T182107Z
LAST-MODIFIED:20251222T182107Z
UID:194968-1767805200-1767812400@fonis.pl
SUMMARY:Wrocław miga - styczeń 2026
DESCRIPTION:Wrocław miga – styczeń 2026. Styczniowe spotkanie koła języka migowego „Wrocław miga” odbędzie się tradycyjnie w pierwszą środę miesiąca\, czyli 7 stycznia 2026 roku o godz. 17.00 w Centrum Duszpasterskim Archidiecezji Wrocławskiej przy ul. Katedralnej 4 we Wrocławiu. Więcej informacji wkrótce.
URL:https://fonis.pl/wydarzenia/wroclaw-miga-styczen-2026/
ATTACH;FMTTYPE=image/jpeg:https://fonis.pl/wp-content/uploads/2025/09/Wroclaw-miga.jpg
END:VEVENT
BEGIN:VEVENT
DTSTART;TZID=UTC:20260131T001500
DTEND;TZID=UTC:20260213T230000
DTSTAMP:20260425T201749
CREATED:20250401T133038Z
LAST-MODIFIED:20251222T171857Z
UID:194203-1769818500-1771023600@fonis.pl
SUMMARY:Pielgrzymka do Meksyku
DESCRIPTION:Pielgrzymka do Meksyku. Fundacja FONIS zaprasza na kolejną zagraniczną podróż\, w którą po raz kolejny wybierzemy się z biurem podróży Camino Travel. Tym razem będzie to wyjątkowo daleka wyprawa\, bo naszym celem będzie Meksyk. \nWyjazd zaplanowaliśmy na 31 stycznia 2026 roku\, zaś powrót 13 lutego 2026 roku (okres ferii zimowych w województwie dolnośląskim). Będzie to więc dwutygodniowa wyprawa\, w czasie której odwiedzimy wiele ciekawych miejsc. Wśród nich na pierwszy plan wysuwa się sanktuarium w Guadalupe. Ale w bogatym programie będą również inne świeckie atrakcje takie jak wypoczynek w hotelu all inclusive w Acapulco\, przejazd taksówkami typu VW Garbus\, czy też wizyta w warsztacie produkującym słynny mezcal\, czyli wódkę agwową z robakiem. Aby zobaczyć szczegółowy program kliknijcie tutaj: Meksyk 31.01 – 13.02.2026. Tutaj natomiast znajdziecie Meksyk – informacje praktyczne \nCena wynosi 13 000 PLN + 100 USD. W tej kwocie mieści się przelot na trasie Berlin – Mexico – Berlin liniami lotniczymi IBERIA (bagaż nadawany 23 kg + bagaż podręczny 8 kg)\, transfer na/z lotnisko w Berlinie\, noclegi w 2-osobowych pokojach w hotelach 4*\, posiłki według programu\, ubezpieczenie\, opiekę pilota\, bilety wstępu. Fundacja FONIS zapewni tłumaczenie na język migowy podczas całej wyprawy. \nPielgrzymka odbędzie się jeśli uda się zebrać grupę (minimum 36 osób\, maksimum 48 osób). Zapisy w Fundacji FONIS do końca września lub do wyczerpania miejsc. Do końca września będzie trzeba również zapłacić bezzwrotną zaliczkę w wysokości 3 000 PLN.
URL:https://fonis.pl/wydarzenia/pielgrzymka-do-meksyku/
ATTACH;FMTTYPE=image/jpeg:https://fonis.pl/wp-content/uploads/2025/04/Pielgrzymka-do-Meksyku.jpg
END:VEVENT
BEGIN:VEVENT
DTSTART;TZID=UTC:20260201T103000
DTEND;TZID=UTC:20260201T130000
DTSTAMP:20260425T201749
CREATED:20260122T203122Z
LAST-MODIFIED:20260122T203122Z
UID:195009-1769941800-1769950800@fonis.pl
SUMMARY:Spotkanie integracyjne – luty 2026
DESCRIPTION:Spotkanie integracyjne – luty 2026. Tradycją już jest\, że w każdą pierwszą niedzielę miesiąca zapraszamy Was na spotkanie integracyjne w Fundacji FONIS. W praktyce wygląda to tak\, że po Mszach Świętych w języku migowym w Duszpasterstwie Głuchoniemych i Niewidomych Archidiecezji Wrocławskiej w kościele NMP na Piasku idziemy “pod 4”. Tam zaś czeka na nas kawa\, herbata i ciastko\, czyli idealne warunku do spotkania integracyjnego. Oczywiście do udziału zapraszamy również tych\, którzy nie uczestniczą w niedzielnej Mszy. \nZapraszamy więc w pierwszą niedzielę stycznia (czyli 1 lutego 2026 roku) na kolejne spotkanie. Odbędzie się ono w sali numer 15 na I piętrze w budynku Centrum Duszpasterskiego Archidiecezji Wrocławskiej przy ulicy Katedralnej 4 we Wrocławiu. Rozpoczynamy około godziny 10.30\, kończymy zaś wraz z wyjściem ostatnich gości. Jest to zwykle około godziny 13.00. \nSpotkanie integracyjne – luty 2026 to dobra okazja do integracji środowiska osób niesłyszących i słabosłyszących\, ale też ich rodzin i wolontariuszy. To również sprzyjające okoliczności dla osób słyszących\, które uczestniczyły w kursach polskiego języka migowego\, aby sprawdzić w praktyce swoje umiejętności. Zapraszamy zarówno mieszkańców Wrocławia\, jak również osoby z innych zakątków Dolnego Śląska i Polski. \nZa udział w przygotowaniu poczęstunku i w sprzątaniu po wydarzeniu serdecznie dziękujemy wolontariuszom Fundacji FONIS. \nA zatem serdecznie zapraszamy!
URL:https://fonis.pl/wydarzenia/spotkanie-integracyjne-luty-2026/
ATTACH;FMTTYPE=image/jpeg:https://fonis.pl/wp-content/uploads/2023/02/Spotkanie-integracyjne-pod-4-b.jpg
END:VEVENT
BEGIN:VEVENT
DTSTART;TZID=UTC:20260301T103000
DTEND;TZID=UTC:20260301T130000
DTSTAMP:20260425T201749
CREATED:20260217T150645Z
LAST-MODIFIED:20260217T150645Z
UID:195065-1772361000-1772370000@fonis.pl
SUMMARY:Spotkanie integracyjne – marzec 2026
DESCRIPTION:Spotkanie integracyjne – marzec 2026. Tradycją już jest\, że w każdą pierwszą niedzielę miesiąca zapraszamy Was na spotkanie integracyjne w Fundacji FONIS. W praktyce wygląda to tak\, że po Mszach Świętych w języku migowym w Duszpasterstwie Głuchoniemych i Niewidomych Archidiecezji Wrocławskiej w kościele NMP na Piasku idziemy “pod 4”. Tam zaś czeka na nas kawa\, herbata i ciastko\, czyli idealne warunku do spotkania integracyjnego. Oczywiście do udziału zapraszamy również tych\, którzy nie uczestniczą w niedzielnej Mszy. Dodatkową atrakcją marcowego spotkania będzie prezentacja zdjęć z pielgrzymki niesłyszących do Meksyku. Towarzyszyć jej będzie krótka prelekcja połączona z degustacją meksykańskiej kawy i słodyczy. \nZapraszamy więc w pierwszą niedzielę marca (czyli 1 marca 2026 roku) na kolejne spotkanie. Odbędzie się ono w sali numer 15 na I piętrze w budynku Centrum Duszpasterskiego Archidiecezji Wrocławskiej przy ulicy Katedralnej 4 we Wrocławiu. Rozpoczynamy około godziny 10.30\, kończymy zaś wraz z wyjściem ostatnich gości. Jest to zwykle około godziny 13.00. \nSpotkanie integracyjne – marzec 2026 to dobra okazja do integracji środowiska osób niesłyszących i słabosłyszących\, ale też ich rodzin i wolontariuszy. To również sprzyjające okoliczności dla osób słyszących\, które uczestniczyły w kursach polskiego języka migowego\, aby sprawdzić w praktyce swoje umiejętności. Zapraszamy zarówno mieszkańców Wrocławia\, jak również osoby z innych zakątków Dolnego Śląska i Polski. \nZa udział w przygotowaniu poczęstunku i w sprzątaniu po wydarzeniu serdecznie dziękujemy wolontariuszom Fundacji FONIS. \nA zatem serdecznie zapraszamy!
URL:https://fonis.pl/wydarzenia/spotkanie-integracyjne-marzec-2026/
ATTACH;FMTTYPE=image/jpeg:https://fonis.pl/wp-content/uploads/2024/04/Spotkanie-integracyjne-w-Fundacji-FONIS-1.jpg
END:VEVENT
BEGIN:VEVENT
DTSTART;TZID=UTC:20260303T170000
DTEND;TZID=UTC:20260303T183000
DTSTAMP:20260425T201749
CREATED:20260122T213907Z
LAST-MODIFIED:20260217T145446Z
UID:195011-1772557200-1772562600@fonis.pl
SUMMARY:Rozliczenie PIT-ów za rok 2025 (1)
DESCRIPTION:Rozliczenie PIT-ów za rok 2025 (1). Podobnie jak w minionych latach\, tak i w tym roku w Fundacji FONIS pomagamy przy rozliczeniu PIT-ów. Pierwszy dyżur naszych wolontariuszek: Doroty Łesak i Yuliyi Kuzyk zaplanowaliśmy na wtorek 3 marca 2026 roku w godzinach 17.00-18.30. Aby skorzystać z pomocy musicie się zapisać na wybrany dzień. W tym celu wyślijcie do nas sms-a na numer 690 502 670. Dopiero po otrzymaniu od nas potwierdzenia wyznaczonego terminu i godziny przyjdźcie do biura Fundacji FONIS. Znajduje się ono w budynku Centrum Duszpasterskiego Archidiecezji Wrocławskiej przy ul. Katedralnej 4 (pokój numer 2 na parterze\, tuż obok wejścia). \nWażne\, abyście przynieśli ze sobą dokumenty\, które pozwolą na rozliczenie się z urzędem skarbowym. Koniecznym więc będzie PIT-37 za poprzedni rok (czyli za rok 2024) oraz wszystkie PIT-y za ten rok\, to znaczy 2025\, które otrzymaliście od pracodawcy\, ZUS-u itd\, np. PIT-11\, PIT-8C\, PIT-R\, PIT-40A\, PIT-11A. \nNasze specjalistki Dorota Łesak i Yuliya Kuzyk mają kilkuletnie doświadczenie w zakresie rozliczania podatku PIT. Jeśli więc macie jakieś pytania lub wątpliwości dotyczące odliczeń od podatku\, ulg\, darowizn itp.\, możecie skorzystać z ich pomocy. W czasie dyżuru będzie również obecny tłumacz języka migowego. \nPrzy okazji rozliczania się z urzędem skarbowym zachęcamy do wsparcia działalności Fundacji FONIS. Jak pewnie już dobrze wiecie\, każdy podatnik może przekazać 1\,5% na wybraną przez siebie organizację pożytku publicznego. Będziemy wdzięczni\, jeśli wybierzecie nas 😊. Nasz numer KRS to 0000543679.
URL:https://fonis.pl/wydarzenia/rozliczenie-pit-ow-za-rok-2025-1/
ATTACH;FMTTYPE=image/jpeg:https://fonis.pl/wp-content/uploads/2018/02/Rozliczenie-pit-2018.jpeg
END:VEVENT
BEGIN:VEVENT
DTSTART;TZID=UTC:20260310T170000
DTEND;TZID=UTC:20260310T183000
DTSTAMP:20260425T201749
CREATED:20260122T214319Z
LAST-MODIFIED:20260122T214319Z
UID:195013-1773162000-1773167400@fonis.pl
SUMMARY:Rozliczenie PIT-ów za rok 2025 (2)
DESCRIPTION:Rozliczenie PIT-ów za rok 2025 (2). Podobnie jak w minionych latach\, tak i w tym roku w Fundacji FONIS pomagamy przy rozliczeniu PIT-ów. Drugi dyżur naszych wolontariuszek: Doroty Łesak i Yuliyi Kuzyk zaplanowaliśmy na wtorek 10 marca 2026 roku w godzinach 17.00-18.30. Aby skorzystać z pomocy musicie się zapisać na wybrany dzień. W tym celu wyślijcie do nas sms-a na numer 690 502 670. Dopiero po otrzymaniu od nas potwierdzenia wyznaczonego terminu i godziny przyjdźcie do biura Fundacji FONIS. Znajduje się ono w budynku Centrum Duszpasterskiego Archidiecezji Wrocławskiej przy ul. Katedralnej 4 (pokój numer 2 na parterze\, tuż obok wejścia). \nWażne\, abyście przynieśli ze sobą dokumenty\, które pozwolą na rozliczenie się z urzędem skarbowym. Koniecznym więc będzie PIT-37 za poprzedni rok (czyli za rok 2024) oraz wszystkie PIT-y za ten rok\, to znaczy 2025\, które otrzymaliście od pracodawcy\, ZUS-u itd\, np. PIT-11\, PIT-8C\, PIT-R\, PIT-40A\, PIT-11A. \nNasze specjalistki Dorota Łesak i Yuliya Kuzyk mają kilkuletnie doświadczenie w zakresie rozliczania podatku PIT. Jeśli więc macie jakieś pytania lub wątpliwości dotyczące odliczeń od podatku\, ulg\, darowizn itp.\, możecie skorzystać z ich pomocy. W czasie dyżuru będzie również obecny tłumacz języka migowego. \nPrzy okazji rozliczania się z urzędem skarbowym zachęcamy do wsparcia działalności Fundacji FONIS. Jak pewnie już dobrze wiecie\, każdy podatnik może przekazać 1\,5% na wybraną przez siebie organizację pożytku publicznego. Będziemy wdzięczni\, jeśli wybierzecie nas 😊. Nasz numer KRS to 0000543679.
URL:https://fonis.pl/wydarzenia/rozliczenie-pit-ow-za-rok-2025-2/
ATTACH;FMTTYPE=image/jpeg:https://fonis.pl/wp-content/uploads/2018/02/Rozliczenie-pit-2018.jpeg
END:VEVENT
BEGIN:VEVENT
DTSTART;TZID=UTC:20260324T170000
DTEND;TZID=UTC:20260324T183000
DTSTAMP:20260425T201749
CREATED:20260122T214535Z
LAST-MODIFIED:20260122T214907Z
UID:195015-1774371600-1774377000@fonis.pl
SUMMARY:Rozliczenie PIT-ów za rok 2025 (3)
DESCRIPTION:Rozliczenie PIT-ów za rok 2025 (3). Podobnie jak w minionych latach\, tak i w tym roku w Fundacji FONIS pomagamy przy rozliczeniu PIT-ów. Trzeci dyżur naszych wolontariuszek: Doroty Łesak i Yuliyi Kuzyk zaplanowaliśmy na wtorek 24 marca 2026 roku w godzinach 17.00-18.30. Aby skorzystać z pomocy musicie się zapisać na wybrany dzień. W tym celu wyślijcie do nas sms-a na numer 690 502 670. Dopiero po otrzymaniu od nas potwierdzenia wyznaczonego terminu i godziny przyjdźcie do biura Fundacji FONIS. Znajduje się ono w budynku Centrum Duszpasterskiego Archidiecezji Wrocławskiej przy ul. Katedralnej 4 (pokój numer 2 na parterze\, tuż obok wejścia). \nWażne\, abyście przynieśli ze sobą dokumenty\, które pozwolą na rozliczenie się z urzędem skarbowym. Koniecznym więc będzie PIT-37 za poprzedni rok (czyli za rok 2024) oraz wszystkie PIT-y za ten rok\, to znaczy 2025\, które otrzymaliście od pracodawcy\, ZUS-u itd\, np. PIT-11\, PIT-8C\, PIT-R\, PIT-40A\, PIT-11A. \nNasze specjalistki Dorota Łesak i Yuliya Kuzyk mają kilkuletnie doświadczenie w zakresie rozliczania podatku PIT. Jeśli więc macie jakieś pytania lub wątpliwości dotyczące odliczeń od podatku\, ulg\, darowizn itp.\, możecie skorzystać z ich pomocy. W czasie dyżuru będzie również obecny tłumacz języka migowego. \nPrzy okazji rozliczania się z urzędem skarbowym zachęcamy do wsparcia działalności Fundacji FONIS. Jak pewnie już dobrze wiecie\, każdy podatnik może przekazać 1\,5% na wybraną przez siebie organizację pożytku publicznego. Będziemy wdzięczni\, jeśli wybierzecie nas 😊. Nasz numer KRS to 0000543679.
URL:https://fonis.pl/wydarzenia/rozliczenie-pit-ow-za-rok-2025-3/
ATTACH;FMTTYPE=image/jpeg:https://fonis.pl/wp-content/uploads/2018/02/Rozliczenie-pit-2018.jpeg
END:VEVENT
BEGIN:VEVENT
DTSTART;TZID=UTC:20260412T103000
DTEND;TZID=UTC:20260412T130000
DTSTAMP:20260425T201749
CREATED:20260325T050828Z
LAST-MODIFIED:20260325T050828Z
UID:195193-1775989800-1775998800@fonis.pl
SUMMARY:Spotkanie integracyjne – kwiecień 2026
DESCRIPTION:Spotkanie integracyjne – kwiecień 2026. Tradycją już jest\, że w każdą pierwszą niedzielę miesiąca zapraszamy Was na spotkanie integracyjne w Fundacji FONIS. W kwietniu 2026 nieco tę tradycje zmienimy. Ze względu na to\, że w pierwszą niedzielę kwietnia przypadają święta wielkanocne\, nasze spotkanie odbędzie się w drugą niedzielę tego miesiąca\, czyli 12 kwietnia 2026 roku. Ponadto dodatkową atrakcją kwietniowej integracji będzie przedstawienie przygotowane przez seniorów z Teatrzyku Babci i Dziadka pt. „Anioł”. \nCała reszta pozostaje bez zmian. Po Mszach Świętych w języku migowym w Duszpasterstwie Głuchoniemych i Niewidomych Archidiecezji Wrocławskiej idziemy “pod 4”. Tam zaś czeka na nas kawa\, herbata i ciastko\, czyli idealne warunku do spotkania integracyjnego. Odbędzie się ono w sali numer 15 na I piętrze w budynku Centrum Duszpasterskiego Archidiecezji Wrocławskiej przy ulicy Katedralnej 4 we Wrocławiu. Rozpoczynamy około godziny 10.30\, kończymy zaś wraz z wyjściem ostatnich gości. Jest to zwykle około godziny 13.00. \nSpotkanie integracyjne – kwiecień 2026 to dobra okazja do integracji środowiska osób niesłyszących i słabosłyszących\, ale też ich rodzin i wolontariuszy. To również sprzyjające okoliczności dla osób słyszących\, które uczestniczyły w kursach polskiego języka migowego\, aby sprawdzić w praktyce swoje umiejętności. Zapraszamy zarówno mieszkańców Wrocławia\, jak również osoby z innych zakątków Dolnego Śląska i Polski. \nZa udział w przygotowaniu poczęstunku i w sprzątaniu po wydarzeniu serdecznie dziękujemy wolontariuszom Fundacji FONIS.
URL:https://fonis.pl/wydarzenia/spotkanie-integracyjne-kwiecien-2026/
ATTACH;FMTTYPE=image/jpeg:https://fonis.pl/wp-content/uploads/2024/04/Spotkanie-integracyjne-w-Fundacji-FONIS-1.jpg
END:VEVENT
BEGIN:VEVENT
DTSTART;TZID=UTC:20260414T170000
DTEND;TZID=UTC:20260414T183000
DTSTAMP:20260425T201749
CREATED:20260122T214816Z
LAST-MODIFIED:20260122T214816Z
UID:195017-1776186000-1776191400@fonis.pl
SUMMARY:Rozliczenie PIT-ów za rok 2025 (4)
DESCRIPTION:Rozliczenie PIT-ów za rok 2025 (4). Podobnie jak w minionych latach\, tak i w tym roku w Fundacji FONIS pomagamy przy rozliczeniu PIT-ów. Czwarty i ostatni dyżur naszych wolontariuszek: Doroty Łesak i Yuliyi Kuzyk zaplanowaliśmy na wtorek 14 kwietnia 2026 roku w godzinach 17.00-18.30. Aby skorzystać z pomocy musicie się zapisać na wybrany dzień. W tym celu wyślijcie do nas sms-a na numer 690 502 670. Dopiero po otrzymaniu od nas potwierdzenia wyznaczonego terminu i godziny przyjdźcie do biura Fundacji FONIS. Znajduje się ono w budynku Centrum Duszpasterskiego Archidiecezji Wrocławskiej przy ul. Katedralnej 4 (pokój numer 2 na parterze\, tuż obok wejścia). \nWażne\, abyście przynieśli ze sobą dokumenty\, które pozwolą na rozliczenie się z urzędem skarbowym. Koniecznym więc będzie PIT-37 za poprzedni rok (czyli za rok 2024) oraz wszystkie PIT-y za ten rok\, to znaczy 2025\, które otrzymaliście od pracodawcy\, ZUS-u itd\, np. PIT-11\, PIT-8C\, PIT-R\, PIT-40A\, PIT-11A. \nNasze specjalistki Dorota Łesak i Yuliya Kuzyk mają kilkuletnie doświadczenie w zakresie rozliczania podatku PIT. Jeśli więc macie jakieś pytania lub wątpliwości dotyczące odliczeń od podatku\, ulg\, darowizn itp.\, możecie skorzystać z ich pomocy. W czasie dyżuru będzie również obecny tłumacz języka migowego. \nPrzy okazji rozliczania się z urzędem skarbowym zachęcamy do wsparcia działalności Fundacji FONIS. Jak pewnie już dobrze wiecie\, każdy podatnik może przekazać 1\,5% na wybraną przez siebie organizację pożytku publicznego. Będziemy wdzięczni\, jeśli wybierzecie nas 😊. Nasz numer KRS to 0000543679.
URL:https://fonis.pl/wydarzenia/rozliczenie-pit-ow-za-rok-2025-4/
ATTACH;FMTTYPE=image/jpeg:https://fonis.pl/wp-content/uploads/2018/02/Rozliczenie-pit-2018.jpeg
END:VEVENT
BEGIN:VEVENT
DTSTART;TZID=UTC:20260503T103000
DTEND;TZID=UTC:20260503T130000
DTSTAMP:20260425T201749
CREATED:20260423T064103Z
LAST-MODIFIED:20260423T064103Z
UID:195256-1777804200-1777813200@fonis.pl
SUMMARY:Spotkanie integracyjne – maj 2026
DESCRIPTION:Spotkanie integracyjne – maj 2026. Tradycją już jest\, że w każdą pierwszą niedzielę miesiąca zapraszamy Was na spotkanie integracyjne w Fundacji FONIS. W praktyce wygląda to tak\, że po Mszach Świętych w języku migowym w Duszpasterstwie Głuchoniemych i Niewidomych Archidiecezji Wrocławskiej w kościele NMP na Piasku idziemy “pod 4”. Tam zaś czeka na nas kawa\, herbata i ciastko\, czyli idealne warunku do spotkania integracyjnego. Oczywiście do udziału zapraszamy również tych\, którzy nie uczestniczą w niedzielnej Mszy. \nZapraszamy więc w pierwszą niedzielę maja (czyli 3 maja 2026 roku) na kolejne spotkanie. Odbędzie się ono w sali numer 15 na I piętrze w budynku Centrum Duszpasterskiego Archidiecezji Wrocławskiej przy ulicy Katedralnej 4 we Wrocławiu. Rozpoczynamy około godziny 10.30\, kończymy zaś wraz z wyjściem ostatnich gości. Jest to zwykle około godziny 13.00. \nSpotkanie integracyjne – maj 2026 to dobra okazja do integracji środowiska osób niesłyszących i słabosłyszących\, ale też ich rodzin i wolontariuszy. To również sprzyjające okoliczności dla osób słyszących\, które uczestniczyły w kursach polskiego języka migowego\, aby sprawdzić w praktyce swoje umiejętności. Zapraszamy zarówno mieszkańców Wrocławia\, jak również osoby z innych zakątków Dolnego Śląska i Polski. \nZa udział w przygotowaniu poczęstunku i w sprzątaniu po wydarzeniu serdecznie dziękujemy wolontariuszom Fundacji FONIS. \nA zatem serdecznie zapraszamy!
URL:https://fonis.pl/wydarzenia/spotkanie-integracyjne-maj-2026/
ATTACH;FMTTYPE=image/jpeg:https://fonis.pl/wp-content/uploads/2026/03/W-meksykanskim-klimacie-1.jpg
END:VEVENT
END:VCALENDAR