BEGIN:VCALENDAR
VERSION:2.0
PRODID:-//Fundacja Fonis - ECPv6.15.18//NONSGML v1.0//EN
CALSCALE:GREGORIAN
METHOD:PUBLISH
X-ORIGINAL-URL:https://fonis.pl
X-WR-CALDESC:Wydarzenia dla Fundacja Fonis
REFRESH-INTERVAL;VALUE=DURATION:PT1H
X-Robots-Tag:noindex
X-PUBLISHED-TTL:PT1H
BEGIN:VTIMEZONE
TZID:UTC
BEGIN:STANDARD
TZOFFSETFROM:+0000
TZOFFSETTO:+0000
TZNAME:UTC
DTSTART:20240101T000000
END:STANDARD
END:VTIMEZONE
BEGIN:VEVENT
DTSTART;TZID=UTC:20251102T103000
DTEND;TZID=UTC:20251102T130000
DTSTAMP:20260425T012629
CREATED:20251024T135631Z
LAST-MODIFIED:20251024T135631Z
UID:194770-1762079400-1762088400@fonis.pl
SUMMARY:Spotkanie integracyjne – listopad 2025
DESCRIPTION:Spotkanie integracyjne – listopad 2025. Tradycją już jest\, że w każdą pierwszą niedzielę miesiąca zapraszamy Was na spotkanie integracyjne w Fundacji FONIS. W praktyce wygląda to tak\, że po Mszach Świętych w języku migowym w Duszpasterstwie Niesłyszących w kościele NMP na Piasku idziemy “pod 4”. Tam zaś czeka na nas kawa\, herbata i ciastko\, czyli doskonałe warunki do spotkania integracyjnego. Oczywiście do udziału zapraszamy również tych\, którzy nie uczestniczą w niedzielnej Mszy. \nZapraszamy więc w pierwszą niedzielę listopada na kolejne spotkanie. Przypadnie ono w dzień zaduszny\, czyli 2 listopada\, ale mimo to nie odwołujemy wydarzenia. Zapraszamy do sali numer 15 na I piętrze w budynku Centrum Duszpasterskiego Archidiecezji Wrocławskiej przy ulicy Katedralnej 4 we Wrocławiu. Spotkanie rozpoczynamy około godziny 10.30\, kończymy zaś wraz z wyjściem ostatnich gości. Jest to zwykle już po godzinie 13.00. \nSpotkanie integracyjne – listopad 2025 to dobra okazja do integracji środowiska osób niesłyszących i słabosłyszących\, ale też ich rodzin i wolontariuszy. To również sprzyjające okoliczności dla osób słyszących\, które uczestniczyły w kursach polskiego języka migowego\, aby sprawdzić w praktyce swoje umiejętności. Zapraszamy zarówno mieszkańców Wrocławia\, jak również osoby z innych zakątków Dolnego Śląska i Polski. \nZa udział w przygotowaniu poczęstunku i w sprzątaniu po wydarzeniu serdecznie dziękujemy wolontariuszom Fundacji FONIS. A zatem serdecznie zapraszamy! Do zobaczenia
URL:https://fonis.pl/wydarzenia/spotkanie-integracyjne-listopad-2025/
ATTACH;FMTTYPE=image/jpeg:https://fonis.pl/wp-content/uploads/2024/04/Spotkanie-integracyjne-w-Fundacji-FONIS-1.jpg
END:VEVENT
BEGIN:VEVENT
DTSTART;TZID=UTC:20251126T103000
DTEND;TZID=UTC:20251126T120000
DTSTAMP:20260425T012629
CREATED:20251114T075535Z
LAST-MODIFIED:20251114T075535Z
UID:194830-1764153000-1764158400@fonis.pl
SUMMARY:Wyjście seniorów do Muzeum Etnograficznego
DESCRIPTION:Wyjście seniorów do Muzeum Etnograficznego. Jedną listopadowych propozycji Fundacji FONIS dla niesłyszących i słabosłyszących członków Klubu Seniora „Integracja” jest wyjście do muzeum. W środę 26 listopada 2025 roku zabierzemy seniorów na wystawę „Dolnoślązacy. Pamięć\, kultura\, tożsamość” prezentowaną w jednym z oddziałów wrocławskiego Muzeum Narodowego\, czyli w Muzeum Etnograficznym przy ul. R. Traugutta 111-113. Zwiedzanie rozpoczniemy o godzinie 10.45 i będzie trwało do godziny 12.00. Spotykamy się zaś przy wejściu do muzeum o godzinie 10.30. \nWystawa stała „Dolnoślązacy. Pamięć\, kultura\, tożsamość” składa się z dwóch części. Pierwsza poświęcona jest kulturze i historii ludności\, która zamieszkiwała tereny Dolnego Śląska przed 1945 rokiem. Druga część natomiast pokazuje powojenne losy osadników\, którzy przybyli na nasze tereny z różnych stron. \nNa ekspozycji zestawiono więc dwa wizerunki tutejszej kultury ludowej. Pierwsza z nich to w miarę stabilna\, choć niejednorodna\, dziewiętnastowieczna oraz druga\, ta z pierwszych lat powojennych. Stanowi ona swoistą mozaikę – nakładających się na tamtą – tradycji różnorodnych grup osadniczych. \nUdział w wycieczce jest bezpłatny\, ale ze względów organizacyjnych obowiązują zapisy. Zapisać się można\, wysyłając sms do Renaty Maciejewskiej (tel. 667 734 269) do poniedziałku 24 listopada 2025 roku lub do wyczerpania miejsc. Mamy ich dla Was 25\, więc nie zwlekajcie! Nie musimy oczywiście dodawać\, że w czasie zwiedzania zapewnimy obecność tłumacza języka migowego. \nWyjście seniorów do Muzeum Etnograficznego organizujemy w ramach realizacji zadania publicznego: „Działania na rzecz wrocławskich seniorów w latach 2025-2026 – Aktywny senior” współfinansowanego ze środków Gminy Wrocław (www.wroclaw.pl).
URL:https://fonis.pl/wydarzenia/wyjscie-seniorow-do-muzeum-etnograficznego/
ATTACH;FMTTYPE=image/jpeg:https://fonis.pl/wp-content/uploads/2025/11/Wyjscie-do-Muzeum-Etnograficznego.jpg
END:VEVENT
END:VCALENDAR