BEGIN:VCALENDAR
VERSION:2.0
PRODID:-//Fundacja Fonis - ECPv6.15.20//NONSGML v1.0//EN
CALSCALE:GREGORIAN
METHOD:PUBLISH
X-WR-CALNAME:Fundacja Fonis
X-ORIGINAL-URL:https://fonis.pl
X-WR-CALDESC:Wydarzenia dla Fundacja Fonis
REFRESH-INTERVAL;VALUE=DURATION:PT1H
X-Robots-Tag:noindex
X-PUBLISHED-TTL:PT1H
BEGIN:VTIMEZONE
TZID:UTC
BEGIN:STANDARD
TZOFFSETFROM:+0000
TZOFFSETTO:+0000
TZNAME:UTC
DTSTART:20240101T000000
END:STANDARD
END:VTIMEZONE
BEGIN:VEVENT
DTSTART;TZID=UTC:20250302T103000
DTEND;TZID=UTC:20250302T130000
DTSTAMP:20260425T135038
CREATED:20250213T152144Z
LAST-MODIFIED:20250213T152144Z
UID:194079-1740911400-1740920400@fonis.pl
SUMMARY:Spotkanie integracyjne – marzec 2025
DESCRIPTION:Spotkanie integracyjne – marzec 2025. Tradycją już jest\, że w każdą pierwszą niedzielę miesiąca zapraszamy Was na spotkanie integracyjne w Fundacji FONIS. W praktyce wygląda to tak\, że po Mszach Świętych w języku migowym w Duszpasterstwie Niesłyszących w kościele NMP na Piasku idziemy “pod 4”. Tam zaś czeka na nas kawa\, herbata i ciastko\, czyli doskonałe warunki do spotkania integracyjnego. Oczywiście do udziału zapraszamy również tych\, którzy nie uczestniczą w niedzielnej Mszy. \nZapraszamy więc w pierwszą niedzielę marca (czyli 2 marca 2025 roku) na kolejne spotkanie. Odbędzie się ono w sali numer 15 na I piętrze w budynku Centrum Duszpasterskiego Archidiecezji Wrocławskiej przy ulicy Katedralnej 4 we Wrocławiu. Spotkanie rozpoczynamy około godziny 10.30\, kończymy zaś wraz z wyjściem ostatnich gości. Jest to zwykle już po godzinie 13.00. \nSpotkanie integracyjne – marzec 2025 to dobra okazja do integracji środowiska osób niesłyszących i słabosłyszących\, ale też ich rodzin i wolontariuszy. To również sprzyjające okoliczności dla osób słyszących\, które uczestniczyły w kursach polskiego języka migowego\, aby sprawdzić w praktyce swoje umiejętności. Zapraszamy zarówno mieszkańców Wrocławia\, jak również osoby z innych zakątków Dolnego Śląska i Polski. \nZa udział w przygotowaniu poczęstunku i w sprzątaniu po wydarzeniu serdecznie dziękujemy wolontariuszom Fundacji FONIS. A zatem serdecznie zapraszamy! Do zobaczenia
URL:https://fonis.pl/wydarzenia/spotkanie-integracyjne-marzec-2025/
ATTACH;FMTTYPE=image/jpeg:https://fonis.pl/wp-content/uploads/2020/09/spotkanie-integracyjne-2-kwadrat-plan-A.jpg
END:VEVENT
BEGIN:VEVENT
DTSTART;TZID=UTC:20250314T190000
DTEND;TZID=UTC:20250314T210000
DTSTAMP:20260425T135038
CREATED:20250225T063909Z
LAST-MODIFIED:20250225T063909Z
UID:194096-1741978800-1741986000@fonis.pl
SUMMARY:Kurs finansowy Crown (PJM) - zakończenie
DESCRIPTION:Kurs finansowy Crown (PJM) – zakończenie. Od września 2024 roku w naszej Fundacji odbywały się zajęcia kursu finansowego Crown w języku migowym. Co dwa tygodnie kilka osób niesłyszących i słabosłyszących spotykało się pod 4\, aby zwiększać swoje kompetencje w zakresie zarządzania finansami. \nKurs obejmował w sumie 12 spotkań. Pierwszym było spotkanie organizacyjne\, po którym odbyło się 10 spotkań tematycznych. Ostatnie z cyklu zaplanowaliśmy na piątek 14 marca 2025 roku. Rozpoczniemy je o godz. 19.00 w stałym miejscu\, czyli w sali nr 2 w Centrum Duszpasterskim Archidiecezji Wrocławskiej przy ul. Katedralnej 4 we Wrocławiu. \nKurs finansowy Crown w języku migowym w Fundacji FONIS odbywał się dzięki inicjatywie wolontariusza Fundacji FONIS – Pawła Wojewody. Jest on certyfikowanym liderem i prowadzi kursy online oraz stacjonarnie. My zaś zadbaliśmy o tłumaczenie spotkań na Polski Język Migowy. Podczas prawie sześciu miesięcy trwania zajęć uczył on uczestników\, jak dostosować sposób prowadzenia finansów do zasad wynikających ze Słowa Bożego. Kurs miał więc podwójny charakter. Z jednej strony pomagał pogłębić więź z Bogiem i poznać te fragmenty Biblii\, w których jest mowa o finansach. Z drugiej natomiast uczył jak zmniejszyć zadłużenie\, dobrze i bezpiecznie zarządzać finansami domowymi\, czy też zadbać o oszczędności i inwestycje. \nKurs finansowy Crown (PJM) – zakończenie. Ostatnie spotkanie będzie miało charakter podsumowania. Uczestnicy będą również dzielić się swoimi wrażeniami oraz doświadczeniem wynikającym z prowadzenia budżetu domowego zgodnie ze wskazaniami lidera.
URL:https://fonis.pl/wydarzenia/kurs-finansowy-crown-pjm-zakonczenie/
ATTACH;FMTTYPE=image/jpeg:https://fonis.pl/wp-content/uploads/2024/08/Kurs-finansowy-Crown.jpg
END:VEVENT
BEGIN:VEVENT
DTSTART;TZID=UTC:20250322T110000
DTEND;TZID=UTC:20250322T130000
DTSTAMP:20260425T135038
CREATED:20250225T075715Z
LAST-MODIFIED:20250225T075715Z
UID:194098-1742641200-1742648400@fonis.pl
SUMMARY:Film Jesus ASL
DESCRIPTION:Film Jesus ASL. Fundacja FONIS oraz Pozytywne Znaki zapraszają serdecznie na projekcję filmu „Jesus” w ASL\, czyli amerykańskim języku migowym z polskimi napisami. Odbędzie się ona w Dolnośląskim Centrum Filmowym przy ul. Piłsudskiego 64a we Wrocławiu w sobotę 22 marca 2025 roku o godz. 11.00. Osoby zainteresowane odebraniem bezpłatnego biletu zapraszamy do kontaktu z nami (tel. 690 502 670 lub mail: kontakt@fonis.pl). \nFilm przygotowała Deaf Missions czyli Misja dla niesłyszących\, która ma siedzibę w stanie Iowa w USA. Jego niezwykłość polega na tym\, że to pierwszy na świecie film nagrany przez niesłyszących i z niesłyszącymi aktorami. Jak mówią twórcy historia przedstawiona w filmie jest w 85% zgodna z historią biblijną. Pozostałe 15% obejmuje język ASL (American Sign Language) oraz tzw. kulturę głuchych. Przez większą część filmu aktorzy na oznaczenie Jezusa nie używają znaku miganego środkowymi palcami na dłoni\, ponieważ ten znak ma wskazywać na Jego ukrzyżowanie\, co następuje dopiero na końcu filmu. \nInspiracją do przygotowania filmu było doświadczenie jednego z twórców\, który dorastając w chrześcijańskim domu odczuwał brak filmów o Jezusie w ASL. Gdy dorósł rozpoczął karierę aktorską w teatrze. Występował w Broadway’u. Aż wreszcie dojrzał do decyzji\, że chce stworzyć film\, który pomoże ludziom Głuchym zobaczyć i zrozumieć\, kim jest Jezus. \nSerdecznie zapraszamy na film Jesus ASL. Zachętą do przyjścia na projekcję filmu niech będzie zwiastun\, który prezentujemy poniżej:
URL:https://fonis.pl/wydarzenia/film-jesus-asl/
ATTACH;FMTTYPE=image/jpeg:https://fonis.pl/wp-content/uploads/2025/02/Film-Jesus-ASL.jpg
END:VEVENT
BEGIN:VEVENT
DTSTART;TZID=UTC:20250328T170000
DTEND;TZID=UTC:20250328T180000
DTSTAMP:20260425T135038
CREATED:20250308T194544Z
LAST-MODIFIED:20250308T194544Z
UID:194133-1743181200-1743184800@fonis.pl
SUMMARY:Spotkanie wolontariuszy – marzec 2025
DESCRIPTION:Spotkanie wolontariuszy – marzec 2025. Kolejne spotkanie wolontariuszy Fundacji FONIS odbędzie się w piątek 28 marca 2025 roku. Rozpocznie się jak zawsze o godz. 17.00\, zaś miejscem spotkania tradycyjnie już będzie Centrum Duszpasterskie Archidiecezji Wrocławskiej przy ulicy Katedralnej 4 na Ostrowie Tumskim we Wrocławiu. \nSpotkania wolontariuszy Fundacji FONIS na stałe wpisują się w kalendarz działań naszej organizacji. Spotykamy się zawsze w czwarty piątek miesiąca. Nie inaczej będzie tym razem. Marcowe spotkanie będzie okazją\, aby podsumować miniony miesiąc działań wolontaryjnych. Ale przede wszystkim będzie to czas\, aby omówić działania na kwiecień. Wśród nich będzie między innymi spotkanie integracyjne w kwietniu\, pozyskanie 1\,5% dla Fundacji FONIS\, a także początek przygotowań do festynu i inicjatyw wakacyjnych. \nPonieważ od września 2023 roku nieco przeorganizowaliśmy strukturę naszego wolontariatu\, na godzinę 16.30 zapraszamy osoby odpowiedzialne za poszczególne obszary działań wolontaryjnych. Przed ogólnym spotkaniem z wolontariuszami przygotujemy plan dla poszczególnych sekcji. \nSerdecznie zapraszamy więc na spotkanie wolontariuszy – marzec 2025 nie tylko naszych stałych bywalców. Będziemy się także cieszyć\, jeśli do naszego grona dołączą nowe osoby. Mile widziane są zarówno osoby znające język migowy\, jak i te\, które dopiero chcą nauczyć się komunikować z niesłyszącymi i słabosłyszącymi. Spotkanie bowiem dostosujemy i do osób niesłyszących\, i do osób słyszących. A zatem serdecznie zapraszamy „pod 4” już 28 marca 2025 roku! Do zobaczenia.
URL:https://fonis.pl/wydarzenia/spotkanie-wolontariuszy-marzec-2025/
ATTACH;FMTTYPE=image/jpeg:https://fonis.pl/wp-content/uploads/2024/05/Wolontariusze-w-arboretum-2.jpg
END:VEVENT
END:VCALENDAR