BEGIN:VCALENDAR
VERSION:2.0
PRODID:-//Fundacja Fonis - ECPv6.15.18//NONSGML v1.0//EN
CALSCALE:GREGORIAN
METHOD:PUBLISH
X-WR-CALNAME:Fundacja Fonis
X-ORIGINAL-URL:https://fonis.pl
X-WR-CALDESC:Wydarzenia dla Fundacja Fonis
REFRESH-INTERVAL;VALUE=DURATION:PT1H
X-Robots-Tag:noindex
X-PUBLISHED-TTL:PT1H
BEGIN:VTIMEZONE
TZID:UTC
BEGIN:STANDARD
TZOFFSETFROM:+0000
TZOFFSETTO:+0000
TZNAME:UTC
DTSTART:20190101T000000
END:STANDARD
END:VTIMEZONE
BEGIN:VEVENT
DTSTART;TZID=UTC:20220319T113000
DTEND;TZID=UTC:20220319T160000
DTSTAMP:20260423T225722
CREATED:20220314T214327Z
LAST-MODIFIED:20220314T214327Z
UID:164413-1647689400-1647705600@fonis.pl
SUMMARY:Zapraszamy na XIV Niepowtarzalne Spotkanie
DESCRIPTION:Zapraszamy serdecznie na XIV Niepowtarzalne Spotkanie. Kolejne już spotkanie pod patronatem Fundacji FONIS zaplanowaliśmy na sobotę 19 marca 2022 roku. Rozpoczniemy je o godzinie 11.30\, zaś zakończymy około godziny 16.00. Do udziału zapraszamy wszystkich niesłyszących i słabosłyszących\, a szczególnie młodzież. Mile widziani będą zarówno użytkownicy implantów ślimakowych i aparatów słuchowych\, jak też ci\, którzy z takich dobrodziejstw nie korzystają. Udział w spotkaniu jest nieodpłatny\, ale uczestnicy mogą ze sobą przynieść małe co nieco na wspólny stół. \nSpotkanie poprowadzi – jak zawsze – Alicja Zawada. W programie sobotniego spotkania zawarła trzy punkty. Pierwszym jest spotkanie integracyjne przy kawie\, herbacie i ciastku\, czyli tak zwane zawiązanie wspólnoty. Następnie odbędzie się prelekcja zaproszonych gości. Tym razem będą to głusi uchodźcy z ogarniętej wojną Ukrainy\, którzy znaleźli schronienie we Wrocławiu. Opowiedzą oni nie tylko o wydarzeniach ostatnich dni i ucieczce do Polski\, ale także o życiu osób niesłyszących na Ukrainie. Ostatnim punktem programu będzie zabawa “Kocham Cię\, Polsko”\, która zwykle budzi sporo emocji. Czy tak będzie i tym razem? Zapraszamy\, przyjdźcie i przekonajcie się sami. \nXIV Niepowtarzalne Spotkanie już wkrótce. Dla tych\, którzy wahają się czy warto\, polecamy zapoznanie się z relacjami filmowymi z poprzednich spotkań (VIII Niepowtarzalne Spotkanie\, XI Niepowtarzalne Spotkanie). \nZaproszenie w języku migowym dostępne jest na naszym profilu facebookowym.
URL:https://fonis.pl/wydarzenia/zapraszamy-na-xiv-niepowtarzalne-spotkanie/
LOCATION:Centrum Duszpasterskie Archidiecezji Wrocławskiej\, ul. Katedralna 4\, Wrocław\, Dolnośląskie\, 50-328\, Polska
ATTACH;FMTTYPE=image/jpeg:https://fonis.pl/wp-content/uploads/2022/03/Ogloszenie-XVI-1x1-2.jpg
END:VEVENT
BEGIN:VEVENT
DTSTART;VALUE=DATE:20200222
DTEND;VALUE=DATE:20200223
DTSTAMP:20260423T225722
CREATED:20190703T123116Z
LAST-MODIFIED:20200121T092014Z
UID:9404-1582329600-1582415999@fonis.pl
SUMMARY:Zrozumieć dziecko z wadą słuchu - Gdańsk
DESCRIPTION:Zrozumieć dziecko z wadą słuchu – Gdańsk. Fundacja FONIS we współpracy z PZG Dolnośląskie Centrum Medyczne Sp. z o.o. we Wrocławiu serdecznie zaprasza do udziału w projekcie „Zrozumieć dziecko z wadą słuchu”. Przy wsparciu PFRON zorganizowaliśmy warsztaty szkoleniowe dla specjalistów mających zawodowy kontakt z wadami słuchu oraz z zaburzeniami przetwarzania słuchowego. Szkolenie odbędzie się w Gdańsku w sobotę 22 lutego 2020 roku. \nJeśli jesteś osobą bezpośrednio zaangażowaną w proces wychowania\, terapii i edukacji dzieci i młodzieży z niepełnosprawnością słuchu. Chcesz poszerzyć swoją wiedzę\, podnieść kwalifikacje\, a także rozwinąć umiejętności w pracy z osobami z niepełnosprawnością słuchową. Mieszkasz w województwie dolnośląskim\, małopolskim\, wielkopolskim\, śląskim\, lubelskim\, podlaskim\, mazowieckim lub łódzkim. \nProgram szkolenia „Zrozumieć dziecko z wadą słuchu – Gdańsk” obejmuje m.in. następującą tematykę: stopnie niedosłuchu i ich konsekwencje dla rozwoju mowy\, działanie słuchu oraz słyszenie dziecka z zaburzeniami słuchu\, aparaty słuchowe\, implanty ślimakowe oraz praktyczne wskazówki dla pracujących z dzieckiem z wadą słuchu. \nAby wziąć udział w projekcie lub uzyskać odpowiedź na pytania skontaktuj się z biurem projektu: ul. Braniborska 2/10\, 53-680 Wrocław\, tel. 691 737 789\, mail: mira.krynicka-wozniak@fonis.pl \nOkres realizacji projektu: 01.04.2019 – 31.03.2020r. Całkowita wartość projektu: 87 829\,14 zł\, zaś kwota dofinansowania: 66 519\,14 zł. \nProjekt jest współfinansowany ze środków Państwowego Funduszu Rehabilitacji Osób Niepełnosprawnych.
URL:https://fonis.pl/wydarzenia/zrozumiec-dziecko-z-wada-sluchu-lublin/
LOCATION:Dolnośląskie
ATTACH;FMTTYPE=image/jpeg:https://fonis.pl/wp-content/uploads/2019/03/usłysz-nas-17-3.jpg
END:VEVENT
BEGIN:VEVENT
DTSTART;VALUE=DATE:20200221
DTEND;VALUE=DATE:20200222
DTSTAMP:20260423T225722
CREATED:20191031T091426Z
LAST-MODIFIED:20200121T092031Z
UID:9666-1582243200-1582329599@fonis.pl
SUMMARY:Zrozumieć dziecko z wadą słuchu - Gdańsk
DESCRIPTION:Zrozumieć dziecko z wadą słuchu – Gdańsk. Fundacja FONIS we współpracy z PZG Dolnośląskie Centrum Medyczne Sp. z o.o. we Wrocławiu serdecznie zaprasza do udziału w projekcie „Zrozumieć dziecko z wadą słuchu”. Przy wsparciu PFRON zorganizowaliśmy warsztaty szkoleniowe dla rodziców/opiekunów dzieci oraz nauczycieli mających zawodowy kontakt z wadami słuchu oraz z zaburzeniami przetwarzania słuchowego. Szkolenie odbędzie się w Gdańsku w piątek 21 lutego 2020 roku. \n\n\n\nJeśli jesteś osobą bezpośrednio zaangażowaną w proces wychowania\, terapii i edukacji dzieci i młodzieży z niepełnosprawnością słuchu. Chcesz poszerzyć swoją wiedzę\, podnieść kwalifikacje\, a także rozwinąć umiejętności w pracy z osobami z niepełnosprawnością słuchową. Mieszkasz w województwie dolnośląskim\, małopolskim\, wielkopolskim\, śląskim\, lubelskim\, podlaskim\, mazowieckim lub łódzkim. \nProgram szkolenia „Zrozumieć dziecko z wadą słuchu – Gdańsk” obejmuje m.in. następującą tematykę: stopnie niedosłuchu i ich konsekwencje dla rozwoju mowy\, działanie słuchu oraz słyszenie dziecka z zaburzeniami słuchu\, aparaty słuchowe\, implanty ślimakowe oraz praktyczne wskazówki dla pracujących z dzieckiem z wadą słuchu. \n\n\n\nAby wziąć udział w projekcie lub uzyskać odpowiedź na pytania skontaktuj się z biurem projektu: ul. Braniborska 2/10\, 53-680 Wrocław\, tel. 691 737 789\, mail: mira.krynicka-wozniak@fonis.pl \n\n\n\nOkres realizacji projektu: 01.04.2019 – 31.03.2020r. Całkowita wartość projektu: 87 829\,14 zł\, zaś kwota dofinansowania: 66 519\,14 zł. \n\n\n\nProjekt jest współfinansowany ze środków Państwowego Funduszu Rehabilitacji Osób Niepełnosprawnych.
URL:https://fonis.pl/wydarzenia/zrozumiec-dziecko-z-wada-sluchu-gdansk/
LOCATION:Dolnośląskie
ATTACH;FMTTYPE=image/jpeg:https://fonis.pl/wp-content/uploads/2019/03/usłysz-nas-17-3.jpg
END:VEVENT
BEGIN:VEVENT
DTSTART;VALUE=DATE:20200215
DTEND;VALUE=DATE:20200216
DTSTAMP:20260423T225722
CREATED:20190703T123539Z
LAST-MODIFIED:20200121T091503Z
UID:9406-1581724800-1581811199@fonis.pl
SUMMARY:Zrozumieć dziecko z wadą słuchu - Rawicz
DESCRIPTION:Zrozumieć dziecko z wadą słuchu – Rawicz. Fundacja FONIS we współpracy z PZG Dolnośląskie Centrum Medyczne Sp. z o.o. we Wrocławiu serdecznie zaprasza do udziału w projekcie „Zrozumieć dziecko z wadą słuchu”. Przy wsparciu PFRON zorganizowaliśmy warsztaty szkoleniowe dla rodziców dzieci oraz nauczycieli i specjalistów mających zawodowy kontakt z wadami słuchu oraz z zaburzeniami przetwarzania słuchowego. Szkolenie „Zrozumieć dziecko z wadą słuchu – Rawicz” odbędzie się w piątek 15 lutego 2020 roku. \nJeśli jesteś osobą bezpośrednio zaangażowaną w proces wychowania\, terapii i edukacji dzieci i młodzieży z niepełnosprawnością słuchu. Chcesz poszerzyć swoją wiedzę\, podnieść kwalifikacje\, a także rozwinąć umiejętności w pracy z osobami z niepełnosprawnością słuchową. Mieszkasz w województwie dolnośląskim\, małopolskim\, wielkopolskim\, śląskim\, lubelskim\, podlaskim\, mazowieckim lub łódzkim. \nProgram szkolenia obejmuje m.in. następującą tematykę: stopnie niedosłuchu i ich konsekwencje dla rozwoju mowy\, działanie słuchu oraz słyszenie dziecka z zaburzeniami słuchu\, aparaty słuchowe\, implanty ślimakowe oraz praktyczne wskazówki dla pracujących z dzieckiem z wadą słuchu. \nAby wziąć udział w projekcie lub uzyskać odpowiedź na pytania skontaktuj się z biurem projektu: ul. Braniborska 2/10\, 53-680 Wrocław\, tel. 691 737 789\, mail: mira.krynicka-wozniak@fonis.pl \nOkres realizacji projektu: 01.04.2019 – 31.03.2020r. Całkowita wartość projektu: 87 829\,14 zł\, zaś kwota dofinansowania: 66 519\,14 zł. \nProjekt jest współfinansowany ze środków Państwowego Funduszu Rehabilitacji Osób Niepełnosprawnych.
URL:https://fonis.pl/wydarzenia/zrozumiec-dziecko-z-wada-sluchu-bydgoszcz/
LOCATION:Dolnośląskie
ATTACH;FMTTYPE=image/jpeg:https://fonis.pl/wp-content/uploads/2019/03/usłysz-nas-17-3.jpg
END:VEVENT
END:VCALENDAR