BEGIN:VCALENDAR
VERSION:2.0
PRODID:-//Fundacja Fonis - ECPv6.15.18//NONSGML v1.0//EN
CALSCALE:GREGORIAN
METHOD:PUBLISH
X-WR-CALNAME:Fundacja Fonis
X-ORIGINAL-URL:https://fonis.pl
X-WR-CALDESC:Wydarzenia dla Fundacja Fonis
REFRESH-INTERVAL;VALUE=DURATION:PT1H
X-Robots-Tag:noindex
X-PUBLISHED-TTL:PT1H
BEGIN:VTIMEZONE
TZID:UTC
BEGIN:STANDARD
TZOFFSETFROM:+0000
TZOFFSETTO:+0000
TZNAME:UTC
DTSTART:20240101T000000
END:STANDARD
END:VTIMEZONE
BEGIN:VEVENT
DTSTART;TZID=UTC:20250411T163000
DTEND;TZID=UTC:20250411T180000
DTSTAMP:20260424T211811
CREATED:20250327T132845Z
LAST-MODIFIED:20250327T132845Z
UID:194186-1744389000-1744394400@fonis.pl
SUMMARY:Gry planszowe i karciane – kwiecień 2025
DESCRIPTION:Gry planszowe i karciane – kwiecień 2025. Fundacja FONIS zaprasza na spotkanie w piątek 11 kwietnia 2025 roku na gry planszowe i karciane. Doświadczenie kilku lat spotkań w gronie niesłyszących i słabosłyszących pokazuje\, że wiele osób lubi ten rodzaj rozrywki. Podczas wspólnych wyjazdów czy też spotkań wolontariuszy wiele osób chętnie angażowało się w różne gry. Wobec tego postanowiliśmy na stałe program pracy Fundacji FONIS wpisać takie wydarzenie. Będzie się ono odbywać cyklicznie raz w miesiącu. Zapraszamy w każdy drugi piątek miesiąca do Centrum Duszpasterskiego Archidiecezji Wrocławskiej przy ulicy Katedralnej 4. W sali numer 2 od godziny 16.30 będą na Was czekać Klaudia i Ania – wolontariuszki Fundacji odpowiedzialne za organizację wydarzenia. Zaproszą Was one także do skorzystania z bufetu\, czyli kawy\, herbaty i ciastka. \nW zasobach naszej Fundacji są gry takie jak: Carcassonne\, Dog\, Miasto Stu Mostów\, Ramzes. Oprócz tych planszowych mamy też karciane (między innymi Fasolki\, Wirus\, Double\, Uno) i zręcznościowe (na przykład Jenga\, Suspend). Oczywiście uczestnicy mogą ze sobą przynieść własne gry i nauczyć pozostałych uczestników zasad gry. \nA zatem serdecznie zapraszamy na gry planszowe i karciane – kwiecień 2025. Mile widziani są zarówno wolontariusze Fundacji FONIS\, jak i ci\, którzy do wolontariatu nie należą. Zapraszamy każdego bez względu na wiek\, ubytek słuchu lub jego brak czy narodowość. \n  \nPrzypominamy\, że działalność naszej Fundacji możliwa jest dzięki wsparciu darczyńców. Możecie nam pomóc przekazując 1\,5% podatku podczas rozliczenia z Urzędem Skarbowym. Nasz numer KRS to 0000543679.
URL:https://fonis.pl/wydarzenia/gry-planszowe-i-karciane-kwiecien-2025/
ATTACH;FMTTYPE=image/jpeg:https://fonis.pl/wp-content/uploads/2025/03/Gry-planszowe.jpg
END:VEVENT
END:VCALENDAR