BEGIN:VCALENDAR
VERSION:2.0
PRODID:-//Fundacja Fonis - ECPv6.15.18//NONSGML v1.0//EN
CALSCALE:GREGORIAN
METHOD:PUBLISH
X-WR-CALNAME:Fundacja Fonis
X-ORIGINAL-URL:https://fonis.pl
X-WR-CALDESC:Wydarzenia dla Fundacja Fonis
REFRESH-INTERVAL;VALUE=DURATION:PT1H
X-Robots-Tag:noindex
X-PUBLISHED-TTL:PT1H
BEGIN:VTIMEZONE
TZID:UTC
BEGIN:STANDARD
TZOFFSETFROM:+0000
TZOFFSETTO:+0000
TZNAME:UTC
DTSTART:20200101T000000
END:STANDARD
END:VTIMEZONE
BEGIN:VEVENT
DTSTART;TZID=UTC:20211130T133000
DTEND;TZID=UTC:20211130T153000
DTSTAMP:20260424T020226
CREATED:20211124T184710Z
LAST-MODIFIED:20211124T184710Z
UID:127198-1638279000-1638286200@fonis.pl
SUMMARY:Spencer - seniorzy w kinie
DESCRIPTION:Spencer – seniorzy w kinie. Ostatnia listopadowa propozycja kierowana przez naszą Fundację do seniorów to wyjście do kina. We wtorek 30 listopada 2021 roku o godzinie 13.30 zapraszamy na film pod tytułem „Spencer”. Projekcja filmu odbędzie się w Dolnośląskim Centrum Filmowym we Wrocławiu przy ulicy Piłsudskiego 64a. Wielu seniorów kojarzy to miejsce jako dawne kino „Warszawa”. Ponieważ seans rozpoczyna się o 13.30\, my spotkamy się o godzinie 13.15\, aby na spokojnie rozdać bilety i zająć miejsca w sali kinowej. \nFilm „Spencer” to film biograficzny w reżyserii Pablo Larrain’a. Przybliża postać księżnej Diany\, która zginęła w tragicznym wypadku w 1997 roku. Film pokazuje ten moment w życiu księżnej Diany\, kiedy w jej małżeństwo z księciem Karolem już dawno wkradł się chłód. Krążą pogłoski o ich romansach i możliwym rozwodzie. Jednak święta Bożego Narodzenia w królewskiej posiadłości Sandringham mają przynieść spokój i rozładowanie napięć. Obfitość jedzenia i picia\, strzelanie i polowania – oto wypróbowane sposoby wyciszania sporów. Diana dobrze zna tę grę. W tym roku sprawy przybiorą jednak inny obrót… \nUdział w projekcji jest bezpłatny dla członków Klubu Seniora „Integracja”\, jednak ze względów organizacyjnych konieczne są zapisy. Jak zawsze możecie się zapisać u pani Elżbiety Gorgoń (tel. 502 765 302). \nSpencer – seniorzy w kinie to wyjście\, które odbędzie się w ramach realizacji zadania publicznego: „Działania na rzecz wrocławskich seniorów w latach 2020-2021 roku – Aktywny senior” współfinansowanego ze środków Gminy Wrocław (www.wroclaw.pl). \n \n 
URL:https://fonis.pl/wydarzenia/spencer-seniorzy-w-kinie/
LOCATION:Dolnośląskie Centrum Filmowe\, Piłsudskiego 64a\, Wrocław
ATTACH;FMTTYPE=image/jpeg:https://fonis.pl/wp-content/uploads/2021/11/SPENCER-plakat.jpg
END:VEVENT
END:VCALENDAR