BEGIN:VCALENDAR
VERSION:2.0
PRODID:-//Fundacja Fonis - ECPv6.15.18//NONSGML v1.0//EN
CALSCALE:GREGORIAN
METHOD:PUBLISH
X-WR-CALNAME:Fundacja Fonis
X-ORIGINAL-URL:https://fonis.pl
X-WR-CALDESC:Wydarzenia dla Fundacja Fonis
REFRESH-INTERVAL;VALUE=DURATION:PT1H
X-Robots-Tag:noindex
X-PUBLISHED-TTL:PT1H
BEGIN:VTIMEZONE
TZID:UTC
BEGIN:STANDARD
TZOFFSETFROM:+0000
TZOFFSETTO:+0000
TZNAME:UTC
DTSTART:20180101T000000
END:STANDARD
END:VTIMEZONE
BEGIN:VEVENT
DTSTART;TZID=UTC:20250917T163000
DTEND;TZID=UTC:20250917T180000
DTSTAMP:20260424T032251
CREATED:20250901T155607Z
LAST-MODIFIED:20250901T155607Z
UID:194578-1758126600-1758132000@fonis.pl
SUMMARY:Spotkanie przed pielgrzymką do Meksyku
DESCRIPTION:Spotkanie przed pielgrzymką do Meksyku. Jak informowaliśmy na początku roku Fundacja FONIS we współpracy z Duszpasterstwem Głuchoniemych i Niewidomych Archidiecezji Wrocławskiej organizuje pielgrzymkę do Meksyku. Zaplanowaliśmy ją na okres ferii szkolnych\, czyli na początek lutego 2026 roku. Zapisy poszły bardzo sprawnie i mamy już pełną listę. \nWszystkich\, którzy się zapisali zapraszamy na spotkanie przed pielgrzymką do Meksyku. Odbędzie się ono w środę 17 września 2025 roku w Centrum Duszpasterskim Archidiecezji Wrocławskiej przy ul. Katedralnej 4 o godzinie 16.30. \nNa spotkanie przybędą również przedstawiciele biura podróży Camino Travel\, z którym wyruszymy na lutową pielgrzymkę. Przedstawią oni informacje dotyczące podróżowania do Meksyku. Wielu z Was bowiem pyta o szczepienia\, warunki hotelowe\, dokumenty czy finanse związane z pobytem w Meksyku. Na te i wszystkie inne pytania odpowie pani Agnieszka\, którą już znamy z poprzednich wspólnie organizowanych wypraw. \nJeśli po spotkaniu ktoś będzie chciał zrezygnować\, będzie to można zrobić bez żadnych dodatkowych kosztów do końca września. Tych zaś\, którzy zdecydują się uczestniczyć w pielgrzymce poprosimy o wpłatę zaliczki w wysokości 3000zł. Resztę\, w kolejnych ratach\, będzie można wpłacić przelewem\, o czym również powiemy na środowym spotkaniu. \nJeśli ktoś nie będzie mógł przybyć na spotkanie 17 września\, niech zagląda na naszą stronę internetową. Tam bowiem po zakończeniu spotkania zamieścimy relację ze szczegółowymi informacjami na temat pielgrzymki.
URL:https://fonis.pl/wydarzenia/spotkanie-przed-pielgrzymka-do-meksyku/
ATTACH;FMTTYPE=image/jpeg:https://fonis.pl/wp-content/uploads/2025/04/Pielgrzymka-do-Meksyku.jpg
END:VEVENT
BEGIN:VEVENT
DTSTART;TZID=UTC:20190107T163000
DTEND;TZID=UTC:20190107T173000
DTSTAMP:20260424T032251
CREATED:20181211T125254Z
LAST-MODIFIED:20181211T125254Z
UID:8664-1546878600-1546882200@fonis.pl
SUMMARY:Spotkanie przed pielgrzymką do Izraela
DESCRIPTION:Spotkanie przed pielgrzymką do Izraela odbędzie się w poniedziałek 7 stycznia 2019 roku. Zapraszamy na godzinę 16.30 do budynku Centrum Duszpasterskiego Archidiecezji Wrocławskiej przy ul. Katedralnej 4\, do sali nr 15 na I piętrze. \nW spotkaniu wezmą udział przedstawiciele biura podróży Camino Travel\, którzy przedstawią szczegóły wyjazdu. Będzie też możliwość dopytania o różne sprawy. \n\nPonieważ warto się dobrze przygotować do wyjazdu przedstawiamy poniżej garść informacji przydatnych przede wszystkim tym\, którzy po raz pierwszy będą w Ziemi Świętej. \nInformacje_praktyczne_Izrael_01-08.02.2019 zawierają dane na temat ubezpieczenia\, paszportu\, linii lotniczych i bagażu\, elektryczności\, a także czasu w Izraelu. Są tam również informacje o walucie\, stroju\, kuchni\, kieszonkowym\, klimacie\, zabezpieczeniu medycznym oraz o dostępie do internetu. \nWarto podkreślić\, że nie będzie zbierana dodatkowa opłata 50 dolarów na napiwki\, mimo że taka informacja jest w załączniku. \nZapraszamy również do zapoznania się z informacjami dotyczącymi Ubezpieczenie podróży zagranicznych oraz Ogólne warunki uczestnictwa w imprezach turystycznych 2018-2019.
URL:https://fonis.pl/wydarzenia/spotkanie-przed-pielgrzymka-do-izraela/
LOCATION:Centrum Duszpasterskie Archidiecezji Wrocławskiej\, ul. Katedralna 4\, Wrocław\, Dolnośląskie\, 50-328\, Polska
ATTACH;FMTTYPE=image/jpeg:https://fonis.pl/wp-content/uploads/2018/08/Pielgrzymka-do-Ziemi-Świętej.jpeg
END:VEVENT
END:VCALENDAR