BEGIN:VCALENDAR
VERSION:2.0
PRODID:-//Fundacja Fonis - ECPv6.15.18//NONSGML v1.0//EN
CALSCALE:GREGORIAN
METHOD:PUBLISH
X-ORIGINAL-URL:https://fonis.pl
X-WR-CALDESC:Wydarzenia dla Fundacja Fonis
REFRESH-INTERVAL;VALUE=DURATION:PT1H
X-Robots-Tag:noindex
X-PUBLISHED-TTL:PT1H
BEGIN:VTIMEZONE
TZID:UTC
BEGIN:STANDARD
TZOFFSETFROM:+0000
TZOFFSETTO:+0000
TZNAME:UTC
DTSTART:20240101T000000
END:STANDARD
END:VTIMEZONE
BEGIN:VEVENT
DTSTART;TZID=UTC:20250218T173000
DTEND;TZID=UTC:20250218T200000
DTSTAMP:20260424T081525
CREATED:20241202T210433Z
LAST-MODIFIED:20241202T210433Z
UID:193950-1739899800-1739908800@fonis.pl
SUMMARY:Kurs PJM B1
DESCRIPTION:Kurs PJM B1. Od dobrych kilku lat w Fundacji FONIS prowadzimy kursy Polskiego Języka Migowego. W ostatnim czasie udało nam się wypracować autorski program. Realizując go głucha lektorka Alicja Bołdys szkoliła kursantów na poziomie podstawowym (A1 i A2). Ponieważ wielu z nich przejawiało zainteresowanie kontynuacją nauki i dopytywało o kurs na poziomie średnio zaawansowanym\, postanowiliśmy poszerzyć ofertę. A zatem z radością ogłaszamy\, że po długim czasie przygotowań\, rozpoczniemy szkolenie na poziomie B1. \nKurs PJM B1 rozpoczniemy we wtorek 18 lutego 2025 roku. Będzie on obejmował 90 godzin i potrwa do 10 czerwca 2025 roku. Zajęcia będą odbywać się w dni powszednie. Szkolić się będziemy we wtorki i w czwartki od godziny 17.30 do godziny 20.00. Koszt udziału w kursie to 1600zł . Liczba miejsc jest ograniczona. Zapisy trwają do 11 lutego 2025 roku lub do wyczerpania miejsc. Aby się zapisać należy wysłać wypełniony FORMULARZ-ZGLOSZENIOWY B1 na adres mailowy kontakt@fonis.pl wraz z potwierdzeniem kwalifikacji na poziomie A2. W zwrotnej odpowiedzi otrzymacie potwierdzenie wpisania na listę uczestników\, a także broszurę informacyjną organizatora szkolenia w postaci pliku cyfrowego. Będzie ona potrzebna tym\, którzy będą się starać o dofinansowanie z PFRON-u. Jako załącznik należy ją dołączyć do wniosku w serwisie https://portal-ipfronplus.pfron.org.pl/. \nHarmonogram zajęć:\nLUTY: 18\, 20\, 25\, 27 \nMARZEC: 4\, 6\, 11\, 13\, 18\, 20\, 25\, 27 \nKWIECIEŃ: 1\, 3\, 8\, 10\, 15\, 22\, 24 \nMAJ: 6\, 8\, 13\, 15\, 20\, 22\, 27\, 29 \nCZERWIEC: 3\, 5\, 10 \nWe wtorki i w czwartki będziemy spotykać się w Centrum Duszpasterskim Archidiecezji Wrocławskiej przy ulicy Katedralnej 4 (sala nr 2 na parterze). Każdego dnia zajęcia będą trwały trzy godziny lekcyjne. Te zaś będą przedzielone przerwami\, podczas których uczestnicy będą mogli skorzystać z serwisu kawowego. Zwieńczeniem kursu będzie egzamin końcowy\, po którym kursanci otrzymają dyplomy ukończenia kursu. Egzamin zaplanowaliśmy na czwartek 12 czerwca. \nZastrzegamy\, że jeśli nie zbierze się grupa\, kurs zostanie odwołany.
URL:https://fonis.pl/wydarzenia/kurs-pjm-b1/
ATTACH;FMTTYPE=image/jpeg:https://fonis.pl/wp-content/uploads/2023/11/Jak-komunikowac-sie-z-gluchymi1.jpg
END:VEVENT
END:VCALENDAR