BEGIN:VCALENDAR
VERSION:2.0
PRODID:-//Fundacja Fonis - ECPv6.15.18//NONSGML v1.0//EN
CALSCALE:GREGORIAN
METHOD:PUBLISH
X-WR-CALNAME:Fundacja Fonis
X-ORIGINAL-URL:https://fonis.pl
X-WR-CALDESC:Wydarzenia dla Fundacja Fonis
REFRESH-INTERVAL;VALUE=DURATION:PT1H
X-Robots-Tag:noindex
X-PUBLISHED-TTL:PT1H
BEGIN:VTIMEZONE
TZID:UTC
BEGIN:STANDARD
TZOFFSETFROM:+0000
TZOFFSETTO:+0000
TZNAME:UTC
DTSTART:20230101T000000
END:STANDARD
END:VTIMEZONE
BEGIN:VEVENT
DTSTART;TZID=UTC:20241129T170000
DTEND;TZID=UTC:20241129T180000
DTSTAMP:20260425T025459
CREATED:20241026T204319Z
LAST-MODIFIED:20241026T204319Z
UID:193803-1732899600-1732903200@fonis.pl
SUMMARY:Spotkanie wolontariuszy – listopad 2024
DESCRIPTION:Spotkanie wolontariuszy – listopad 2024. Uwaga ZMIANA! Listopadowe spotkanie wolontariuszy Fundacji FONIS odbędzie się w nie jak zawsze w czwarty piątek miesiąca\, a tydzień później. Listopad bowiem ma w tym roku aż pięć piątków. Spotkamy się więc w piąty piątek miesiąca 29 listopada 2024. Godzina zaś pozostaje bez zmian\, czyli 17.00. Spotykamy się też tradycyjnie w Centrum Duszpasterskim Archidiecezji Wrocławskiej przy ul. Katedralnej 4 w sali numer 15. \nListopadowe spotkanie w zasadzie w całości poświęcimy przygotowaniom do spotkania mikołajkowego dla dzieci\, które zaplanowaliśmy na niedzielę 8 grudnia 2024 roku. Będziemy potrzebowali Waszej pomocy! Nie ukrywamy\, że liczymy na wzorową obecność na spotkaniu. A po części roboczej zapraszamy na zabawę andrzejkową\, którą przygotuje dla nas wolontariuszka Edyta. \nPonieważ od września 2023 roku nieco przeorganizowaliśmy strukturę naszego wolontariatu\, na godzinę 16.45 zapraszamy osoby odpowiedzialne za poszczególne obszary działań wolontaryjnych. Przed ogólnym spotkaniem z wolontariuszami przygotujemy plan dla poszczególnych sekcji. \nSerdecznie zapraszamy więc na spotkanie wolontariuszy – listopad 2024 nie tylko naszych stałych bywalców. Będziemy się także cieszyć\, jeśli do naszego grona dołączą nowe osoby. Mile widziane są zarówno osoby znające język migowy\, jak i te\, które dopiero chcą nauczyć się komunikować z niesłyszącymi i słabosłyszącymi. Zawsze bowiem staramy się dostosować spotkanie do osób niesłyszących\, i do osób słyszących. A zatem do zobaczenia!
URL:https://fonis.pl/wydarzenia/spotkanie-wolontariuszy-listopad-2024/
ATTACH;FMTTYPE=image/jpeg:https://fonis.pl/wp-content/uploads/2023/06/Wolontariat-Fundacja-FONIS.jpg
END:VEVENT
BEGIN:VEVENT
DTSTART;TZID=UTC:20241129T180000
DTEND;TZID=UTC:20241129T210000
DTSTAMP:20260425T025459
CREATED:20241111T090337Z
LAST-MODIFIED:20241111T090337Z
UID:193840-1732903200-1732914000@fonis.pl
SUMMARY:Andrzejki 2024
DESCRIPTION:Andrzejki 2024. Fundacja FONIS zaprasza do wspólnej zabawy z okazji dnia św. Andrzeja. Adresatami naszego zaproszenia są wolontariusze Fundacji FONIS. Popularne andrzejki będą dla nas okazją do wspólnej zabawy i integracji. Odbędą się w piątek 29 listopada po spotkaniu wolontariuszy w budynku Centrum Duszpasterskiego Archidiecezji Wrocławskiej przy ul. Katedralnej 4 (sala nr 15 na I piętrze). Początek wydarzenia zaplanowaliśmy na godzinę 18. Koniec… to się okaże 🙂 \nOdpowiedzialna za organizację zabawy jest Edyta Żmuda. To ona do 22 listopada przyjmuje zgłoszenia uczestników. Uczestnicy wpłacają Edycie po 20 zł\, dzięki czemu podczas wydarzenia będzie coś dobrego do zjedzenia i do picia. Organizatorka – podobnie jak przed rokiem – zadba również o zorganizowanie zabaw i konkursów. \n  \nŚwięty Andrzej pochodził z Betsaidy nad Jeziorem Galilejskim (por. J 1\, 44)\, ale mieszkał ze św. Piotrem\, swoim starszym bratem i jego teściową w Kafarnaum (por. Mk 1\, 21. 29-30). Był – jak Piotr – rybakiem. Początkowo był uczniem Jana Chrzciciela. Pod jego wpływem poszedł za Chrystusem\, gdy Ten przyjmował chrzest w Jordanie. Andrzej był pierwszym uczniem powołanym przez Jezusa na Apostoła.\nOrygenes (+ 254) wyraża opinię\, że św. Andrzej pracował w Scytii\, w kraju leżącym pomiędzy Dunajem a Donem. Byłby to zatem Apostoł Słowian\, których tu właśnie miały być pierwotne siedziby. Według św. Hieronima (+ 421) św. Andrzej miał także pracować w Poncie\, w Kapadocji i w Bitynii\, skąd udał się do Achai. Ten sam pogląd podziela Teodoret (+ 458)\, który twierdzi\, że św. Andrzej przeszedł ze Scytii do Tracji i Epiru\, aby zakończyć życie śmiercią męczeńską w Achai. Wszystkie źródła są zgodne\, że św. Andrzej zakończył swoje apostolskie życie śmiercią męczeńską w Patras w Achai\, na drzewie krzyża. Patras leży na Peloponezie przy ujściu Zatoki Korynckiej. \nKult św. Andrzeja był zawsze w Kościele bardzo żywy. Liturgia bizantyjska określa św. Andrzeja przydomkiem Protokleros\, to znaczy “pierwszy powołany”\, gdyż obok św. Jana jako pierwszy został przez Chrystusa wezwany na Apostoła. Achaja chlubi się przekonaniem\, że jej pierwszym metropolitą był św. Andrzej. Dla prawosławnych św. Andrzej jest jednym z najważniejszych świętych\, nazywają go Apostołem Słowian. Według ich tradycji św. Andrzej dotarł nad Dniepr i Don i jest założycielem Kijowa. \nW 356 roku relikwie św. Andrzeja przewieziono z Patras do Konstantynopola i umieszczono je w kościele Apostołów. Krzyżowcy\, którzy w czasie czwartej wyprawy krzyżowej w 1202 r. zdobyli Konstantynopol\, zabrali relikwie i umieścili w Amalfi w pobliżu Neapolu. Głowę św. Andrzeja papież Pius II w XV w. kazał przewieźć do Rzymu\, do bazyliki św. Piotra – uważając\, że skoro wspólna chwała połączyła obu braci\, ta sama chwała powinna połączyć także ich ciała. \nDużą czcią cieszył się św. Andrzej również w Polsce. Istniał u nas zwyczaj wróżb andrzejkowych. W wigilię św. Andrzeja dziewczęta lały roztopiony wosk przez ucho klucza na wodę i zgadywały z figur\, jakie się tworzą\, która z nich jako pierwsza będzie miała wesele i jak będzie wyglądał wybranek. \nźródło: www.brewiarz.pl
URL:https://fonis.pl/wydarzenia/andrzejki-2024/
ATTACH;FMTTYPE=image/jpeg:https://fonis.pl/wp-content/uploads/2023/11/Andrzejki-2023.jpg
END:VEVENT
END:VCALENDAR