BEGIN:VCALENDAR
VERSION:2.0
PRODID:-//Fundacja Fonis - ECPv6.15.18//NONSGML v1.0//EN
CALSCALE:GREGORIAN
METHOD:PUBLISH
X-WR-CALNAME:Fundacja Fonis
X-ORIGINAL-URL:https://fonis.pl
X-WR-CALDESC:Wydarzenia dla Fundacja Fonis
REFRESH-INTERVAL;VALUE=DURATION:PT1H
X-Robots-Tag:noindex
X-PUBLISHED-TTL:PT1H
BEGIN:VTIMEZONE
TZID:UTC
BEGIN:STANDARD
TZOFFSETFROM:+0000
TZOFFSETTO:+0000
TZNAME:UTC
DTSTART:20230101T000000
END:STANDARD
END:VTIMEZONE
BEGIN:VEVENT
DTSTART;TZID=UTC:20241024T100000
DTEND;TZID=UTC:20241024T133000
DTSTAMP:20260425T021643
CREATED:20240924T201135Z
LAST-MODIFIED:20240924T201135Z
UID:193665-1729764000-1729776600@fonis.pl
SUMMARY:Warsztaty malarskie dla seniorów
DESCRIPTION:Warsztaty malarskie dla seniorów. Kolejną jesienną propozycją dla niesłyszących i słabosłyszących członków Klubu Seniora „Integracja” są warsztaty malarskie. Zajęcia odbędą się w czwartek 24 października 2024 roku w zaprzyjaźnionej z Fundacją FONIS Pracowni Ceramiki w podwrocławskim Domaszczynie. Zajęcia potrwają 1\,5 godziny. Rozpoczniemy je o godz. 11.00\, natomiast zakończymy o godz. 12.30. Wyjeżdżamy z Wrocławia o godz. 10.00\, wracamy zaś ok. godz. 13.30. Uczestnicy zbiorą się na Ostrowie Tumskim przy ul. św. Marcina\, aby wspólnie pojechać do Domaszczyna na zajęcia warsztatowe. Ze względów organizacyjnych konieczne są zapisy. Grupa warsztatowa może liczyć maksymalnie 14 osób. Zapisać można się u p. Elżbiety Gorgoń – opiekuna Klubu Seniora „Integracja”. \nPlener malarski pod hasłem „W rytmie pór roku” pozwoli uczestnikom zapoznać się z techniką malowania farbami akwarelowymi i akrylowymi. Ponadto uczestnicy nauczą się podstawowych zasad tworzenia obrazów takich jak dobieranie odpowiednich farb i pędzli\, malowanie od ogółu do szczegółu\, zachowanie proporcji\, a także perspektywy. Efektem zaś będą piękne prace wykonane na podobraziu malarskim. \nZajęcia poprowadzi znana już dobrze naszym seniorom pani Marta Lejman-Trzcińska. Jest arteterapeutką i ceramiczką\, absolwentką Akademii Sztuk Pięknych we Wrocławiu. Ma wieloletnie doświadczenie w pracy twórczej nie tylko z dziećmi i dorosłymi\, ale również z osobami niepełnosprawnymi. \nWarsztaty malarskie dla seniorów odbędą się w ramach realizacji zadania publicznego: „Działania na rzecz wrocławskich seniorów w 2024 roku – Aktywny senior” współfinansowanego ze środków Gminy Wrocław (www.wroclaw.pl).
URL:https://fonis.pl/wydarzenia/warsztaty-malarskie-dla-seniorow/
ATTACH;FMTTYPE=image/jpeg:https://fonis.pl/wp-content/uploads/2024/09/Warsztaty-malarskie-dla-seniorow.jpg
END:VEVENT
BEGIN:VEVENT
DTSTART;TZID=UTC:20241025T114500
DTEND;TZID=UTC:20241025T133000
DTSTAMP:20260425T021643
CREATED:20241018T121209Z
LAST-MODIFIED:20241018T125501Z
UID:193751-1729856700-1729863000@fonis.pl
SUMMARY:Wyjście seniorów do Muzeum Archidiecezjalnego
DESCRIPTION:Wyjście seniorów do Muzeum Archidiecezjalnego. We wrześniu z powodu zagrożenia powodziowego musieliśmy odwołać zwiedzanie wrocławskiego Muzeum Etnograficznego. Dlatego też w piątek 25 października ponownie zaprosimy niesłyszących i słabosłyszących członków Klubu Seniora „Integracja” do muzeum\, tyle że tym razem do Muzeum Archidiecezjalnego. Znajduje się ono na Ostrowie Tumskim\, więc przed zwiedzaniem spotkamy się o godzinie 11.45 „pod 4” i stąd wspólnie pójdziemy na Plac Katedralny 16. Zwiedzanie rozpoczniemy o godzinie 12.00 i potrwa ono około półtorej godziny. Koniec więc przewidujemy na godzinę 13.30. \nWrocławskie muzeum to jedno z najstarszych muzeów archidiecezjalnych w Polsce. Obecnie znajduje się tu około pół tysiąca książek oraz około sześć tysięcy zabytków\, w tym wyjątkowo bogate zbiory sztuki gotyckiej. Choć eksponaty nie są zbiorem systematycznie gromadzonym\, to reprezentują one religijną sztukę regionu w różnych jej aspektach. Oprócz stałych i czasowych wystaw Muzeum Archidiecezjalne organizuje koncerty\, wykłady\, programy radiowo-telewizyjne\, a także uroczystości kościelne. \nUdział w zwiedzaniu muzeum jest bezpłatny\, ale ze względów organizacyjnych obowiązują zapisy. Aby uczestniczyć w wycieczce\, należy zapisać się u p. Elżbiety Gorgoń (tel. 502 765 302). Nie musimy oczywiście dodawać\, że zapewnimy obecność tłumacza języka migowego. \nWyjście seniorów do Muzeum Archidiecezjalnego Fundacja FONIS zorganizuje w ramach realizacji zadania publicznego: „Działania na rzecz wrocławskich seniorów w 2024 roku – Aktywny senior” współfinansowanego ze środków Gminy Wrocław (www.wroclaw.pl).
URL:https://fonis.pl/wydarzenia/wyjscie-seniorow-do-muzeum-archidiecezjalnego/
ATTACH;FMTTYPE=image/jpeg:https://fonis.pl/wp-content/uploads/2024/10/Wyjscie-seniorow-do-Muzeum-Archidiecezjalnego.jpg
END:VEVENT
END:VCALENDAR