BEGIN:VCALENDAR
VERSION:2.0
PRODID:-//Fundacja Fonis - ECPv6.15.18//NONSGML v1.0//EN
CALSCALE:GREGORIAN
METHOD:PUBLISH
X-WR-CALNAME:Fundacja Fonis
X-ORIGINAL-URL:https://fonis.pl
X-WR-CALDESC:Wydarzenia dla Fundacja Fonis
REFRESH-INTERVAL;VALUE=DURATION:PT1H
X-Robots-Tag:noindex
X-PUBLISHED-TTL:PT1H
BEGIN:VTIMEZONE
TZID:UTC
BEGIN:STANDARD
TZOFFSETFROM:+0000
TZOFFSETTO:+0000
TZNAME:UTC
DTSTART:20230101T000000
END:STANDARD
END:VTIMEZONE
BEGIN:VEVENT
DTSTART;TZID=UTC:20240911T100000
DTEND;TZID=UTC:20240911T110000
DTSTAMP:20260425T040150
CREATED:20240831T183127Z
LAST-MODIFIED:20240831T183127Z
UID:193593-1726048800-1726052400@fonis.pl
SUMMARY:Rejs statkiem
DESCRIPTION:Tradycją w Klubie Seniora „Integracja” stało się już\, że w zasadzie co roku wybieramy się na rejs statkiem po wrocławskiej rzece Odrze. Zapraszamy więc po raz kolejny członków naszego Klubu na taki właśnie rejs. Wycieczka odbędzie się w środę 11 września 2024 roku. \nPopłyniemy z Przystani Kardynalskiej na Ostrowie Tumskim. Rejs potrwa około jednej godziny\, a rozpocznie się o godzinie 10.00 lub kilkanaście minut później. I tak jak zawsze konieczne są zapisy. Zapisać można się u p. Elżbiety Gorgoń (tel. 502 765 302) do dnia 10 września 2024. \nSeniorzy spotkają się o godz. 9.30 „pod 4” i razem przejdą na Przystań Kardynalską\, aby wyruszyć w rejs statkiem po Odrze. Prosimy również o zabranie ze sobą legitymacji osoby niepełnosprawnej. \nDla niewtajemniczonych dodajmy\, że Przystań Kardynalska znajduje się przy Bulwarze Włostowica na Wyspie Piaskowej na Ostrowie Tumskim. Deptak spacerowy został zbudowany i otwarty dla zwiedzających w 1998 roku. Na przystani również znajduje się tabliczka upamiętniająca wysokość wody i datę powodzi z 1997 roku. Ze względu na położenie\, przystań nazwano „Przystanią Kardynalską”. Natomiast od 2016 roku przystań ta została przystosowana dla osób niepełnosprawnych! \nA zatem serdecznie zapraszamy!   \nRejs statkiem odbędzie się w ramach realizacji zadania publicznego: „Działania na rzecz wrocławskich seniorów w 2024 roku – Aktywny senior” współfinansowanego ze środków Gminy Wrocław (www.wroclaw.pl).
URL:https://fonis.pl/wydarzenia/rejs-statkiem/
ATTACH;FMTTYPE=image/jpeg:https://fonis.pl/wp-content/uploads/2023/08/Rejs-z-tecza-na-niebie1.jpg
END:VEVENT
BEGIN:VEVENT
DTSTART;TZID=UTC:20240918T110000
DTEND;TZID=UTC:20240918T120000
DTSTAMP:20260425T040150
CREATED:20240911T115702Z
LAST-MODIFIED:20240917T152046Z
UID:193621-1726657200-1726660800@fonis.pl
SUMMARY:Wyjście do Muzeum Etnograficznego
DESCRIPTION:Wyjście do Muzeum Etnograficznego odwołane z powodu stanu zagrożenia powodziowego. \nJedną z trzech wrześniowych propozycji Fundacji FONIS dla niesłyszących i słabosłyszących członków Klubu Seniora „Integracja” jest wyjście do muzeum. W środę 18 września 2024 roku zabierzemy seniorów na wystawę „Dolnoślązacy. Pamięć\, kultura\, tożsamość” prezentowaną w jednym z oddziałów wrocławskiego Muzeum Narodowego\, czyli w Muzeum Etnograficznym przy ul. R. Traugutta 111-113. Zwiedzanie rozpoczniemy o godzinie 11.00. \nWystawa stała „Dolnoślązacy. Pamięć\, kultura\, tożsamość” składa się z dwóch części. Pierwsza poświęcona jest kulturze i historii ludności\, która zamieszkiwała tereny Dolnego Śląska przed 1945 rokiem. Druga część natomiast pokazuje powojenne losy osadników\, którzy przybyli na nasze tereny z różnych stron. \nNa ekspozycji zestawiono więc dwa wizerunki tutejszej kultury ludowej. Pierwsza z nich to w miarę stabilna\, choć niejednorodna\, dziewiętnastowieczna oraz druga\, ta z pierwszych lat powojennych. Stanowi ona swoistą mozaikę – nakładających się na tamtą – tradycji różnorodnych grup osadniczych. \nUdział w zwiedzaniu wystawy jest bezpłatny\, ale ze względów organizacyjnych obowiązują zapisy. Na wystawę możemy zabrać grupę 25 osób. Aby uczestniczyć w wycieczce\, należy zapisać się u p. Elżbiety Gorgoń (tel. 502 765 302). Nie musimy oczywiście dodawać\, że zapewnimy obecność tłumacza języka migowego. \nWyjście do Muzeum Etnograficznego organizujemy w ramach realizacji zadania publicznego: „Działania na rzecz wrocławskich seniorów w 2024 roku – Aktywny senior” współfinansowanego ze środków Gminy Wrocław (www.wroclaw.pl).
URL:https://fonis.pl/wydarzenia/wyjscie-do-muzeum-etnograficznego/
ATTACH;FMTTYPE=image/jpeg:https://fonis.pl/wp-content/uploads/2024/09/Wyjscie-do-Muzeum-Etnograficznego.jpg
END:VEVENT
BEGIN:VEVENT
DTSTART;TZID=UTC:20240921T100000
DTEND;TZID=UTC:20240921T120000
DTSTAMP:20260425T040150
CREATED:20240831T183757Z
LAST-MODIFIED:20240831T183757Z
UID:193595-1726912800-1726920000@fonis.pl
SUMMARY:Warsztaty florystyczne dla seniorów
DESCRIPTION:Warsztaty florystyczne dla seniorów. Ostatnią wrześniową propozycją wydarzeń dla niesłyszących i słabosłyszących członków Klubu Seniora „Integracja” są warsztaty florystyczne. Zajęcia odbędą się w sobotę 21 września 2024 roku w sali nr 15 w  Centrum Duszpasterskim Archidiecezji Wrocławskiej przy ul. Katedralnej 4\, czyli „pod 4”. Warsztaty rozpoczną się o godzinie 10.00 i potrwają około 2 godzin. Zakończymy je więc około godziny 12.00. W czasie spotkania nasi niesłyszący i słabosłyszący seniorzy samodzielnie wykonają kompozycje florystyczno-dekoracyjne. A ponieważ będzie to czas wielkimi krokami zbliżającej się jesieni\, kompozycje będą miały taki właśnie charakter. W naszych dekoracjach pojawią się zatem dynie\, jarzębina\, kolorowe liście\, a także szyszki\, trawy i inne oznaki jesieni. \nUczestnictwo w warsztatach jest bezpłatne\, ale ogranicza nas limit miejsc. Łącznie w warsztatach może wziąć udział 15 osób. Dlatego też\, ze względów organizacyjnych\, konieczne są zapisy. Prowadzi je pani Elżbieta Gorgoń (tel. 502 765 302)\, która otacza opieką seniorów z naszego Klubu. Jest także tłumaczem języka migowego w czasie zajęć. Natomiast warsztaty florystyczne z jesienią w tle poprowadzi pani Małgosia\, która od kilku już lat działa w branży dekoratorskiej. \nWarsztaty florystyczne dla seniorów odbędą się w ramach realizacji zadania publicznego: „Działania na rzecz wrocławskich seniorów w 2024 roku – Aktywny senior” współfinansowanego ze środków Gminy Wrocław (www.wroclaw.pl).
URL:https://fonis.pl/wydarzenia/warsztaty-florystyczne-dla-seniorow/
ATTACH;FMTTYPE=image/jpeg:https://fonis.pl/wp-content/uploads/2024/08/Warsztaty-florystyczne-dla-seniorow-e1725129318118.jpeg
END:VEVENT
END:VCALENDAR