BEGIN:VCALENDAR
VERSION:2.0
PRODID:-//Fundacja Fonis - ECPv6.15.20//NONSGML v1.0//EN
CALSCALE:GREGORIAN
METHOD:PUBLISH
X-ORIGINAL-URL:https://fonis.pl
X-WR-CALDESC:Wydarzenia dla Fundacja Fonis
REFRESH-INTERVAL;VALUE=DURATION:PT1H
X-Robots-Tag:noindex
X-PUBLISHED-TTL:PT1H
BEGIN:VTIMEZONE
TZID:UTC
BEGIN:STANDARD
TZOFFSETFROM:+0000
TZOFFSETTO:+0000
TZNAME:UTC
DTSTART:20230101T000000
END:STANDARD
END:VTIMEZONE
BEGIN:VEVENT
DTSTART;TZID=UTC:20240412T120000
DTEND;TZID=UTC:20240412T133000
DTSTAMP:20260425T113726
CREATED:20240403T140044Z
LAST-MODIFIED:20240408T052014Z
UID:193200-1712923200-1712928600@fonis.pl
SUMMARY:Wyjście seniorów na Uniwersytet Wrocławski
DESCRIPTION:Wyjście seniorów na Uniwersytet Wrocławski. W piątek 12 kwietnia 2024 roku Fundacja FONIS serdecznie zaprasza niesłyszących i słabosłyszących członków Klubu Seniora „Integracja” na zwiedzanie Uniwersytetu Wrocławskiego. Spotkamy się o godzinie 12.00 na placu Uniwersyteckim 1\, czyli pod słynną fontanną z Szermierzem. Stąd rozpoczniemy zwiedzanie Uniwersytetu\, które potrwa około półtorej godziny. Okazuje się bowiem\, że wcale nie trzeba studiować ani prowadzić badań naukowych\, aby poznać uczelnię od środka i poczuć jej atmosferę. Nobliwą i poważną\, ale również przesyconą radosną pasją nauki i zdobywania wiedzy. \nW czasie wycieczki zobaczymy i poznamy historię nie tylko Auli Leopoldina – największej i najbardziej reprezentacyjnej część głównego gmachu Uniwersytetu Wrocławskiego. Będziemy także w Oratorium Marianum\, ale i na Wieży Matematycznej i w wybranych salach wystawowych. Być może zajrzymy też do kościoła uniwersyteckiego. Jest nim przepiękny barokowy kościół pw. Najświętszego Imienia Jezus. \nPo zakątkach wrocławskiej uczelni oprowadzi seniorów nasza wolontariuszka Agata. My oczywiście zapewnimy tłumaczenie treści na język migowy. \nUdział w wyjściu jest bezpłatny\, ale ze względów organizacyjnych prosimy\, aby osoby chętne zapisały się u p. Elżbiety Gorgoń (tel. 502 765 302). Zapisy trwają do środy 10 kwietnia 2024 roku. \n  \nWyjście seniorów na Uniwersytet Wrocławski odbędzie się w ramach realizacji zadania publicznego: „Działania na rzecz wrocławskich seniorów w 2024 roku – Aktywny senior” współfinansowanego ze środków Gminy Wrocław (www.wroclaw.pl).
URL:https://fonis.pl/wydarzenia/wyjscie-seniorow-na-uniwersytet-wroclawski/
ATTACH;FMTTYPE=image/jpeg:https://fonis.pl/wp-content/uploads/2024/04/Uniwersytet-Wroclawski.jpg
END:VEVENT
BEGIN:VEVENT
DTSTART;TZID=UTC:20240418T133000
DTEND;TZID=UTC:20240418T150000
DTSTAMP:20260425T113726
CREATED:20240325T145637Z
LAST-MODIFIED:20240408T051918Z
UID:193194-1713447000-1713452400@fonis.pl
SUMMARY:Spotkanie edukacyjne dla seniorów
DESCRIPTION:Spotkanie edukacyjne dla seniorów. W czwartek 18 kwietnia 2024 roku zapraszamy niesłyszących i słabosłyszących członków Klubu Seniora „Integracja” na spotkanie edukacyjne. Wspólnie wybierzemy się do Centrum Interwencji Kryzysowej KARAN. Znajduje się ono na wrocławskim Przedmieściu Oławskim przy ul. gen. Romualda Traugutta 119. Zajęcia rozpoczną się o godzinie 13.30\, skończą natomiast półtorej godziny później\, czyli około godziny 15.00. \nW czasie spotkania nasi seniorzy będą mieli okazję pogłębić swoją wiedzę z zakresu profilaktyki uzależnień w wieku senioralnym od alkoholu i substancji psychoaktywnych. Poznają również zasady funkcjonowania placówki\, w której można otrzymać pomoc. Tematem spotkania bowiem będą sposoby wsparcia i pomoc dla seniorów w sytuacji kryzysu spowodowanego uzależnieniem. Dodajmy jeszcze\, że mówić będziemy i o sytuacji uzależnienia seniora\, i członka jego rodziny. \nWarsztaty edukacyjne poprowadzi specjalista do spraw uzależnień w wieku senioralnym z wieloletnim doświadczeniem pracy w placówkach Stowarzyszenia KARAN. Zajmuje się między innymi diagnozą oraz terapią indywidualną i grupową osób z problemem uzależnienia. Prowadzi także spotkania motywacyjno-informacyjne dla osób eksperymentujących\, uzależnionych od substancji psychoaktywnych oraz ich bliskich i rodzin. \nUdział w wydarzeniu jest bezpłatny\, ale ze względów organizacyjnych konieczne są zapisy. Aby się zapisać\, kontaktujcie się z panią Elżbietą Goroń (nr tel. 502 765 302). Zapraszamy serdecznie! \nSpotkanie edukacyjne dla seniorów odbędzie się w ramach zadania publicznego „Działania na rzecz wrocławskich seniorów w 2024 roku – Aktywny senior” współfinansowanego ze środków Gminy Wrocław (www.wroclaw.pl).
URL:https://fonis.pl/wydarzenia/spotkanie-edukacyjne-dla-seniorow/
ATTACH;FMTTYPE=image/jpeg:https://fonis.pl/wp-content/uploads/2023/01/Otylosc-i-niedozywienie-–-przyczyny-i-skutki1.jpg
END:VEVENT
END:VCALENDAR