BEGIN:VCALENDAR
VERSION:2.0
PRODID:-//Fundacja Fonis - ECPv6.15.20//NONSGML v1.0//EN
CALSCALE:GREGORIAN
METHOD:PUBLISH
X-WR-CALNAME:Fundacja Fonis
X-ORIGINAL-URL:https://fonis.pl
X-WR-CALDESC:Wydarzenia dla Fundacja Fonis
REFRESH-INTERVAL;VALUE=DURATION:PT1H
X-Robots-Tag:noindex
X-PUBLISHED-TTL:PT1H
BEGIN:VTIMEZONE
TZID:UTC
BEGIN:STANDARD
TZOFFSETFROM:+0000
TZOFFSETTO:+0000
TZNAME:UTC
DTSTART:20220101T000000
END:STANDARD
END:VTIMEZONE
BEGIN:VEVENT
DTSTART;TZID=UTC:20230623T120000
DTEND;TZID=UTC:20230623T140000
DTSTAMP:20260426T031823
CREATED:20230611T174511Z
LAST-MODIFIED:20230611T174511Z
UID:192409-1687521600-1687528800@fonis.pl
SUMMARY:Warsztaty cyjanotypii dla seniorów
DESCRIPTION:Jeszcze przed lipcową przerwą wakacyjną zapraszamy niesłyszących i słabosłyszących członków Klubu Seniora „Integracja” na warsztaty cyjanotypii. To kolejne już zajęcia przybliżające naszym seniorom tajemnice nietypowej fotografii. Warsztaty odbędą się w piątek 23 czerwca w Muzeum Pana Tadeusza na wrocławskim Rynku (Kamienica Pod Złotym Słońcem\, Rynek 6). Rozpoczną się o godzinie 12.00 i potrwają około 2 godzin. Uczestnicy natomiast spotkają się o godz. 11.50 przy wejściu do Muzeum. \nCo to jest cyjanotypia? Cyjanotypia to technika fotograficzna wykorzystująca światłoczułość soli żelaza. Charakteryzuje się monochromatycznym obrazem w kolorze niebieskim\, tworzonym przez błękit pruski. W czasie warsztatów uczestnicy dowiedzą się\, czy można robić zdjęcia bez użycia aparatu fotograficznego oraz co to znaczy światłoczuły. Dowiedzą się także\, czy można rysować światłem. A zatem wszystkich chętnych seniorów zapraszamy na przygodę z fotografią! Na zajęciach wykonamy fotogramy i zobaczymy\, jak wygląda świat w błękitnych barwach. Podczas warsztatów uczestnicy zwiedzą również fragment ekspozycji Muzeum. \nUdział w warsztatach jest bezpłatny\, ale ze względów organizacyjnych konieczne są zapisy. Prowadzi je p. Elżbieta Gorgoń (tel. 502 765 302) do dnia 22 czerwca 2023 roku. \nWarsztaty cyjanotypii dla seniorów to propozycja Fundacji FONIS w ramach realizacji zadania publicznego: „Działania na rzecz wrocławskich seniorów w latach 2022-2023 – Aktywny senior” współfinansowanego ze środków Gminy Wrocław (www.wroclaw.pl).
URL:https://fonis.pl/wydarzenia/warsztaty-cyjanotypii-dla-seniorow/
ATTACH;FMTTYPE=image/jpeg:https://fonis.pl/wp-content/uploads/2023/06/Warsztaty-cyjanotypii-dla-seniorow.jpg
END:VEVENT
BEGIN:VEVENT
DTSTART;TZID=UTC:20230627T143000
DTEND;TZID=UTC:20230627T160000
DTSTAMP:20260426T031823
CREATED:20230622T180714Z
LAST-MODIFIED:20230622T180714Z
UID:192429-1687876200-1687881600@fonis.pl
SUMMARY:Niezwykły seans w kinie
DESCRIPTION:Fundacja FONIS zaprasza serdecznie na ostatnie przed wakacyjną przerwą wydarzenie dla niesłyszących i słabosłyszących członków Klubu Seniora „Integracja”. Będzie to niezwykły seans w kinie. Wycieczka do kina odbędzie się we wtorek 27 czerwca 2023 roku. Obejrzymy film pt. „Niezwykła wędrówka Harolda Fry” (oczywiście film posiada napisy w języku polskim). Tym razem wybraliśmy Kino Nowe Horyzonty\, które znajduje się przy ul. Kazimierza Wielkiego 19a-21 we Wrocławiu. Spotykamy się w kinie o godzinie 14.30. Projekcja rozpocznie się o 14.45 i potrwa nieco ponad 100 minut. Spotkanie zakończymy więc około godziny 16.30. \nFilm „Niezwykła wędrówka Harolda Fry” to opowieść o pieszej wyprawie tytułowego Harolda do kobiety\, która kiedyś go uratowała. A przecież Harold nigdy nie robił niespodzianek. Ostatnio nawet nie wychodził z domu. Teraz idzie bez mapy\, bez telefonu\, w coraz bardziej znoszonych żeglarskich butach. Jak zakończy się ta wędrówka? Ciekawych zakończenia tej historii zapraszamy do kina. A zatem zapraszamy! \nUdział w wycieczce jest bezpłatny\, ale ze względów organizacyjnych konieczne są zapisy. Prowadzi je p. Elżbieta Gorgoń (tel. 502 765 302) do poniedziałku 26 czerwca 2023 roku. \nNiezwykły seans w kinie to propozycja Fundacji FONIS w ramach realizacji zadania publicznego: „Działania na rzecz wrocławskich seniorów w latach 2022-2023 – Aktywny senior” współfinansowanego ze środków Gminy Wrocław (www.wroclaw.pl). \n 
URL:https://fonis.pl/wydarzenia/niezwykly-seans-w-kinie/
ATTACH;FMTTYPE=image/jpeg:https://fonis.pl/wp-content/uploads/2023/06/plak1at_NIEZWYKLA_WEDROWKA_HAROLDA_FRY_plakat.jpg_x_standa.jpg
END:VEVENT
END:VCALENDAR